{"text_format":"1","workbook":"xlsx","n_sheets":15,"sheets":["index","Home - Regional Forms","Cat.658 Rev. 0420","Cat.658-1-534 Rev. 0420","Cat.658-1-614 Rev. 0420","Cat.658-1-734 Rev. 0420","Cat.658-1-814 Rev. 0420","Cat.658-24 Rev. 0420","Cat.658-4 Rev. 0420","Cat.658-4-814 Rev. 0420","Cat.658-7-68-Rev. 0420","Cat.658-7-70-Rev. 0420","Cat.658-7-80-Rev. 0420","Cat.658-8-Rev. 0420","Cat.658-9-Rev. 0420"],"not_rendered":{"charts":0,"images":15,"macros":1,"external_links":0,"defined_names":49,"comments":12,"pivot_tables":0},"unopened":[],"bounds":{"document_bytes":16777216,"sheet_cells":100000,"rows_first":2000,"rows_last":500,"rows_between":2000,"halvings":0,"cell_chars":16384,"cell_head_chars":4096},"cells_cut":0,"cells_raw":0,"read":"whole","date_system":"1900"}

{"sheet":"index","index":0,"n_rows":28,"n_cols":19,"rows_kept":28,"cut":false,"hidden":true,"merged":[]}
[{"$f":"INDEX(sheetlist,ROW())","v":" index"}]
[{"$f":"INDEX(sheetlist,ROW())","v":" Home - Regional Forms"}]
[" Cat.658 Rev. 0420",null,null,null,null,"tab name (original)","new name",null,"Tab summary",null,null,null,"button title","button link",null,"Quanity formula",null,null,"print code"]
[" Cat.658-1-534 Rev. 0420",null,null,null,null,null,null,null,null,null,null,null,null,null,null,null,null,null,"print ALL"]
[" Cat.658-1-614 Rev. 0420",null,null,null,null," Sheet1",{"$f":"A1","v":" index"},null,"Index"]
[" Cat.658-1-734 Rev. 0420",null,null,null,null," Home - Regional Forms",{"$f":"A2","v":" Home - Regional Forms"}]
[" Cat.658-1-814 Rev. 0420",null,null,null,null," Cat.658 Rev. 0615"," Cat.658 Rev. 0420",{"$f":"RIGHT(LEFT(F7,11),2)","v":"Re"},null,null,null,null,null,null,null,null,null,null,"Sub Button51_Click()"]
[" Cat.658-24 Rev. 0420",null,null,null,null," Cat.658-1-Rev. 0817"," Cat.658-1-534 Rev. 0420",{"$f":"RIGHT(LEFT(F8,11),2)","v":"1-"},{"$f":"#REF!","v":{"$error":"#REF!"}},{"$f":"#REF!","v":{"$error":"#REF!"}},null,null,null,null,null,-1,null,null,"Sub print_658_1()"]
[" Cat.658-4 Rev. 0420",null,null,null,null," Cat.658-4-Rev. 0817"," Cat.658-1-614 Rev. 0420","4-",{"$f":"#REF!","v":{"$error":"#REF!"}},{"$f":"#REF!","v":{"$error":"#REF!"}},null,null,null,null,null,-4,null,null,"Button21_Click()"]
[" Cat.658-4-814 Rev. 0420",null,null,null,null," Cat.658-7-68-Rev. 0519"," Cat.658-1-734 Rev. 0420",{"$f":"RIGHT(LEFT(F10,14),5)","v":"7-68-"},{"$f":"'Cat.658-7-68-Rev. 0420'!$A$2","v":"L-18 SERIES"},{"$f":"'Cat.658-7-68-Rev. 0420'!$A$3","v":"6'8\" FLUSH DOORS"},null,null,null,null,null,"-7-68",null,null,"print_658_7_68()"]
[" Cat.658-7-68-Rev. 0420",null,null,null,null," Cat.658-7-70-Rev. 0519"," Cat.658-1-814 Rev. 0420",{"$f":"RIGHT(LEFT(F11,14),5)","v":"7-70-"},{"$f":"'Cat.658-7-70-Rev. 0420'!$A$2","v":"L-18 and L-16 SERIES"},{"$f":"'Cat.658-7-70-Rev. 0420'!$A$3","v":"7'0\" FLUSH DOORS"},null,null,null,null,null,"-7-70",null,null,"Sub print658_7_70()"]
[" Cat.658-7-70-Rev. 0420",null,null,null,null," Cat.658-7-80-Rev. 0519"," Cat.658-24 Rev. 0420","7-80-",{"$f":"'Cat.658-7-80-Rev. 0420'!$A$2","v":"L-18 SERIES"},{"$f":"'Cat.658-7-80-Rev. 0420'!$A$3","v":"8'0\" FLUSH DOORS"},null,null,null,null,null,"-7-80",null,null,"print658_7_80()"]
[" Cat.658-7-80-Rev. 0420",null,null,null,null," Cat.658-8-Rev. 0817"," Cat.658-4 Rev. 0420","8-",{"$f":"'Cat.658-8-Rev. 0420'!$A$2","v":"SL -  SERIES"},{"$f":"'Cat.658-8-Rev. 0420'!$A$3","v":"DOORS"},null,null,null,null,null,-8,null,null,"Button23_Click()"]
[" Cat.658-8-Rev. 0420",null,null,null,null," Cat.658-9-Rev. 0519"," Cat.658-4-814 Rev. 0420","9-",{"$f":"'Cat.658-9-Rev. 0420'!$A$2","v":"SZ18 -  SERIES"},{"$f":"'Cat.658-9-Rev. 0420'!$A$3","v":"FLUSH DOORS"},null,null,null,null,null,-9,null,null,"Button32_Click()"]
[" Cat.658-9-Rev. 0420"]
[{"$error":"#REF!"}]
[{"$error":"#REF!"}]
[{"$error":"#REF!"}]
[{"$error":"#REF!"}]
[{"$error":"#REF!"}]
[{"$error":"#REF!"}]
[{"$error":"#REF!"}]
[{"$error":"#REF!"}]
[{"$error":"#REF!"}]
[{"$error":"#REF!"}]
[{"$error":"#REF!"}]
[{"$error":"#REF!"}]
[{"$error":"#REF!"}]

{"sheet":"Home - Regional Forms","index":1,"n_rows":33,"n_cols":26,"rows_kept":33,"cut":false,"hidden":false,"merged":[[32,9,33,22],[4,2,10,26],[1,4,1,24],[12,25,12,27],[12,12,12,23],[12,1,12,10]]}
[]
[null,null,null,null,"SCW REGIONAL STOCK ORDER FORMS"]
[]
[]
[null,null,"Use this page as a quick and easy way to locate the stock product categories you need. Just click on the buttons below and it will take you to that product category (or use the tabs located at the bottom of the screen to go to that product category). Next, fill in the quantity of stock products needed and let the program do the rest. To print individual sheets that you have completed (or blank forms) you can use this page or choose the print option from the file menu on the active worksheet.                           Don't forget to fill in the header information on the Cover Page\n(the information will be automatically filled-in on the individual stock forms)"]
[]
[]
[]
[]
[]
[]
[]
[null,"FRAMES",null,null,null,null,null,null,null,null,null,null,"DOORS",null,null,null,null,null,null,null,null,null,null,null,null,"PRINT FORMS"]
[]
[]
[]
[]
[]
[]
[]
[]
[]
[]
[]
[]
[]
[]
[]
[]
[]
[]
[]
[null,null,null,null,null,null,null,null,null,"FAX  TO :  8 8 8 - 4 8 5 - 4 7 4 7"]

{"sheet":"Cat.658 Rev. 0420","index":2,"n_rows":36,"n_cols":32,"rows_kept":36,"cut":false,"hidden":false,"merged":[[19,1,19,4],[19,7,19,10],[22,7,22,10],[24,1,25,4],[24,7,24,10],[0,13,0,16],[3,8,3,10],[3,14,3,15],[4,8,4,10],[4,14,4,15],[17,1,17,4],[17,7,17,10],[18,1,18,4],[5,8,5,10],[5,14,5,15],[6,8,6,10],[16,1,16,4],[16,7,16,10],[18,7,18,10]]}
["SCW STOCK ORDER COVER PAGE",null,null,null,null,null,null,null,null,null,null,null,null,"FAX FORM"]
[]
[]
["TO:","STEELCRAFT",null,null,null,null,null,"DATE:",null,null,null,null,null,"ACCOUNT #:"]
[null,"ORDER SERVICE DEPARTMENT",null,null,null,null,null,"FROM:",null,null,null,null,null,"PO NUMBER:"]
[null,"9017 BLUE ASH ROAD",null,null,null,null,null,"PHONE:",null,null,null,null,null,"DISCOUNT:"]
[null,"CINCINNATI, OHIO   45242",null,null,null,null,null,"FAX:",null,null,null,null,null,"SHIPPING INSTRUCTIONS:"]
[null,null,null,null,null,null,null,null,null,null,null,null,null,"(place an \"X\" in box)"]
["FAX:","(888)   485 - 4747",null,null,null,null,null,"PAGE:",null,"OF",null,null,null,null,"LTL - Best Way"]
["Email:","SteelcraftOrderEntryChino@allegion.com",null,null,null,null,null,null,null,null,null,null,null,null,"Pool Truck"]
[null,null,null,null,null,null,null,null,null,null,null,null,null,null,"Other ==>"]
[]
[]
[]
["SOLD TO:",null,null,null,null,null,"SHIP TO ADDRESS:",null,null,null,null,null,null,null,"ORDER SUMMARY  "]
[null,null,null,null,null,null,null,null,null,null,null,null,null,null,null,null,null,null,null,"Wgt_658_1_534,","Wgt_658_1_614,","Wgt_658_1_734,","Wgt_658_1_814,","Wgt_658_24,","Wgt_658_4,","Wgt_658_4_814,","Wgt_658_7_68_,","Wgt_658_7_70_,","Wgt_658_7_80_,","Wgt_658_8_,","Wgt_658_9_,"]
[]
[null,null,null,null,null,null,null,null,null,null,null,null,"TOTAL WEIGHT (lbs)  ",null,null,{"$f":"SUM(Wgt_658_1_534,Wgt_658_1_614,Wgt_658_1_734,Wgt_658_1_814,wgt_658_24,Wgt_658_4,Wgt_658_4_814,Wgt_658_7_68_,Wgt_658_7_70_,Wgt_658_7_80_,Wgt_658_8_,Wgt_658_9_)","v":0},null,null,null,{"$f":"Wgt_658_1_534","v":0},{"$f":"Wgt_658_1_614","v":0},{"$f":"Wgt_658_1_734","v":0},{"$f":"Wgt_658_1_814","v":0},{"$f":"wgt_658_24","v":0},{"$f":"Wgt_658_4","v":0},{"$f":"Wgt_658_4_814","v":0},{"$f":"Wgt_658_7_68_","v":0},{"$f":"Wgt_658_7_70_","v":0},{"$f":"Wgt_658_7_80_","v":0},{"$f":"Wgt_658_8_","v":0},{"$f":"Wgt_658_9_","v":0},{"$f":"SUM(T18:AE18)","v":0}]
[null,null,null,null,null,null,null,null,null,null,null,null,"TOTAL QUANTITY  ",null,null,{"$f":"SUM(Qty_658_1_534,Qty_658_1_614,Qty_658_1_734,Qty_658_1_814,Qty_658_24,Qty_658_4,Qty_658_4_814,Qty_658_7_68_,Qty_658_7_70_,Qty_658_7_80_,Qty_658_8_,Qty_658_9_)","v":0},null,null,null,{"$f":"Qty_658_1_534","v":0},{"$f":"Qty_658_1_614","v":0},{"$f":"Qty_658_1_734","v":0},{"$f":"Qty_658_1_814","v":0},{"$f":"Qty_658_24","v":0},{"$f":"Qty_658_4","v":0},{"$f":"Qty_658_4_814","v":0},{"$f":"Qty_658_7_68_","v":0},{"$f":"Qty_658_7_70_","v":0},{"$f":"Qty_658_7_80_","v":0},{"$f":"Qty_658_8_","v":0},{"$f":"Qty_658_9_","v":0},{"$f":"SUM(T19:AE19)","v":0}]
[null,null,null,null,null,null,null,null,null,null,null,null,"TOTAL LIST PRICE  ",null,null,{"$f":"SUM(List_658_1_534,List_658_1_614,List_658_1_734,List_658_1_814,list_658_24,List_658_4,List_658_4_814,LIst_658_7_68_,List_658_7_70_,List_658_7_80_,List_658_8_,List_658_9_)","v":0},null,null,null,{"$f":"List_658_1_534","v":0},{"$f":"List_658_1_614","v":0},{"$f":"List_658_1_734","v":0},{"$f":"List_658_1_814","v":0},{"$f":"list_658_24","v":0},{"$f":"List_658_4","v":0},{"$f":"List_658_4_814","v":0},{"$f":"LIst_658_7_68_","v":0},{"$f":"List_658_7_70_","v":0},{"$f":"List_658_7_80_","v":0},{"$f":"List_658_8_","v":0},{"$f":"List_658_9_","v":0},0]
[null,null,null,null,null,null,null,null,null,null,null,null,"DISTRIBUTOR DISCOUNT  ",null,null,{"$f":"$O$6","v":0}]
[null,null,null,null,null,null,"ATTN:"]
[]
["Special Instructions:",null,null,null,null,null,"JOB NAME:",null,null,null,null,null,null,null,"GRAND TOTAL NET  ",{"$f":"(1-P21)*P20","v":0}]
[]
[]
[]
[]
[]
[null,"x","     1-DAY  STOCK SCHEDULE",null,null,null,null,null,null,null,null,null,"    5-DAY MODIFIED STOCK*"]
[]
["For Stock and Modified Stock availability refer to the Stock section of the Price Manual"]
["All stock orders are subject to product availability"]
["Order cut-off:  Order cutoff is 12:00 midnight EST/EDT, and is based on the program and facility:"]
[null,"- West Coast Service Center : Thursday for all programs"]
["Orders for Modified Stock are limited to 20 doors and/or frames per order"]

{"sheet":"Cat.658-1-534 Rev. 0420","index":3,"n_rows":40,"n_cols":21,"rows_kept":40,"cut":false,"hidden":false,"merged":[[36,4,36,7],[36,14,36,15],[36,16,36,17],[36,18,36,19],[37,14,37,15],[37,16,37,17],[37,18,37,19],[2,15,4,16],[3,0,3,3],[3,4,3,6],[3,7,3,11],[3,12,3,14],[4,0,4,1],[4,4,4,6],[4,7,4,11],[1,0,1,3],[1,4,1,6],[1,7,1,11],[1,12,1,14],[2,0,2,3],[2,4,2,6],[2,7,2,11]]}
[null,null,null,null,"     SOLD TO:",null,null,"    SHIP TO:",null,null,null,null," CUST P.O. #",null,null,"SHIPPING INSTRUCTIONS",null,null,"LTL"]
["F16 - SERIES 5 3/4\"",null,null,null,{"$f":"'Cat.658 Rev. 0420'!B17","v":0},null,null,{"$f":"'Cat.658 Rev. 0420'!H17","v":0},null,null,null,null,{"$f":"'Cat.658 Rev. 0420'!$O$5","v":0}]
[null,null,null,null,{"$f":"'Cat.658 Rev. 0420'!B18","v":0},null,null,{"$f":"'Cat.658 Rev. 0420'!H18","v":0},null,null,null,null," ACCOUNT. #",null,null,{"$f":"'Cat.658 Rev. 0420'!$B$25","v":0},null,null,"POOL TRUCK"]
["FRAME PARTS",null,null,null,{"$f":"'Cat.658 Rev. 0420'!B19","v":0},null,null,{"$f":"'Cat.658 Rev. 0420'!H19","v":0},null,null,null,null,{"$f":"'Cat.658 Rev. 0420'!$O$4","v":0}]
[null,null,null,null,{"$f":"'Cat.658 Rev. 0420'!$B$20","v":0},null,null,{"$f":"'Cat.658 Rev. 0420'!$H$20","v":0},null,null,null,null,"DISCOUNT %",null,{"$f":"'Cat.658 Rev. 0420'!$O$6","v":0},null,null,null,"OTHER"]
[]
[]
["F16 - 5 3/4\" - NON-GALV, FRAME PARTS"]
[null,"Part #","Qty.","Description",null,"List Each","Total List","Wgt. Each","Total Wgt.",null,null,null,"Part #","Qty.","Description",null,"List Each","Total List","Wgt. Each","Total Wgt."]
[null,292,null,"6-8   SJ  R  ASA",null,88,{"$f":"IF(C10>=1,C10*F10,\"\")","v":""},15,{"$f":"IF(C10>=1,C10*H10,\"\")","v":""},null,null,null,324,null,"2-6    HEAD   ",null,41,{"$f":"IF(N10>=1,N10*Q10,\"\")","v":""},6,{"$f":"IF(N10>=1,N10*S10,\"\")","v":""}]
[null,19451,null,"6-8   SJ  R  RPD",null,108,"",15,"",null,null,null,325,null,"2-8    HEAD   ",null,41,{"$f":"IF(N11>=1,N11*Q11,\"\")","v":""},6,{"$f":"IF(N11>=1,N11*S11,\"\")","v":""}]
[null,7414,null,"6-8   SJ  R  BLK",null,88,"",15,"",null,null,null,19703,null,"2-10  HEAD   ",null,41,{"$f":"IF(N12>=1,N12*Q12,\"\")","v":""},6,{"$f":"IF(N12>=1,N12*S12,\"\")","v":""}]
[null,295,null,"6-8   SJ  L  ASA",null,88,"",15,"",null,null,null,"326*",null,"3-0    HEAD   ",null,41,{"$f":"IF(N13>=1,((N13-(INT(N13/55)*55))*Q13)+((INT(N13/55)*55)*U13),\"\")","v":""},7,{"$f":"IF(N13>=1,N13*S13,\"\")","v":""},{"$f":"Q13*0.92","v":37.72}]
[null,19452,null,"6-8   SJ  L  RPD",null,108,"",15,"",null,null,null,334,null,"3-0    HEAD  4\" Face ",null,85,{"$f":"IF(N14>=1,N14*Q14,\"\")","v":""},10,{"$f":"IF(N14>=1,N14*S14,\"\")","v":""}]
[null,7415,null,"6-8   SJ  L  BLK",null,88,"",15,"",null,null,null,328,null,"3-6    HEAD   ",null,56,"",8,""]
[null,294,null,"6-8   HJ  R  WH",null,104,"",17,"",null,null,null,330,null,"4-0    HEAD   ",null,56,"",9,""]
[null,297,null,"6-8   HJ  L  WH",null,104,"",17,"",null,null,null,331,null,"5-0    HEAD  D ",null,85,"",11,""]
[null,"302*",null,"7-0   SJ  R  ASA",null,92,{"$f":"IF(C18>=1,((C18-(INT(C18/55)*55))*F18)+((INT(C18/55)*55)*J18),\"\")","v":""},15,"",{"$f":"(F18-2.3-5.65)*0.92","v":77.326000000000008},null,null,333,null,"6-0    HEAD  D ",null,93,"",13,""]
[null,19453,null,"7-0   SJ  R  RPD",null,112,{"$f":"IF(C19>=1,C19*F19,\"\")","v":""},15,"",null,null,null,336,null,"8-0    HEAD  D ",null,111,"",18,""]
[null,303,null,"7-0   SJ  R  BLK",null,92,{"$f":"IF(C20>=1,C20*F20,\"\")","v":""},15,"",null,null,null,null,null,null,null,null,null,null,""]
[null,"305*",null,"7-0   SJ  L  ASA",null,92,{"$f":"IF(C21>=1,((C21-(INT(C21/55)*55))*F21)+((INT(C21/55)*55)*J21),\"\")","v":""},15,"",{"$f":"(F21-2.3-5.65)*0.92","v":77.326000000000008},null,null,null,null,null,null,null,null,null,""]
[null,19454,null,"7-0   SJ  L  RPD",null,112,{"$f":"IF(C22>=1,C22*F22,\"\")","v":""},15,"",null,null,null,null,null,null,null,null,null,null,{"$f":"IF(N22>=1,N22*S22,\"\")","v":""}]
[null,306,null,"7-0   SJ  L  BLK",null,92,{"$f":"IF(C23>=1,C23*F23,\"\")","v":""},15,"",null,null,null,null,null,null,null,null,null,null,""]
[null,"304*",null,"7-0   HJ  R  WH",null,107,{"$f":"IF(C24>=1,((C24-(INT(C24/55)*55))*F24)+((INT(C24/55)*55)*J24),\"\")","v":""},18,"",{"$f":"(F24-2.3-5.65)*0.92","v":91.126000000000005},null,null,null,null,null,null,null,null,null,{"$f":"IF(N24>=1,N24*S24,\"\")","v":""}]
[null,"307*",null,"7-0   HJ  L  WH",null,107,{"$f":"IF(C25>=1,((C25-(INT(C25/55)*55))*F25)+((INT(C25/55)*55)*J25),\"\")","v":""},18,"",{"$f":"(F25-2.3-5.65)*0.92","v":91.126000000000005},null,null,null,null,null,null,null,null,null,""]
[null,318,null,"8-0   SJ  R  ASA",null,113,{"$f":"IF(C26>=1,C26*F26,\"\")","v":""},18,"",null,null,null,null,null,null,null,null,null,null,""]
[null,19455,null,"8-0   SJ  R  RPD",null,133,"",18,"",null,null,null,null,null,null,null,null,null,null,{"$f":"IF(N27>=1,N27*S27,\"\")","v":""}]
[null,320,null,"8-0   SJ  L  ASA",null,113,"",18,"",null,null,null,null,null,null,null,null,null,null,{"$f":"IF(N28>=1,N28*S28,\"\")","v":""}]
[null,19456,null,"8-0   SJ  L  RPD",null,133,"",18,"",null,null,null,null,null,null,null,null,null,null,""]
[null,319,null,"8-0   HJ  R  WH",null,138,"",20,"",null,null,null,null,null,null,null,null,null,null,""]
[null,321,null,"8-0   HJ  L  WH",null,138,"",20,"",null,null,null,null,null,null,null,null,null,null,""]
[]
["*Parts entered with quantities in multiples of 55 will be priced with the Kwik Pak price noted. Anchors not included."]
["**End Jambs are the same as Blank Hinge Jambs but priced as Strike Jambs."]
[]
[]
["This is an official order - Please Sign:",null,null,null,null,null,null,null,null,null,null,null,null,null,"TOTAL WEIGHT",null,"TOTAL LIST $",null,"TOTAL NET $"]
[null,null,null,null,"Sheet",null,"of",null,null,null,null,"TOTALS (This page)",null,null,{"$f":"Wgt_658_1_534","v":0},null,{"$f":"List_658_1_534","v":0},null,{"$f":"(1-O5)*Q38","v":0}]
[]
[null,null,null,null,null,null,null,null,null,null,null,null,null,null,null,null,null,{"$f":"SUM(C10:C31)+SUM(N10:N19)","v":0},{"$f":"SUM(G10:G31)+SUM(R10:R19)","v":0},{"$f":"SUM(I10:I31)+SUM(T10:T19)","v":0}]

{"sheet":"Cat.658-1-614 Rev. 0420","index":4,"n_rows":36,"n_cols":20,"rows_kept":36,"cut":false,"hidden":false,"merged":[[32,4,32,7],[32,14,32,15],[32,16,32,17],[32,18,32,19],[33,14,33,15],[33,16,33,17],[33,18,33,19],[2,15,4,16],[3,0,3,3],[3,4,3,6],[3,7,3,11],[3,12,3,14],[4,0,4,1],[4,4,4,6],[4,7,4,11],[1,0,1,3],[1,4,1,6],[1,7,1,11],[1,12,1,14],[2,0,2,3],[2,4,2,6],[2,7,2,11]]}
[null,null,null,null,"     SOLD TO:",null,null,"    SHIP TO:",null,null,null,null," CUST P.O. #",null,null,"SHIPPING INSTRUCTIONS",null,null,"LTL"]
["F16 - SERIES 6 1/4\"",null,null,null,{"$f":"'Cat.658 Rev. 0420'!B17","v":0},null,null,{"$f":"'Cat.658 Rev. 0420'!H17","v":0},null,null,null,null,{"$f":"'Cat.658 Rev. 0420'!$O$5","v":0}]
[null,null,null,null,{"$f":"'Cat.658 Rev. 0420'!B18","v":0},null,null,{"$f":"'Cat.658 Rev. 0420'!H18","v":0},null,null,null,null," ACCOUNT. #",null,null,{"$f":"'Cat.658 Rev. 0420'!$B$25","v":0},null,null,"POOL TRUCK"]
["FRAME PARTS",null,null,null,{"$f":"'Cat.658 Rev. 0420'!B19","v":0},null,null,{"$f":"'Cat.658 Rev. 0420'!H19","v":0},null,null,null,null,{"$f":"'Cat.658 Rev. 0420'!$O$4","v":0}]
[null,null,null,null,{"$f":"'Cat.658 Rev. 0420'!$B$20","v":0},null,null,{"$f":"'Cat.658 Rev. 0420'!$H$20","v":0},null,null,null,null,"DISCOUNT %",null,{"$f":"'Cat.658 Rev. 0420'!$O$6","v":0},null,null,null,"OTHER"]
[]
[]
["F16 - 6 1/4\" - NON-GALV, FRAME PARTS"]
[null,"Part #","Qty.","Description",null,"List Each","Total List","Wgt. Each","Total Wgt.",null,null,null,"Part #","Qty.","Description",null,"List Each","Total List","Wgt. Each","Total Wgt."]
[null,19044,null,"6-8   SJ  R  ASA",null,94,{"$f":"IF(C10>=1,C10*F10,\"\")","v":""},17,{"$f":"IF(C10>=1,C10*H10,\"\")","v":""},null,null,null,19706,null,"2-6    HEAD   ",null,49,{"$f":"IF(N10>=1,N10*Q10,\"\")","v":""},6,{"$f":"IF(N10>=1,N10*S10,\"\")","v":""}]
[null,19457,null,"6-8   SJ  R  RPD",null,114,"",17,"",null,null,null,19707,null,"2-8    HEAD   ",null,49,"",7,""]
[null,19045,null,"6-8   SJ  L  ASA",null,94,"",17,"",null,null,null,19708,null,"2-10  HEAD   ",null,49,"",7,""]
[null,19458,null,"6-8   SJ  L  RPD",null,114,"",17,"",null,null,null,19062,null,"3-0    HEAD   ",null,49,"",8,""]
[null,19046,null,"6-8   HJ  R  WH",null,108,"",19,"",null,null,null,19709,null,"3-6    HEAD   ",null,66,"",8,""]
[null,19047,null,"6-8   HJ  L  WH",null,108,"",19,"",null,null,null,19710,null,"4-0    HEAD   ",null,66,"",10,""]
[null,19048,null,"7-0   SJ  R  ASA",null,104,"",17,"",null,null,null,19711,null,"5-0    HEAD  D ",null,90,"",12,""]
[null,19459,null,"7-0   SJ  R  RPD",null,124,"",17,"",null,null,null,19586,null,"6-0    HEAD  D ",null,99,"",14,""]
[null,19049,null,"7-0   SJ  L  ASA",null,104,"",17,"",null,null,null,19712,null,"8-0    HEAD  D ",null,119,"",19,""]
[null,19460,null,"7-0   SJ  L  RPD",null,124,"",17,"",null,null,null,null,null,null,null,null,"",null,""]
[null,19052,null,"7-0   HJ  R  WH",null,114,"",20,"",null,null,null,null,null,null,null,null,"",null,""]
[null,19053,null,"7-0   HJ  L  WH",null,114,"",20,"",null,null,null,null,null,null,null,null,"",null,""]
[null,19463,null,"8-0   SJ  R  ASA",null,118,"",20,"",null,null,null,null,null,null,null,null,"",null,""]
[null,19464,null,"8-0   SJ  R  RPD",null,138,"",20,"",null,null,null,null,null,null,null,null,"",null,""]
[null,19465,null,"8-0   SJ  L  ASA",null,118,"",20,"",null,null,null,null,null,null,null,null,"",null,""]
[null,19466,null,"8-0   SJ  L  RPD",null,138,"",20,"",null,null,null,null,null,null,null,null,"",null,""]
[null,19461,null,"8-0   HJ  R  WH",null,142,"",21,"",null,null,null,null,null,null,null,null,"",null,""]
[null,19462,null,"8-0   HJ  L  WH",null,142,"",21,"",null,null,null,null,null,null,null,null,"",null,""]
[]
["*Parts entered with quantities in multiples of 55 will be priced with the Kwik Pak price noted. Anchors not included."]
["**End Jambs are the same as Blank Hinge Jambs but priced as Strike Jambs."]
[]
[]
["This is an official order - Please Sign:",null,null,null,null,null,null,null,null,null,null,null,null,null,"TOTAL WEIGHT",null,"TOTAL LIST $",null,"TOTAL NET $"]
[null,null,null,null,"Sheet",null,"of",null,null,null,null,"TOTALS (This page)",null,null,{"$f":"Wgt_658_1_614","v":0},null,{"$f":"List_658_1_614","v":0},null,{"$f":"(1-O5)*Q34","v":0}]
[]
[null,null,null,null,null,null,null,null,null,null,null,null,null,null,null,null,null,{"$f":"SUM(C10:C27)+SUM(N10:N18)","v":0},{"$f":"SUM(G10:G27)+SUM(R10:R18)","v":0},{"$f":"SUM(I10:I27)+SUM(T10:T18)","v":0}]

{"sheet":"Cat.658-1-734 Rev. 0420","index":5,"n_rows":38,"n_cols":20,"rows_kept":38,"cut":false,"hidden":false,"merged":[[34,4,34,7],[34,14,34,15],[34,16,34,17],[34,18,34,19],[35,14,35,15],[35,16,35,17],[35,18,35,19],[2,15,4,16],[3,0,3,3],[3,4,3,6],[3,7,3,11],[3,12,3,14],[4,0,4,1],[4,4,4,6],[4,7,4,11],[1,0,1,3],[1,4,1,6],[1,7,1,11],[1,12,1,14],[2,0,2,3],[2,4,2,6],[2,7,2,11]]}
[null,null,null,null,"     SOLD TO:",null,null,"    SHIP TO:",null,null,null,null," CUST P.O. #",null,null,"SHIPPING INSTRUCTIONS",null,null,"LTL"]
["F16 - SERIES 7 3/4\"",null,null,null,{"$f":"'Cat.658 Rev. 0420'!B17","v":0},null,null,{"$f":"'Cat.658 Rev. 0420'!H17","v":0},null,null,null,null,{"$f":"'Cat.658 Rev. 0420'!$O$5","v":0}]
[null,null,null,null,{"$f":"'Cat.658 Rev. 0420'!B18","v":0},null,null,{"$f":"'Cat.658 Rev. 0420'!H18","v":0},null,null,null,null," ACCOUNT. #",null,null,{"$f":"'Cat.658 Rev. 0420'!$B$25","v":0},null,null,"POOL TRUCK"]
["FRAME PARTS",null,null,null,{"$f":"'Cat.658 Rev. 0420'!B19","v":0},null,null,{"$f":"'Cat.658 Rev. 0420'!H19","v":0},null,null,null,null,{"$f":"'Cat.658 Rev. 0420'!$O$4","v":0}]
[null,null,null,null,{"$f":"'Cat.658 Rev. 0420'!$B$20","v":0},null,null,{"$f":"'Cat.658 Rev. 0420'!$H$20","v":0},null,null,null,null,"DISCOUNT %",null,{"$f":"'Cat.658 Rev. 0420'!$O$6","v":0},null,null,null,"OTHER"]
[]
[]
["F16 - 7 3/4\" - NON-GALV, FRAME PARTS"]
[null,"Part #","Qty.","Description",null,"List Each","Total List","Wgt. Each","Total Wgt.",null,null,null,"Part #","Qty.","Description",null,"List Each","Total List","Wgt. Each","Total Wgt."]
[null,713,null,"6-8   SJ  R  ASA",null,94,{"$f":"IF(C10>=1,C10*F10,\"\")","v":""},17,{"$f":"IF(C10>=1,C10*H10,\"\")","v":""},null,null,null,19713,null,"2-6    HEAD   ",null,49,{"$f":"IF(N10>=1,N10*Q10,\"\")","v":""},7,{"$f":"IF(N10>=1,N10*S10,\"\")","v":""}]
[null,19467,null,"6-8   SJ  R  RPD",null,114,"",18,"",null,null,null,19714,null,"2-8    HEAD   ",null,49,"",7,""]
[null,715,null,"6-8   SJ  L  ASA",null,94,"",17,"",null,null,null,19715,null,"2-10  HEAD   ",null,49,"",8,""]
[null,19469,null,"6-8   SJ  L  RPD",null,114,"",18,"",null,null,null,706,null,"3-0    HEAD   ",null,49,"",8,""]
[null,714,null,"6-8   HJ  R  WH",null,108,"",20,"",null,null,null,19717,null,"3-6    HEAD   ",null,66,"",9,""]
[null,716,null,"6-8   HJ  L  WH",null,108,"",20,"",null,null,null,19718,null,"4-0    HEAD   ",null,66,"",11,""]
[null,717,null,"7-0   SJ  R  ASA",null,104,"",18,"",null,null,null,19719,null,"5-0    HEAD  D ",null,90,"",13,""]
[null,19473,null,"7-0   SJ  R  RPD",null,124,"",19,"",null,null,null,19587,null,"6-0    HEAD  D ",null,99,"",17,""]
[null,719,null,"7-0   SJ  L  ASA",null,104,"",18,"",null,null,null,19720,null,"8-0    HEAD  D ",null,119,"",21,""]
[null,19475,null,"7-0   SJ  L  RPD",null,124,"",19,"",null,null,null,null,null,null,null,null,"",null,""]
[null,19685,null,"7-0   EJ  R**  ",null,104,"",18,"",null,null,null,null,null,null,null,null,"",null,""]
[null,19686,null,"7-0   EJ  L**",null,104,"",18,"",null,null,null,null,null,null,null,null,"",null,""]
[null,718,null,"7-0   HJ  R  WH",null,114,"",22,"",null,null,null,null,null,null,null,null,"",null,""]
[null,720,null,"7-0   HJ  L  WH",null,114,"",22,"",null,null,null,null,null,null,null,null,"",null,""]
[null,19480,null,"8-0   SJ  R  ASA",null,118,"",22,"",null,null,null,null,null,null,null,null,"",null,""]
[null,19481,null,"8-0   SJ  R  RPD",null,138,"",22,"",null,null,null,null,null,null,null,null,"",null,""]
[null,19482,null,"8-0   SJ  L  ASA",null,118,"",22,"",null,null,null,null,null,null,null,null,"",null,""]
[null,19483,null,"8-0   SJ  L  RPD",null,138,"",22,"",null,null,null,null,null,null,null,null,"",null,""]
[null,19478,null,"8-0   HJ  R  WH",null,142,"",23,"",null,null,null,null,null,null,null,null,"",null,""]
[null,19479,null,"8-0   HJ  L  WH",null,142,"",23,"",null,null,null,null,null,null,null,null,"",null,""]
[]
["*Parts entered with quantities in multiples of 55 will be priced with the Kwik Pak price noted. Anchors not included."]
["**End Jambs are the same as Blank Hinge Jambs but priced as Strike Jambs."]
[]
[]
["This is an official order - Please Sign:",null,null,null,null,null,null,null,null,null,null,null,null,null,"TOTAL WEIGHT",null,"TOTAL LIST $",null,"TOTAL NET $"]
[null,null,null,null,"Sheet",null,"of",null,null,null,null,"TOTALS (This page)",null,null,{"$f":"Wgt_658_1_734","v":0},null,{"$f":"List_658_1_734","v":0},null,{"$f":"(1-O5)*Q36","v":0}]
[]
[null,null,null,null,null,null,null,null,null,null,null,null,null,null,null,null,null,{"$f":"SUM(C10:C29)+SUM(N10:N18)","v":0},{"$f":"SUM(G10:G29)+SUM(R10:R18)","v":0},{"$f":"SUM(I10:I29)+SUM(T10:T18)","v":0}]

{"sheet":"Cat.658-1-814 Rev. 0420","index":6,"n_rows":36,"n_cols":20,"rows_kept":36,"cut":false,"hidden":false,"merged":[[32,4,32,7],[32,14,32,15],[32,16,32,17],[32,18,32,19],[33,14,33,15],[33,16,33,17],[33,18,33,19],[2,15,4,16],[3,0,3,3],[3,4,3,6],[3,7,3,11],[3,12,3,14],[4,0,4,1],[4,4,4,6],[4,7,4,11],[1,0,1,3],[1,4,1,6],[1,7,1,11],[1,12,1,14],[2,0,2,3],[2,4,2,6],[2,7,2,11]]}
[null,null,null,null,"     SOLD TO:",null,null,"    SHIP TO:",null,null,null,null," CUST P.O. #",null,null,"SHIPPING INSTRUCTIONS",null,null,"LTL"]
["F16 - SERIES 8 1/4\"",null,null,null,{"$f":"'Cat.658 Rev. 0420'!B17","v":0},null,null,{"$f":"'Cat.658 Rev. 0420'!H17","v":0},null,null,null,null,{"$f":"'Cat.658 Rev. 0420'!$O$5","v":0}]
[null,null,null,null,{"$f":"'Cat.658 Rev. 0420'!B18","v":0},null,null,{"$f":"'Cat.658 Rev. 0420'!H18","v":0},null,null,null,null," ACCOUNT. #",null,null,{"$f":"'Cat.658 Rev. 0420'!$B$25","v":0},null,null,"POOL TRUCK"]
["FRAME PARTS",null,null,null,{"$f":"'Cat.658 Rev. 0420'!B19","v":0},null,null,{"$f":"'Cat.658 Rev. 0420'!H19","v":0},null,null,null,null,{"$f":"'Cat.658 Rev. 0420'!$O$4","v":0}]
[null,null,null,null,{"$f":"'Cat.658 Rev. 0420'!$B$20","v":0},null,null,{"$f":"'Cat.658 Rev. 0420'!$H$20","v":0},null,null,null,null,"DISCOUNT %",null,{"$f":"'Cat.658 Rev. 0420'!$O$6","v":0},null,null,null,"OTHER"]
[]
[]
["F16 - 8 1/4\" - NON-GALV, FRAME PARTS"]
[null,"Part #","Qty.","Description",null,"List Each","Total List","Wgt. Each","Total Wgt.",null,null,null,"Part #","Qty.","Description",null,"List Each","Total List","Wgt. Each","Total Wgt."]
[null,7460,null,"6-8   SJ  R  ASA",null,104,{"$f":"IF(C10>=1,C10*F10,\"\")","v":""},18,{"$f":"IF(C10>=1,C10*H10,\"\")","v":""},null,null,null,19721,null,"2-6    HEAD   ",null,59,{"$f":"IF(N10>=1,N10*Q10,\"\")","v":""},7,{"$f":"IF(N10>=1,N10*S10,\"\")","v":""}]
[null,19485,null,"6-8   SJ  R  RPD",null,124,"",19,"",null,null,null,19722,null,"2-8    HEAD   ",null,59,"",7,""]
[null,7461,null,"6-8   SJ  L  ASA",null,104,"",18,"",null,null,null,19723,null,"2-10  HEAD   ",null,59,"",8,""]
[null,19487,null,"6-8   SJ  L  RPD",null,124,"",19,"",null,null,null,808,null,"3-0    HEAD   ",null,59,"",9,""]
[null,7462,null,"6-8   HJ  R  WH",null,119,"",20,"",null,null,null,19725,null,"3-6    HEAD   ",null,72,"",10,""]
[null,7463,null,"6-8   HJ  L  WH",null,119,"",20,"",null,null,null,7471,null,"4-0    HEAD   ",null,72,"",12,""]
[null,802,null,"7-0   SJ  R  ASA",null,110,"",21,"",null,null,null,19727,null,"5-0    HEAD  D ",null,98,"",14,""]
[null,19492,null,"7-0   SJ  R  RPD",null,130,"",21,"",null,null,null,7473,null,"6-0    HEAD  D ",null,107,"",18,""]
[null,806,null,"7-0   SJ  L  ASA",null,110,"",21,"",null,null,null,19729,null,"8-0    HEAD  D ",null,133,"",21,""]
[null,19494,null,"7-0   SJ  L  RPD",null,130,"",21,"",null,null,null,null,null,null,null,null,"",null,""]
[null,803,null,"7-0   HJ  R  WH",null,125,"",23,"",null,null,null,null,null,null,null,null,"",null,""]
[null,807,null,"7-0   HJ  L  WH",null,125,"",23,"",null,null,null,null,null,null,null,null,"",null,""]
[null,19499,null,"8-0   SJ  R  ASA",null,130,"",22,"",null,null,null,null,null,null,null,null,"",null,""]
[null,19700,null,"8-0   SJ  R  RPD",null,150,"",22,"",null,null,null,null,null,null,null,null,"",null,""]
[null,19701,null,"8-0   SJ  L  ASA",null,130,"",22,"",null,null,null,null,null,null,null,null,"",null,""]
[null,19702,null,"8-0   SJ  L  RPD",null,150,"",22,"",null,null,null,null,null,null,null,null,"",null,""]
[null,19497,null,"8-0   HJ  R  WH",null,150,"",23,"",null,null,null,null,null,null,null,null,"",null,""]
[null,19498,null,"8-0   HJ  L  WH",null,150,"",23,"",null,null,null,null,null,null,null,null,"",null,""]
[]
["*Parts entered with quantities in multiples of 55 will be priced with the Kwik Pak price noted. Anchors not included."]
["**End Jambs are the same as Blank Hinge Jambs but priced as Strike Jambs."]
[]
[]
["This is an official order - Please Sign:",null,null,null,null,null,null,null,null,null,null,null,null,null,"TOTAL WEIGHT",null,"TOTAL LIST $",null,"TOTAL NET $"]
[null,null,null,null,"Sheet",null,"of",null,null,null,null,"TOTALS (This page)",null,null,{"$f":"Wgt_658_1_814","v":0},null,{"$f":"List_658_1_814","v":0},null,{"$f":"(1-O5)*Q34","v":0}]
[]
[null,null,null,null,null,null,null,null,null,null,null,null,null,null,null,null,null,{"$f":"SUM(C10:C27)+SUM(N10:N18)","v":0},{"$f":"SUM(G10:G27)+SUM(R10:R18)","v":0},{"$f":"SUM(I10:I27)+SUM(T10:T18)","v":0}]

{"sheet":"Cat.658-24 Rev. 0420","index":7,"n_rows":33,"n_cols":22,"rows_kept":33,"cut":false,"hidden":false,"merged":[[31,5,31,9],[31,14,31,15],[31,18,31,19],[31,20,31,21],[32,14,32,15],[32,18,32,19],[32,20,32,21],[11,21,11,22],[10,3,10,4],[10,11,10,12],[10,13,10,14],[10,15,10,18],[10,19,10,20],[10,21,10,22],[11,3,11,4],[11,11,11,12],[11,13,11,14],[11,15,11,18],[11,19,11,20],[8,11,9,12],[8,13,9,14],[8,15,9,18],[8,19,9,20],[8,21,9,22],[8,0,9,0],[8,1,9,1],[8,2,9,2],[8,3,8,4],[9,3,9,4],[7,19,7,20],[7,21,7,22],[7,3,7,4],[7,5,7,10],[7,11,7,12],[7,13,7,14],[3,7,3,11],[4,7,4,11],[1,0,1,3],[3,12,3,14],[7,15,7,18],[3,4,3,6],[4,4,4,6],[1,12,1,14],[2,0,2,3],[1,4,1,6],[2,4,2,6],[1,7,1,11],[2,7,2,11]]}
[null,null,null,null,"     SOLD TO:",null,null,null,"  SHIP TO:",null,null,null," CUST P.O. #",null,null,"SHIPPING INSTRUCTIONS",null,null,null,null,null,"LTL"]
["FACTORY STOCK",null,null,null,{"$f":"'Cat.658 Rev. 0420'!B17","v":0},null,null,{"$f":"'Cat.658 Rev. 0420'!H17","v":0},null,null,null,null,{"$f":"'Cat.658 Rev. 0420'!$O$5","v":0}]
["WELDED FRAMES",null,null,null,{"$f":"'Cat.658 Rev. 0420'!B18","v":0},null,null,{"$f":"'Cat.658 Rev. 0420'!H18","v":0},null,null,null,null," ACCOUNT. #",null,null,"OMIT ANCHORS",null,null,null,null,null,"POOL TRUCK"]
[null,null,null,null,{"$f":"'Cat.658 Rev. 0420'!B19","v":0},null,null,{"$f":"'Cat.658 Rev. 0420'!H19","v":0},null,null,null,null,{"$f":"'Cat.658 Rev. 0420'!$O$4","v":0},null,null,null,null,null,"JAMB"]
[null,null,null,null,{"$f":"'Cat.658 Rev. 0420'!$B$20","v":0},null,null,{"$f":"'Cat.658 Rev. 0420'!$H$20","v":0},null,null,null,null," DISCOUNT %",null,{"$f":"'Cat.658 Rev. 0420'!$O$6","v":0},null,null,null,"BASE",null,null,"OTHER"]
[]
["Factory Stock Welded Frames"]
["Qty.","SKU","Pkg. Qty","Pkg. Contents",null,"SUA Stock Item",null,null,null,null,null,"Pkg. Weight",null,"Pkg. List $",null,"Extended Weight",null,null,null,"Extended List $",null,"Total Frames"]
[null,10211,24,12,null,"F16 4 5 3/4 3070 RH, ASA, PA/RA Reinf. CRS",null,null,null,null,null,1040,null,8450,null,{"$f":"IF(A9>=1,A9*L9,\"\")","v":""},null,null,null,{"$f":"IF(A9>=1,A9*N9,\"\")","v":""},null,{"$f":"IF(A9>=1,A9*C9,\"\")","v":""}]
[null,null,null,12,null,"F16 4 5 3/4 3070 LH, ASA, PA/RA Reinf. CRS"]
[null,7676,24,24,null,"F16 4 5 3/4 3070 RH, ASA, PA/RA Reinf., CRS",null,null,null,null,null,1040,null,8450,null,{"$f":"IF(A11>=1,A11*L11,\"\")","v":""},null,null,null,{"$f":"IF(A11>=1,A11*N11,\"\")","v":""},null,{"$f":"IF(A11>=1,A11*C11,\"\")","v":""}]
[null,7677,24,24,null,"F16 4 5 3/4 3070 LH, ASA, PA/RA Reinf., CRS",null,null,null,null,null,1040,null,8450,null,{"$f":"IF(A12>=1,A12*L12,\"\")","v":""},null,null,null,{"$f":"IF(A12>=1,A12*N12,\"\")","v":""},null,{"$f":"IF(A12>=1,A12*C12,\"\")","v":""}]
[]
["Notes:"]
["1) Frames are back welded, ground smooth and prime painted. All welded frames contain at least one shipping bar. "]
["2) Frames shown as \"GALV\" are manufactured from A60 Galvannealed material conforming to ASTM A 653. All hardware reinforcements are also galvanized."]
["3) Frames are skidded, banded and wrapped for shipping. Package quantities cannot be broken."]
["4) All frames are shipped minus all anchors, list prices reflect standard anchor deduct of $15.90 per frame."]
["5) All hardware locations are Steelcraft standards."]
[]
[]
[]
[]
[]
[]
[]
[]
[]
[null,null,null,null,null,null,null,null,null,null,null,null,null,null,null,null,{"$f":"SUM(P9:P12)","v":0},{"$f":"SUM(T9:T12)","v":0}]
[null,null,null,null,null,null,null,null,null,null,null,null,null,null,null,null,null,{"$f":"SUM(A9:A12)","v":0}]
[]
["This is an official order - Please Sign:",null,null,null,null,null,null,null,null,null,null,null,null,null,"TOTAL WEIGHT",null,null,null,"TOTAL LIST $",null,"TOTAL NET $"]
[null,null,null,null,null,"Sheet",null,null,"of",null,null,"TOTALS (This page)",null,null,{"$f":"wgt_658_24","v":0},null,null,null,{"$f":"list_658_24","v":0},null,{"$f":"(1-O5)*S33","v":0}]

{"sheet":"Cat.658-4 Rev. 0420","index":8,"n_rows":40,"n_cols":19,"rows_kept":40,"cut":false,"hidden":false,"merged":[[35,0,35,3],[35,4,35,7],[35,13,35,14],[35,15,35,16],[35,17,35,18],[36,13,36,14],[36,15,36,16],[36,17,36,18],[2,14,4,15],[3,4,3,6],[3,7,3,10],[3,11,3,13],[4,4,4,6],[4,7,4,10],[1,0,1,3],[1,4,1,6],[1,7,1,10],[1,11,1,13],[2,0,2,3],[2,4,2,6],[2,7,2,10]]}
[null,null,null,null,"     SOLD TO:",null,null,"    SHIP TO:",null,null,null," CUST P.O. #",null,null,"SHIPPING INSTRUCTIONS",null,null,"LTL"]
["K16  -  SERIES",null,null,null,{"$f":"'Cat.658 Rev. 0420'!B17","v":0},null,null,{"$f":"'Cat.658 Rev. 0420'!H17","v":0},null,null,null,{"$f":"'Cat.658 Rev. 0420'!$O$5","v":0}]
["FRAME PARTS",null,null,null,{"$f":"'Cat.658 Rev. 0420'!B18","v":0},null,null,{"$f":"'Cat.658 Rev. 0420'!H18","v":0},null,null,null," ACCOUNT. #",null,null,{"$f":"'Cat.658 Rev. 0420'!$B$25","v":0},null,null,"POOL TRUCK"]
[null,null,null,null,{"$f":"'Cat.658 Rev. 0420'!B19","v":0},null,null,{"$f":"'Cat.658 Rev. 0420'!H19","v":0},null,null,null,{"$f":"'Cat.658 Rev. 0420'!$O$4","v":0}]
[null,null,null,null,{"$f":"'Cat.658 Rev. 0420'!$B$20","v":0},null,null,{"$f":"'Cat.658 Rev. 0420'!$H$20","v":0},null,null,null,"DISCOUNT %",null,{"$f":"'Cat.658 Rev. 0420'!$O$6","v":0},null,null,null,"OTHER"]
[]
["K16  -  5 7/8\" - NON-GALV, FRAME PARTS",null,null,null,null,null,null,null,null,null,"K16  -  6 1/4\" - NON-GALV, FRAME PARTS"]
[null,"Part #","Qty.","Description",null,"List Each","Total List","Wgt. Each","Total Wgt.",null,null,"Part #","Qty.","Description",null,"List Each","Total List","Wgt. Each","Total Wgt."]
[null,19156,null,"6-8   SJ  R  ASA",null,90,{"$f":"IF(C9>=1,C9*F9,\"\")","v":""},17,{"$f":"IF(C9>=1,C9*H9,\"\")","v":""},null,null,19761,null,"6-8   SJ  R  ASA",null,102,{"$f":"IF(M9>=1,M9*P9,\"\")","v":""},17,{"$f":"IF(M9>=1,M9*R9,\"\")","v":""}]
[null,19730,null,"6-8   SJ  R  RPD",null,110,{"$f":"IF(C10>=1,C10*F10,\"\")","v":""},17,"",null,null,19736,null,"6-8   SJ  R  RPD",null,122,"",17,{"$f":"IF(M10>=1,M10*R10,\"\")","v":""}]
[null,19157,null,"6-8   SJ  L  ASA",null,90,"",17,"",null,null,19179,null,"6-8   SJ  L  ASA",null,102,"",17,""]
[null,19731,null,"6-8   SJ  L  RPD",null,110,"",17,"",null,null,19737,null,"6-8   SJ  L  RPD",null,122,"",17,""]
[null,19158,null,"6-8   HJ  R  WH",null,103,"",18,"",null,null,19180,null,"6-8   HJ  R  WH",null,116,"",18,""]
[null,19159,null,"6-8   HJ  L  WH",null,103,"",18,"",null,null,19181,null,"6-8   HJ  L  WH",null,116,"",18,""]
[null,19160,null,"7-0   SJ  R  ASA",null,101,"",18,"",null,null,19182,null,"7-0   SJ  R  ASA",null,112,"",18,""]
[null,19732,null,"7-0   SJ  R  RPD",null,121,"",18,"",null,null,19738,null,"7-0   SJ  R  RPD",null,132,"",18,""]
[null,19161,null,"7-0   SJ  L  ASA",null,101,"",18,"",null,null,19183,null,"7-0   SJ  L  ASA",null,112,"",18,""]
[null,19733,null,"7-0   SJ  L  RPD",null,121,"",18,"",null,null,19739,null,"7-0   SJ  L  RPD",null,132,"",18,""]
[null,19164,null,"7-0   HJ  R  WH",null,111,"",19,"",null,null,19186,null,"7-0   HJ  R  WH",null,123,"",19,""]
[null,19165,null,"7-0   HJ  L  WH",null,111,"",19,"",null,null,19187,null,"7-0   HJ  L  WH",null,123,"",19,""]
[null,19166,null,"8-0   SJ  R  ASA",null,116,"",20,"",null,null,19740,null,"8-0   SJ  R  ASA",null,127,"",20,""]
[null,19734,null,"8-0   SJ  R  RPD",null,136,"",20,"",null,null,19741,null,"8-0   SJ  R  RPD",null,147,"",20,""]
[null,19167,null,"8-0   SJ  L  ASA",null,116,"",20,"",null,null,19742,null,"8-0   SJ  L  ASA",null,127,"",20,""]
[null,19735,null,"8-0   SJ  L  RPD",null,136,"",20,"",null,null,19743,null,"8-0   SJ  L  RPD",null,147,"",20,""]
[null,19168,null,"8-0   HJ  R  WH",null,136,"",21,"",null,null,19744,null,"8-0   HJ  R  WH",null,153,"",21,""]
[null,19169,null,"8-0   HJ  L  WH",null,136,"",21,"",null,null,19745,null,"8-0   HJ  L  WH",null,153,"",21,""]
[null,19756,null,"2-6    HEAD   ",null,45,"",6,"",null,null,19194,null,"2-6    HEAD   ",null,58,"",6,""]
[null,19757,null,"2-8    HEAD   ",null,45,"",7,"",null,null,19195,null,"2-8    HEAD   ",null,58,"",7,""]
[null,19174,null,"3-0    HEAD   ",null,45,"",8,"",null,null,19196,null,"3-0    HEAD   ",null,58,"",8,""]
[null,19758,null,"3-6    HEAD   ",null,56,"",9,"",null,null,19197,null,"3-6    HEAD   ",null,72,"",9,""]
[null,19759,null,"4-0    HEAD   ",null,56,"",10,"",null,null,19198,null,"4-0    HEAD   ",null,72,"",10,""]
[null,19760,null,"5-0    HEAD  D ",null,90,"",12,"",null,null,19766,null,"5-0    HEAD  D ",null,93,"",12,""]
[null,19177,null,"6-0    HEAD  D ",null,90,"",16,"",null,null,19199,null,"6-0    HEAD  D ",null,93,"",15,""]
[]
[]
["This is an official order - Please Sign:",null,null,null,null,null,null,null,null,null,null,null,null,"TOTAL WEIGHT",null,"TOTAL LIST $",null,"TOTAL NET $"]
[null,null,null,null,"Sheet",1,"of",1,null,null,"TOTALS (This page)",null,null,{"$f":"Wgt_658_4","v":0},null,{"$f":"List_658_4","v":0},null,{"$f":"(1-N5)*P37","v":0}]
[]
[]
[null,null,null,null,null,null,null,null,null,null,null,null,null,null,null,null,{"$f":"SUM(C9:C33)+SUM(M9:M33)","v":0},{"$f":"SUM(G9:G33)+SUM(Q9:Q33)","v":0},{"$f":"SUM(I9:I33)+SUM(S9:S33)","v":0}]

{"sheet":"Cat.658-4-814 Rev. 0420","index":9,"n_rows":40,"n_cols":19,"rows_kept":40,"cut":false,"hidden":false,"merged":[[35,0,35,3],[35,4,35,7],[35,13,35,14],[35,15,35,16],[35,17,35,18],[36,13,36,14],[36,15,36,16],[36,17,36,18],[2,14,4,15],[3,4,3,6],[3,7,3,10],[3,11,3,13],[4,4,4,6],[4,7,4,10],[1,0,1,3],[1,4,1,6],[1,7,1,10],[1,11,1,13],[2,0,2,3],[2,4,2,6],[2,7,2,10]]}
[null,null,null,null,"     SOLD TO:",null,null,"    SHIP TO:",null,null,null," CUST P.O. #",null,null,"SHIPPING INSTRUCTIONS",null,null,"LTL"]
["K16  -  SERIES 8 1/4\"",null,null,null,{"$f":"'Cat.658 Rev. 0420'!B17","v":0},null,null,{"$f":"'Cat.658 Rev. 0420'!H17","v":0},null,null,null,{"$f":"'Cat.658 Rev. 0420'!$O$5","v":0}]
["FRAME PARTS",null,null,null,{"$f":"'Cat.658 Rev. 0420'!B18","v":0},null,null,{"$f":"'Cat.658 Rev. 0420'!H18","v":0},null,null,null," ACCOUNT. #",null,null,{"$f":"'Cat.658 Rev. 0420'!$B$25","v":0},null,null,"POOL TRUCK"]
[null,null,null,null,{"$f":"'Cat.658 Rev. 0420'!B19","v":0},null,null,{"$f":"'Cat.658 Rev. 0420'!H19","v":0},null,null,null,{"$f":"'Cat.658 Rev. 0420'!$O$4","v":0}]
[null,null,null,null,{"$f":"'Cat.658 Rev. 0420'!$B$20","v":0},null,null,{"$f":"'Cat.658 Rev. 0420'!$H$20","v":0},null,null,null,"DISCOUNT %",null,{"$f":"'Cat.658 Rev. 0420'!$O$6","v":0},null,null,null,"OTHER"]
[]
["K16  -  8 1/4\" - NON-GALV, FRAME PARTS"]
[null,"Part #","Qty.","Description",null,"List Each","Total List","Wgt. Each","Total Wgt."]
[null,19236,null,"6-8   SJ  R  ASA",null,113,{"$f":"IF(C9>=1,C9*F9,\"\")","v":""},20,{"$f":"IF(C9>=1,C9*H9,\"\")","v":""},null,null,null,null,null,null,null,{"$f":"IF(M9>=1,M9*P9,\"\")","v":""},null,{"$f":"IF(M9>=1,M9*R9,\"\")","v":""}]
[null,19746,null,"6-8   SJ  R  RPD",null,133,"",20,"",null,null,null,null,null,null,null,"",null,{"$f":"IF(M10>=1,M10*R10,\"\")","v":""}]
[null,19237,null,"6-8   SJ  L  ASA",null,113,"",20,"",null,null,null,null,null,null,null,"",null,""]
[null,19747,null,"6-8   SJ  L  RPD",null,133,"",20,"",null,null,null,null,null,null,null,"",null,""]
[null,19238,null,"6-8   HJ  R  WH",null,128,"",21,"",null,null,null,null,null,null,null,"",null,""]
[null,19239,null,"6-8   HJ  L  WH",null,128,"",21,"",null,null,null,null,null,null,null,"",null,""]
[null,19240,null,"7-0   SJ  R  ASA",null,119,"",21,"",null,null,null,null,null,null,null,"",null,""]
[null,19748,null,"7-0   SJ  R  RPD",null,139,"",21,"",null,null,null,null,null,null,null,"",null,""]
[null,19241,null,"7-0   SJ  L  ASA",null,119,"",21,"",null,null,null,null,null,null,null,"",null,""]
[null,19749,null,"7-0   SJ  L  RPD",null,139,"",21,"",null,null,null,null,null,null,null,"",null,""]
[null,19242,null,"7-0   HJ  R  WH",null,133,"",22,"",null,null,null,null,null,null,null,"",null,""]
[null,19243,null,"7-0   HJ  L  WH",null,133,"",22,"",null,null,null,null,null,null,null,"",null,""]
[null,19750,null,"8-0   SJ  R  ASA",null,137,"",23,"",null,null,null,null,null,null,null,"",null,""]
[null,19751,null,"8-0   SJ  R  RPD",null,157,"",23,"",null,null,null,null,null,null,null,"",null,""]
[null,19752,null,"8-0   SJ  L  ASA",null,137,null,23,""]
[null,19753,null,"8-0   SJ  L  RPD",null,157,"",23,"",null,null,null,null,null,null,null,"",null,""]
[null,19754,null,"8-0   HJ  R  WH",null,161,"",24,"",null,null,null,null,null,null,null,"",null,""]
[null,19755,null,"8-0   HJ  L  WH",null,161,"",24,"",null,null,null,null,null,null,null,"",null,""]
[null,19768,null,"2-6    HEAD   ",null,69,"",7,"",null,null,null,null,null,null,null,"",null,""]
[null,19769,null,"2-8    HEAD   ",null,69,"",8,"",null,null,null,null,null,null,null,"",null,""]
[null,19252,null,"3-0    HEAD   ",null,69,"",9,"",null,null,null,null,null,null,null,"",null,""]
[null,19253,null,"3-6    HEAD   ",null,78,"",10,"",null,null,null,null,null,null,null,"",null,""]
[null,19254,null,"4-0    HEAD   ",null,78,"",11,"",null,null,null,null,null,null,null,"",null,""]
[null,19772,null,"5-0    HEAD  D ",null,108,"",14,"",null,null,null,null,null,null,null,"",null,""]
[null,19255,null,"6-0    HEAD  D ",null,108,"",17,"",null,null,null,null,null,null,null,"",null,""]
[]
[]
["This is an official order - Please Sign:",null,null,null,null,null,null,null,null,null,null,null,null,"TOTAL WEIGHT",null,"TOTAL LIST $",null,"TOTAL NET $"]
[null,null,null,null,"Sheet",1,"of",1,null,null,"TOTALS (This page)",null,null,{"$f":"Wgt_658_4_814","v":0},null,{"$f":"List_658_4_814","v":0},null,{"$f":"(1-N5)*P37","v":0}]
[]
[]
[null,null,null,null,null,null,null,null,null,null,null,null,null,null,null,null,{"$f":"SUM(C9:C33)","v":0},{"$f":"SUM(G9:G33)","v":0},{"$f":"SUM(I9:I33)","v":0}]

{"sheet":"Cat.658-7-68-Rev. 0420","index":10,"n_rows":40,"n_cols":19,"rows_kept":40,"cut":false,"hidden":false,"merged":[[34,4,34,7],[34,13,34,14],[34,15,34,16],[34,17,34,18],[35,13,35,14],[35,15,35,16],[35,17,35,18],[2,14,4,15],[3,4,3,6],[3,7,3,10],[3,11,3,13],[4,4,4,6],[4,7,4,10],[1,0,1,3],[1,4,1,6],[1,7,1,10],[1,11,1,13],[2,0,2,3],[2,4,2,6],[2,7,2,10]]}
[null,null,null,null,"     SOLD TO:",null,null,"    SHIP TO:",null,null,null," CUST P.O. #",null,null,"SHIPPING INSTRUCTIONS",null,null,"LTL"]
["L-18 SERIES",null,null,null,{"$f":"'Cat.658 Rev. 0420'!B17","v":0},null,null,{"$f":"'Cat.658 Rev. 0420'!H17","v":0},null,null,null,{"$f":"'Cat.658 Rev. 0420'!$O$5","v":0}]
["6'8\" FLUSH DOORS",null,null,null,{"$f":"'Cat.658 Rev. 0420'!B18","v":0},null,null,{"$f":"'Cat.658 Rev. 0420'!H18","v":0},null,null,null," ACCOUNT. #",null,null,{"$f":"'Cat.658 Rev. 0420'!$B$25","v":0},null,null,"POOL TRUCK"]
[null,null,"NON-GALV, HONEYCOMB",null,{"$f":"'Cat.658 Rev. 0420'!B19","v":0},null,null,{"$f":"'Cat.658 Rev. 0420'!H19","v":0},null,null,null,{"$f":"'Cat.658 Rev. 0420'!$O$4","v":0}]
[null,null,null,null,{"$f":"'Cat.658 Rev. 0420'!$B$20","v":0},null,null,{"$f":"'Cat.658 Rev. 0420'!$H$20","v":0},null,null,null,"DISCOUNT %",null,{"$f":"'Cat.658 Rev. 0420'!$O$6","v":0},null,null,null,"OTHER"]
[]
["2'6\" WIDE",null,null,null,null,null,null,null,null,null,"2'8\" WIDE"]
[null,"Part #","Qty.","Description",null,"List Each","Total List","Wgt. Each","Total Wgt.",null,null,"Part #","Qty.","Description",null,"List Each","Total List","Wgt. Each","Total Wgt."]
[null,19606,null,"2668 F R/LHR   161 C WH",null,719,{"$f":"IF(C9>=1,C9*F9,\"\")","v":""},80,{"$f":"IF(C9>=1,C9*H9,\"\")","v":""},null,null,19612,null,"2868 F R/LHR   161 C WH",null,719,{"$f":"IF(M9>=1,M9*P9,\"\")","v":""},84,{"$f":"IF(M9>=1,M9*R9,\"\")","v":""}]
[null,19607,null,"2668 F L/RHR 161 C WH",null,719,"",80,"",null,null,19613,null,"2868 F L/RHR 161 C WH",null,719,"",84,""]
[null,19608,null,"2668 F R/LHR   86ED C WH",null,719,"",80,"",null,null,19614,null,"2868 F R/LHR   86ED C WH",null,719,"",84,""]
[null,19609,null,"2668 F L/RHR 86ED C WH",null,719,"",80,"",null,null,19615,null,"2868 F L/RHR 86ED C WH",null,719,"",84,""]
[null,19610,null,"2668 F R/LHR   RPD C WH",null,759,"",80,"",null,null,19616,null,"2868 F R/LHR   RPD C WH",null,759,"",84,""]
[null,19611,null,"2668 F L/RHR RPD C WH",null,759,"",80,"",null,null,19617,null,"2868 F L/RHR RPD C WH",null,759,"",84,""]
[]
[null,null,null,null,null,null,null,null,null,null,"3'0\" WIDE"]
[null,"Part #","Qty.","Description",null,"List Each","Total List","Wgt. Each","Total Wgt.",null,null,"Part #","Qty.","Description",null,"List Each","Total List","Wgt. Each","Total Wgt."]
[null,"066",null,"3068 F R/LHR   161 C WH",null,725,{"$f":"IF(C18>=1,C18*F18,\"\")","v":""},{"$f":"95+6","v":101},{"$f":"IF(C18>=1,C18*H18,\"\")","v":""},null,null,"076",null,"3068 F R/LHR   86ED C WH",null,725,{"$f":"IF(M18>=1,M18*P18,\"\")","v":""},{"$f":"95+6","v":101},{"$f":"IF(M18>=1,M18*R18,\"\")","v":""}]
[null,"067",null,"3068 F L/RHR 161 C WH",null,725,{"$f":"IF(C19>=1,C19*F19,\"\")","v":""},{"$f":"95+6","v":101},{"$f":"IF(C19>=1,C19*H19,\"\")","v":""},null,null,"077",null,"3068 F L/RHR 86ED C WH",null,725,{"$f":"IF(M19>=1,M19*P19,\"\")","v":""},101,{"$f":"IF(M19>=1,M19*R19,\"\")","v":""}]
[null,"036",null,"3068 F R/LHR   61L C WH",null,725,{"$f":"IF(C20>=1,C20*F20,\"\")","v":""},101,{"$f":"IF(C20>=1,C20*H20,\"\")","v":""},null,null,7602,null,"3068 F R/LHR   RPD C WH",null,765,{"$f":"IF(M20>=1,M20*P20,\"\")","v":""},113,{"$f":"IF(M20>=1,M20*R20,\"\")","v":""}]
[null,"037",null,"3068 F L/RHR 61L C WH",null,725,{"$f":"IF(C21>=1,C21*F21,\"\")","v":""},101,{"$f":"IF(C21>=1,C21*H21,\"\")","v":""},null,null,7603,null,"3068 F L/RHR RPD C WH",null,765,{"$f":"IF(M21>=1,M21*P21,\"\")","v":""},113,{"$f":"IF(M21>=1,M21*R21,\"\")","v":""}]
[]
["3'6\" WIDE",null,null,null,null,null,null,null,null,null,"4'0\" WIDE"]
[null,"Part #","Qty.","Description",null,"List Each","Total List","Wgt. Each","Total Wgt.",null,null,"Part #","Qty.","Description",null,"List Each","Total List","Wgt. Each","Total Wgt."]
[null,19618,null,"3668 F R/LHR   161 C WH",null,866,{"$f":"IF(C25>=1,C25*F25,\"\")","v":""},106,{"$f":"IF(C25>=1,C25*H25,\"\")","v":""},null,null,19624,null,"4068 F R/LHR   161 C WH",null,951,{"$f":"IF(M25>=1,M25*P25,\"\")","v":""},120,{"$f":"IF(M25>=1,M25*R25,\"\")","v":""}]
[null,19619,null,"3668 F L/RHR 161 C WH",null,866,"",106,"",null,null,19625,null,"4068 F L/RHR 161 C WH",null,951,"",120,""]
[null,19620,null,"3668 F R/LHR   86ED C WH",null,866,"",106,"",null,null,19626,null,"4068 F R/LHR   86ED C WH",null,951,{"$f":"IF(M27>=1,M27*P27,\"\")","v":""},120,{"$f":"IF(M27>=1,M27*R27,\"\")","v":""}]
[null,19621,null,"3668 F L/RHR 86ED C WH",null,866,"",106,"",null,null,19627,null,"4068 F L/RHR 86ED C WH",null,951,{"$f":"IF(M28>=1,M28*P28,\"\")","v":""},120,{"$f":"IF(M28>=1,M28*R28,\"\")","v":""}]
[null,19622,null,"3668 F R/LHR   RPD C WH",null,906,"",106,"",null,null,19628,null,"4068 F R/LHR   RPD C WH",null,991,{"$f":"IF(M29>=1,M29*P29,\"\")","v":""},120,{"$f":"IF(M29>=1,M29*R29,\"\")","v":""}]
[null,19623,null,"3668 F L/RHR RPD C WH",null,906,"",106,"",null,null,19629,null,"4068 F L/RHR RPD C WH",null,991,"",120,""]
[]
[]
[]
[]
["This is an official order - Please Sign:",null,null,null,null,null,null,null,null,null,null,null,null,"TOTAL WEIGHT",null,"TOTAL LIST $",null,"TOTAL NET $"]
[null,null,null,null,"Sheet",null,"of",null,null,null,"TOTALS (This page)",null,null,{"$f":"Wgt_658_7_68_","v":0},null,{"$f":"LIst_658_7_68_","v":0},null,{"$f":"(1-N5)*P36","v":0}]
[]
[]
[]
[null,null,null,null,null,null,null,null,null,null,null,null,null,null,null,null,{"$f":"SUM(C9:C30)+SUM(M9:M30)","v":0},{"$f":"SUM(G9:G30)+SUM(Q9:Q30)","v":0},{"$f":"SUM(I9:I30)+SUM(S9:S30)","v":0}]

{"sheet":"Cat.658-7-70-Rev. 0420","index":11,"n_rows":48,"n_cols":19,"rows_kept":48,"cut":false,"hidden":false,"merged":[[42,4,42,7],[42,13,42,14],[42,15,42,16],[42,17,42,18],[43,13,43,14],[43,15,43,16],[43,17,43,18],[2,14,4,15],[3,4,3,6],[3,7,3,10],[3,11,3,13],[4,4,4,6],[4,7,4,10],[1,0,1,3],[1,4,1,6],[1,7,1,10],[1,11,1,13],[2,0,2,3],[2,4,2,6],[2,7,2,10]]}
[null,null,null,null,"     SOLD TO:",null,null,"    SHIP TO:",null,null,null," CUST P.O. #",null,null,"SHIPPING INSTRUCTIONS",null,null,"LTL"]
["L-18 and L-16 SERIES",null,null,null,{"$f":"'Cat.658 Rev. 0420'!B17","v":0},null,null,{"$f":"'Cat.658 Rev. 0420'!H17","v":0},null,null,null,{"$f":"'Cat.658 Rev. 0420'!$O$5","v":0}]
["7'0\" FLUSH DOORS",null,null,null,{"$f":"'Cat.658 Rev. 0420'!B18","v":0},null,null,{"$f":"'Cat.658 Rev. 0420'!H18","v":0},null,null,null," ACCOUNT. #",null,null,{"$f":"'Cat.658 Rev. 0420'!$B$25","v":0},null,null,"POOL TRUCK"]
[null,null,null,null,{"$f":"'Cat.658 Rev. 0420'!B19","v":0},null,null,{"$f":"'Cat.658 Rev. 0420'!H19","v":0},null,null,null,{"$f":"'Cat.658 Rev. 0420'!$O$4","v":0}]
[null,null,null,null,{"$f":"'Cat.658 Rev. 0420'!$B$20","v":0},null,null,{"$f":"'Cat.658 Rev. 0420'!$H$20","v":0},null,null,null,"DISCOUNT %",null,{"$f":"'Cat.658 Rev. 0420'!$O$6","v":0},null,null,null,"OTHER"]
[]
["2'6\" WIDE, L-18, NON-GALV, HONEYCOMB,  WARNOCK HERSEY",null,null,null,null,null,null,null,null,null,"2'8\" WIDE, L-18, NON-GALV, HONEYCOMB,  (WH) WARNOCK HERSEY"]
[null,"Part #","Qty.","Description",null,"List Each","Total List","Wgt. Each","Total Wgt.",null,null,"Part #","Qty.","Description",null,"List Each","Total List","Wgt. Each","Total Wgt."]
[null,19630,null,"2670 F R/LHR   161 C  ",null,745,{"$f":"IF(C9>=1,C9*F9,\"\")","v":""},83,{"$f":"IF(C9>=1,C9*H9,\"\")","v":""},null,null,19636,null,"2870 F R/LHR   161 C  ",null,745,{"$f":"IF(M9>=1,M9*P9,\"\")","v":""},88,{"$f":"IF(M9>=1,M9*R9,\"\")","v":""}]
[null,19631,null,"2670 F L/RHR 161 C  ",null,745,"",83,"",null,null,19637,null,"2870 F L/RHR 161 C  ",null,745,"",88,""]
[null,19632,null,"2670 F R/LHR   86ED C  ",null,745,"",83,"",null,null,19638,null,"2870 F R/LHR   86ED C  ",null,745,"",88,""]
[null,19633,null,"2670 F L/RHR 86ED C  ",null,745,"",83,"",null,null,19639,null,"2870 F L/RHR 86ED C  ",null,745,"",88,""]
[null,19634,null,"2670 F R/LHR   RPD C  ",null,784,"",83,"",null,null,19640,null,"2870 F R/LHR   RPD C  ",null,784,"",88,""]
[null,19635,null,"2670 F L/RHR RPD C  ",null,784,"",83,"",null,null,19641,null,"2870 F L/RHR RPD C  ",null,784,"",88,""]
[]
[null,null,null,null,null,null,null,null,null,null,"3'0\" WIDE,  (WH) WARNOCK HERSEY MYLAR LABEL"]
["L-18, NON-GALV, HONEYCOMB",null,null,null,null,null,null,null,null,null,"GALVANNEALED, POLYSTYRENE CORE"]
[null,"Part #","Qty.","Description",null,"List Each","Total List","Wgt. Each","Total Wgt.",null,null,"Part #","Qty.","Description",null,"List Each","Total List","Wgt. Each","Total Wgt."]
[null,"068",null,"3070 F R/LHR   161 C  ",null,749,{"$f":"IF(C19>=1,C19*F19,\"\")","v":""},{"$f":"97+6","v":103},{"$f":"IF(C19>=1,C19*H19,\"\")","v":""},null,null,"L-18"]
[null,"069",null,"3070 F L/RHR 161 C  ",null,749,{"$f":"IF(C20>=1,C20*F20,\"\")","v":""},{"$f":"97+6","v":103},{"$f":"IF(C20>=1,C20*H20,\"\")","v":""},null,null,"090",null,"3070 F R/LHR   161 C  ",null,866,{"$f":"IF(M20>=1,M20*P20,\"\")","v":""},103,{"$f":"IF(M20>=1,M20*R20,\"\")","v":""}]
[null,"038",null,"3070 F R/LHR   61L C  ",null,749,{"$f":"IF(C21>=1,C21*F21,\"\")","v":""},103,{"$f":"IF(C21>=1,C21*H21,\"\")","v":""},null,null,"091",null,"3070 F L/RHR 161 C  ",null,866,{"$f":"IF(M21>=1,M21*P21,\"\")","v":""},103,{"$f":"IF(M21>=1,M21*R21,\"\")","v":""}]
[null,"039",null,"3070 F L/RHR 61L C  ",null,749,"",103,"",null,null,"084",null,"3070 F R/LHR   86ED C  ",null,866,{"$f":"IF(M22>=1,M22*P22,\"\")","v":""},103,{"$f":"IF(M22>=1,M22*R22,\"\")","v":""}]
[null,"082",null,"3070 F R/LHR   86ED C  ",null,749,"",103,"",null,null,"085",null,"3070 F L/RHR 86ED C  ",null,866,"",103,""]
[null,"083",null,"3070 F L/RHR 86ED C  ",null,749,"",103,"",null,null,"092",null,"3070 F R/LHR   RPD C  ",null,905,"",97,""]
[null,"088",null,"3070 F R/LHR   RPD C  ",null,788,"",115,"",null,null,"093",null,"3070 F L/RHR RPD C  ",null,905,"",97,""]
[null,"089",null,"3070 F L/RHR RPD C  ",null,788,"",115,"",null,null,"L-18, DOWNSIZED for Continuous Hinge, 5/16\" Undersized"]
[null,"INACTIVE",null,null,null,null,null,null,null,null,null,19642,null,"3070 F R/LHR   RPD C  ",null,905,"",96,""]
[null,7619,null,"3070 F R/LHR C ASA & FB  ",null,835,"",103,"",null,null,19643,null,"3070 F L/RHR RPD C  ",null,905,"",96,""]
[null,7620,null,"3070 F L/RHR C ASA & FB  ",null,835,"",103,"",null,null,"L-16"]
[null,"WIDE INACTIVE",null,null,null,null,null,null,null,null,null,19668,null,"3070 F R/LHR   RPD C  ",null,1034,"",118,""]
[null,19687,null,"3070 F R/LHR C ASA FB W/ TABS  ",null,835,{"$f":"IF(C31>=1,C31*F31,\"\")","v":""},80,{"$f":"IF(C31>=1,C31*H31,\"\")","v":""},null,null,19669,null,"3070 F L/RHR RPD C  ",null,1034,"",118,""]
[null,19688,null,"3070 F L/RHR C ASA FB W/ TABS  ",null,835,{"$f":"IF(C32>=1,C32*F32,\"\")","v":""},80,{"$f":"IF(C32>=1,C32*H32,\"\")","v":""}]
[]
["3'6\" WIDE, L-18, NON-GALV, HONEYCOMB, (WH) WARNOCK HERSEY",null,null,null,null,null,null,null,null,null,"4'0\" WIDE, L-18, NON-GALV, HONEYCOMB,  (WH) WARNOCK HERSEY"]
[null,"Part #","Qty.","Description",null,"List Each","Total List","Wgt. Each","Total Wgt.",null,null,"Part #","Qty.","Description",null,"List Each","Total List","Wgt. Each","Total Wgt."]
[null,"064",null,"3670 F R/LHR   161 C  ",null,900,{"$f":"IF(C36>=1,C36*F36,\"\")","v":""},118,{"$f":"IF(C36>=1,C36*H36,\"\")","v":""},null,null,156,null,"4070 F R/LHR   161 C  ",null,990,{"$f":"IF(M36>=1,M36*P36,\"\")","v":""},133,{"$f":"IF(M36>=1,M36*R36,\"\")","v":""}]
[null,"065",null,"3670 F L/RHR 161 C  ",null,900,"",118,"",null,null,157,null,"4070 F L/RHR 161 C  ",null,990,"",133,""]
[null,19672,null,"3670 F R/LHR   86ED C  ",null,900,"",111,"",null,null,7630,null,"4070 F R/LHR   86ED C  ",null,990,"",133,""]
[null,19673,null,"3670 F L/RHR 86ED C  ",null,900,"",111,"",null,null,7631,null,"4070 F L/RHR 86ED C  ",null,990,"",133,""]
[null,19670,null,"3670 F R/LHR   RPD C  ",null,939,"",111,"",null,null,19680,null,"4070 F R/LHR   RPD C  ",null,1029,"",125,""]
[null,19671,null,"3670 F L/RHR RPD C  ",null,939,"",111,"",null,null,19681,null,"4070 F L/RHR RPD C  ",null,1029,"",125,""]
[]
["This is an official order - Please Sign:",null,null,null,null,null,null,null,null,null,null,null,null,"TOTAL WEIGHT",null,"TOTAL LIST $",null,"TOTAL NET $"]
[null,null,null,null,"Sheet",null,"of",null,null,null,"TOTALS (This page)",null,null,{"$f":"Wgt_658_7_70_","v":0},null,{"$f":"List_658_7_70_","v":0},null,{"$f":"(1-N5)*P44","v":0}]
[]
[]
[]
[null,null,null,null,null,null,null,null,null,null,null,null,null,null,null,null,{"$f":"SUM(C9:C41)+SUM(M9:M41)","v":0},{"$f":"SUM(G9:G41)+SUM(Q9:Q41)","v":0},{"$f":"SUM(I9:I41)+SUM(S9:S41)","v":0}]

{"sheet":"Cat.658-7-80-Rev. 0420","index":12,"n_rows":42,"n_cols":19,"rows_kept":42,"cut":false,"hidden":false,"merged":[[1,0,1,3],[1,4,1,6],[1,7,1,10],[1,11,1,13],[2,0,2,3],[2,4,2,6],[2,7,2,10],[2,14,4,15],[3,4,3,6],[3,7,3,10],[3,11,3,13],[4,4,4,6],[4,7,4,10],[36,4,36,7],[36,13,36,14],[36,15,36,16],[36,17,36,18],[37,13,37,14],[37,15,37,16],[37,17,37,18]]}
[null,null,null,null,"     SOLD TO:",null,null,"    SHIP TO:",null,null,null," CUST P.O. #",null,null,"SHIPPING INSTRUCTIONS",null,null,"LTL"]
["L-18 SERIES",null,null,null,{"$f":"'Cat.658 Rev. 0420'!B17","v":0},null,null,{"$f":"'Cat.658 Rev. 0420'!H17","v":0},null,null,null,{"$f":"'Cat.658 Rev. 0420'!$O$5","v":0}]
["8'0\" FLUSH DOORS",null,null,null,{"$f":"'Cat.658 Rev. 0420'!B18","v":0},null,null,{"$f":"'Cat.658 Rev. 0420'!H18","v":0},null,null,null," ACCOUNT. #",null,null,{"$f":"'Cat.658 Rev. 0420'!$B$25","v":0},null,null,"POOL TRUCK"]
[null,null,"NON-GALV, HONEYCOMB",null,{"$f":"'Cat.658 Rev. 0420'!B19","v":0},null,null,{"$f":"'Cat.658 Rev. 0420'!H19","v":0},null,null,null,{"$f":"'Cat.658 Rev. 0420'!$O$4","v":0}]
[null,null,null,null,{"$f":"'Cat.658 Rev. 0420'!$B$20","v":0},null,null,{"$f":"'Cat.658 Rev. 0420'!$H$20","v":0},null,null,null,"DISCOUNT %",null,{"$f":"'Cat.658 Rev. 0420'!$O$6","v":0},null,null,null,"OTHER"]
[]
["2'6\" WIDE",null,null,null,null,null,null,null,null,null,"2'8\" WIDE"]
[null,"Part #","Qty.","Description",null,"List Each","Total List","Wgt. Each","Total Wgt.",null,null,"Part #","Qty.","Description",null,"List Each","Total List","Wgt. Each","Total Wgt."]
[null,19644,null,"2680 F R/LHR   161 C WH",null,990,{"$f":"IF(C9>=1,C9*F9,\"\")","v":""},93,{"$f":"IF(C9>=1,C9*H9,\"\")","v":""},null,null,19650,null,"2880 F R/LHR   161 C WH",null,990,{"$f":"IF(M9>=1,M9*P9,\"\")","v":""},98,{"$f":"IF(M9>=1,M9*R9,\"\")","v":""}]
[null,19645,null,"2680 F L/RHR 161 C WH",null,990,"",93,"",null,null,19651,null,"2880 F L/RHR 161 C WH",null,990,"",98,""]
[null,19646,null,"2680 F R/LHR   86ED C WH",null,990,"",93,"",null,null,19652,null,"2880 F R/LHR   86ED C WH",null,990,"",98,""]
[null,19647,null,"2680 F L/RHR 86ED C WH",null,990,"",93,"",null,null,19653,null,"2880 F L/RHR 86ED C WH",null,990,"",98,""]
[null,19648,null,"2680 F R/LHR   RPD C WH",null,1030,"",93,"",null,null,19654,null,"2880 F R/LHR   RPD C WH",null,1030,"",98,""]
[null,19649,null,"2680 F L/RHR RPD C WH",null,1030,"",93,"",null,null,19655,null,"2880 F L/RHR RPD C WH",null,1030,"",98,""]
[]
["3'0\" WIDE"]
[null,"Part #","Qty.","Description",null,"List Each","Total List","Wgt. Each","Total Wgt."]
[null,19674,null,"3080 F R/LHR   161 C WH",null,1015,{"$f":"IF(C18>=1,C18*F18,\"\")","v":""},109,{"$f":"IF(C18>=1,C18*H18,\"\")","v":""}]
[null,19675,null,"3080 F L/RHR 161 C WH",null,1015,{"$f":"IF(C19>=1,C19*F19,\"\")","v":""},109,{"$f":"IF(C19>=1,C19*H19,\"\")","v":""}]
[null,19676,null,"3080 F R/LHR   86ED C WH",null,1015,{"$f":"IF(C20>=1,C20*F20,\"\")","v":""},109,{"$f":"IF(C20>=1,C20*H20,\"\")","v":""}]
[null,19677,null,"3080 F L/RHR 86ED C WH",null,1015,"",109,""]
[null,19678,null,"3080 F R/LHR   RPD C WH",null,1055,{"$f":"IF(C22>=1,C22*F22,\"\")","v":""},109,{"$f":"IF(C22>=1,C22*H22,\"\")","v":""}]
[null,19679,null,"3080 F L/RHR RPD C WH",null,1055,{"$f":"IF(C23>=1,C23*F23,\"\")","v":""},109,{"$f":"IF(C23>=1,C23*H23,\"\")","v":""}]
[]
["3'6\" WIDE",null,null,null,null,null,null,null,null,null,"4'0\" WIDE"]
[null,"Part #","Qty.","Description",null,"List Each","Total List","Wgt. Each","Total Wgt.",null,null,"Part #","Qty.","Description",null,"List Each","Total List","Wgt. Each","Total Wgt."]
[null,19656,null,"3680 F R/LHR   161 C WH",null,1133,{"$f":"IF(C27>=1,C27*F27,\"\")","v":""},125,{"$f":"IF(C27>=1,C27*H27,\"\")","v":""},null,null,19662,null,"4080 F R/LHR   161 C WH",null,1219,{"$f":"IF(M27>=1,M27*P27,\"\")","v":""},141,{"$f":"IF(M27>=1,M27*R27,\"\")","v":""}]
[null,19657,null,"3680 F L/RHR 161 C WH",null,1133,"",125,"",null,null,19663,null,"4080 F L/RHR 161 C WH",null,1219,"",141,""]
[null,19658,null,"3680 F R/LHR   86ED C WH",null,1133,"",125,"",null,null,19664,null,"4080 F R/LHR   86ED C WH",null,1219,{"$f":"IF(M29>=1,M29*P29,\"\")","v":""},141,{"$f":"IF(M29>=1,M29*R29,\"\")","v":""}]
[null,19659,null,"3680 F L/RHR 86ED C WH",null,1133,"",125,"",null,null,19665,null,"4080 F L/RHR 86ED C WH",null,1219,{"$f":"IF(M30>=1,M30*P30,\"\")","v":""},141,{"$f":"IF(M30>=1,M30*R30,\"\")","v":""}]
[null,19660,null,"3680 F R/LHR   RPD C WH",null,1173,"",125,"",null,null,19666,null,"4080 F R/LHR   RPD C WH",null,1259,{"$f":"IF(M31>=1,M31*P31,\"\")","v":""},141,{"$f":"IF(M31>=1,M31*R31,\"\")","v":""}]
[null,19661,null,"3680 F L/RHR RPD C WH",null,1173,"",125,"",null,null,19667,null,"4080 F L/RHR RPD C WH",null,1259,"",141,""]
[]
[]
[]
[]
["This is an official order - Please Sign:",null,null,null,null,null,null,null,null,null,null,null,null,"TOTAL WEIGHT",null,"TOTAL LIST $",null,"TOTAL NET $"]
[null,null,null,null,"Sheet",null,"of",null,null,null,"TOTALS (This page)",null,null,{"$f":"Wgt_658_7_80_","v":0},null,{"$f":"List_658_7_80_","v":0},null,{"$f":"(1-N5)*P38","v":0}]
[]
[]
[]
[null,null,null,null,null,null,null,null,null,null,null,null,null,null,null,null,{"$f":"SUM(C9:C32)+SUM(M9:M32)","v":0},{"$f":"SUM(G9:G32)+SUM(Q9:Q32)","v":0},{"$f":"SUM(I9:I32)+SUM(S9:S32)","v":0}]

{"sheet":"Cat.658-8-Rev. 0420","index":13,"n_rows":24,"n_cols":19,"rows_kept":24,"cut":false,"hidden":false,"merged":[[19,13,19,14],[19,15,19,16],[19,17,19,18],[7,0,7,18],[12,0,12,18],[18,4,18,7],[18,13,18,14],[18,15,18,16],[18,17,18,18],[2,14,4,15],[3,4,3,6],[3,7,3,10],[3,11,3,13],[4,4,4,6],[4,7,4,10],[1,0,1,3],[1,4,1,6],[1,7,1,10],[1,11,1,13],[2,0,2,3],[2,4,2,6],[2,7,2,10]]}
[null,null,null,null,"     SOLD TO:",null,null,"    SHIP TO:",null,null,null," CUST P.O. #",null,null,"SHIPPING INSTRUCTIONS",null,null,"LTL"]
["SL -  SERIES",null,null,null,{"$f":"'Cat.658 Rev. 0420'!B17","v":0},null,null,{"$f":"'Cat.658 Rev. 0420'!H17","v":0},null,null,null,{"$f":"'Cat.658 Rev. 0420'!$O$5","v":0}]
["DOORS",null,null,null,{"$f":"'Cat.658 Rev. 0420'!B18","v":0},null,null,{"$f":"'Cat.658 Rev. 0420'!H18","v":0},null,null,null," ACCOUNT. #",null,null,{"$f":"'Cat.658 Rev. 0420'!$B$25","v":0},null,null,"POOL TRUCK"]
[null,null,null,null,{"$f":"'Cat.658 Rev. 0420'!B19","v":0},null,null,{"$f":"'Cat.658 Rev. 0420'!H19","v":0},null,null,null,{"$f":"'Cat.658 Rev. 0420'!$O$4","v":0}]
[null,null,null,null,{"$f":"'Cat.658 Rev. 0420'!$B$20","v":0},null,null,{"$f":"'Cat.658 Rev. 0420'!$H$20","v":0},null,null,null,"DISCOUNT %",null,{"$f":"'Cat.658 Rev. 0420'!$O$6","v":0},null,null,null,"OTHER"]
[]
[]
["SL18 FLUSH - SQUARE EDGE, NON-GALV, HONEYCOMB CORE 6' 8\" HIGH"]
[null,"Part #","Qty.","Description",null,"List Each","Total List","Wgt. Each","Total Wgt.",null,null,"Part #","Qty.","Description",null,"List Each","Total List","Wgt. Each","Total Wgt."]
[null,19682,null,"3068 F R/L RPD  C  WH",null,765,{"$f":"IF(C10>=1,C10*F10,\"\")","v":""},93,{"$f":"IF(C10>=1,C10*H10,\"\")","v":""},null,null,87150,null,"3068 F R/L 161  C  WH",null,725,{"$f":"IF(M10>=1,M10*P10,\"\")","v":""},93,{"$f":"IF(M10>=1,M10*R10,\"\")","v":""}]
[null,19683,null,"3068 F R/L 86ED  C  WH",null,725,{"$f":"IF(C11>=1,C11*F11,\"\")","v":""},93,{"$f":"IF(C11>=1,C11*H11,\"\")","v":""}]
[]
["SL18 FLUSH - SQUARE EDGE, NON-GALV, HONEYCOMB CORE 7' 0\" HIGH "]
[null,"Part #","Qty.","Description",null,"List Each","Total List","Wgt. Each","Total Wgt.",null,null,"Part #","Qty.","Description",null,"List Each","Total List","Wgt. Each","Total Wgt."]
[null,19684,null,"3070 F R/L RPD  C  WH",null,777,{"$f":"IF(C15>=1,C15*F15,\"\")","v":""},97,{"$f":"IF(C15>=1,C15*H15,\"\")","v":""},null,null,87300,null,"3070 F R/L 161  C  WH",null,737,{"$f":"IF(M15>=1,M15*P15,\"\")","v":""},97,{"$f":"IF(M15>=1,M15*R15,\"\")","v":""}]
[null,87310,null,"3070 F R/L 86ED  C  WH",null,737,{"$f":"IF(C16>=1,C16*F16,\"\")","v":""},97,{"$f":"IF(C16>=1,C16*H16,\"\")","v":""}]
[]
[]
["This is an official order - Please Sign:",null,null,null,null,null,null,null,null,null,null,null,null,"TOTAL WEIGHT",null,"TOTAL LIST $",null,"TOTAL NET $"]
[null,null,null,null,"Sheet",null,"of",null,null,null,"TOTALS (This page)",null,null,{"$f":"Wgt_658_8_","v":0},null,{"$f":"List_658_8_","v":0},null,{"$f":"(1-N5)*P20","v":0}]
[]
[]
[]
[null,null,null,null,null,null,null,null,null,null,null,null,null,null,null,null,{"$f":"SUM(C10:C16)+SUM(M10:M15)","v":0},{"$f":"SUM(G10:G16)+SUM(Q10:Q15)","v":0},{"$f":"SUM(I10:I16)+SUM(S10:S15)","v":0}]

{"sheet":"Cat.658-9-Rev. 0420","index":14,"n_rows":36,"n_cols":19,"rows_kept":36,"cut":false,"hidden":false,"merged":[[31,13,31,14],[31,15,31,16],[31,17,31,18],[30,4,30,7],[30,13,30,14],[30,15,30,16],[30,17,30,18],[2,14,4,15],[3,4,3,6],[3,7,3,10],[3,11,3,13],[4,4,4,6],[4,7,4,10],[3,0,3,3],[1,0,1,3],[1,4,1,6],[1,7,1,10],[1,11,1,13],[2,0,2,3],[2,4,2,6],[2,7,2,10]]}
[null,null,null,null,"     SOLD TO:",null,null,"    SHIP TO:",null,null,null," CUST P.O. #",null,null,"SHIPPING INSTRUCTIONS",null,null,"LTL"]
["SZ18 -  SERIES",null,null,null,{"$f":"'Cat.658 Rev. 0420'!B17","v":0},null,null,{"$f":"'Cat.658 Rev. 0420'!H17","v":0},null,null,null,{"$f":"'Cat.658 Rev. 0420'!$O$5","v":0}]
["FLUSH DOORS",null,null,null,{"$f":"'Cat.658 Rev. 0420'!B18","v":0},null,null,{"$f":"'Cat.658 Rev. 0420'!H18","v":0},null,null,null," ACCOUNT. #",null,null,{"$f":"'Cat.658 Rev. 0420'!$B$25","v":0},null,null,"POOL TRUCK"]
["SQUARE EDGE",null,null,null,{"$f":"'Cat.658 Rev. 0420'!B19","v":0},null,null,{"$f":"'Cat.658 Rev. 0420'!H19","v":0},null,null,null,{"$f":"'Cat.658 Rev. 0420'!$O$4","v":0}]
[null,null,null,null,{"$f":"'Cat.658 Rev. 0420'!$B$20","v":0},null,null,{"$f":"'Cat.658 Rev. 0420'!$H$20","v":0},null,null,null,"DISCOUNT %",null,{"$f":"'Cat.658 Rev. 0420'!$O$6","v":0},null,null,null,"OTHER"]
[]
[]
[null,null,null,null,"SZ18 FLUSH - SQUARE EDGE, NON-Handed, HONEYCOMB CORE 6' 8\" HIGH"]
["GALV, POLYSYRENE",null,null,null,null,null,null,null,null,null,"NON-GALV"]
["Qty.","Part #","Description",null,null,"Weight","Unit List","20 Pak Unit List","Ext. List",null,"Qty.","Part #","Description",null,null,"Weight","Unit List","20 Pak Unit List","Ext. List"]
[null,"SZ002","3068 F R/L RPD C WH",null,null,92,530,503.5,{"$f":"((A11-(INT(A11/20)*20))*G11)+((INT(A11/20)*20)*H11)","v":0},null,null,"SZ006","3068 F R/L RPD C WH",null,null,92,478,454.1,{"$f":"((K11-(INT(K11/20)*20))*Q11)+((INT(K11/20)*20)*R11)","v":0}]
[null,"SZ003","3068 F R/L 86ED C WH",null,null,92,490,465.5,{"$f":"((A12-(INT(A12/20)*20))*G12)+((INT(A12/20)*20)*H12)","v":0},null,null,"SZ007","3068 F R/L 86ED C WH",null,null,92,438,416.1,{"$f":"((K12-(INT(K12/20)*20))*Q12)+((INT(K12/20)*20)*R12)","v":0}]
[null,"SZ004","3068 F R/L 161 C WH",null,null,92,490,465.5,0,null,null,"SZ008","3068 F R/L 161 C WH",null,null,92,438,416.1,0]
[]
[null,null,null,null,"SZ18 FLUSH - SQUARE EDGE, NON-Handed, HONEYCOMB CORE 7' 0\" HIGH"]
["GALV, POLYSYRENE",null,null,null,null,null,null,null,null,null,"NON-GALV"]
["Qty.","Part #","Description",null,null,"Weight","Unit List","20 Pak Unit List","Ext. List",null,"Qty.","Part #","Description",null,null,"Weight","Unit List","20 Pak Unit List","Ext. List"]
[null,"SZ010","3070 F R/L 61L C WH",null,null,95,508,482.6,{"$f":"((A18-(INT(A18/20)*20))*G18)+((INT(A18/20)*20)*H18)","v":0},null,null,"SZ015","3070 F R/L RPD C WH",null,null,95,494,469.3,{"$f":"((K18-(INT(K18/20)*20))*Q18)+((INT(K18/20)*20)*R18)","v":0}]
[null,"SZ011","3070 F R/L RPD C WH",null,null,95,548,520.6,{"$f":"((A19-(INT(A19/20)*20))*G19)+((INT(A19/20)*20)*H19)","v":0},null,null,"SZ016","3070 F R/L 86ED C WH",null,null,95,454,431.3,{"$f":"((K19-(INT(K19/20)*20))*Q19)+((INT(K19/20)*20)*R19)","v":0}]
[null,"SZ012","3070 F R/L 86ED C WH",null,null,95,508,482.6,0,null,null,"SZ017","3070 F R/L 161 C WH",null,null,95,454,431.3,0]
[null,"SZ013","3070 F R/L 161 C WH",null,null,95,508,482.6,0]
[]
[]
["Standard items INCLUDED with Flush Doors"]
[1,"The nomenclature designation “C” indicates closer reinf."]
[2,"The nominclature designation “WH” indicates 1-1/2 hour Mylar fire label."]
[]
[]
[]
[]
["This is an official order - Please Sign:",null,null,null,null,null,null,null,null,null,null,null,null,"TOTAL WEIGHT",null,"TOTAL LIST $",null,"TOTAL NET $"]
[null,null,null,null,"Sheet",null,"of",null,null,null,"TOTALS (This page)",null,null,{"$f":"Wgt_658_9_","v":0},null,{"$f":"List_658_9_","v":0},null,{"$f":"(1-N5)*P32","v":0}]
[]
[]
[]
[20,40,{"$f":"B36+20","v":60},{"$f":"C36+20","v":80},100,120,140,160,{"$f":"H36+20","v":180},200,{"$f":"J36+20","v":220},null,null,null,null,null,{"$f":"SUM(A11:A21)+SUM(K11:K20)","v":0},{"$f":"SUM(I10:I21)+SUM(S10:S20)","v":0},{"$f":"SUMPRODUCT(K11:K20,P11:P20)+SUMPRODUCT(A11:A21,F11:F21)","v":0}]