{"text_format":"1","workbook":"xlsx","n_sheets":14,"sheets":["Home - Regional Forms","Cat.658 Rev. 0223-cover","Cat.658-1 Rev. 0223","Cat.658-2 Rev. 0223","Cat.658-3 Rev. 0223","Cat.658-4 Rev. 0223","Cat.658-5 Rev. 0223","Cat.658-10 Rev. 0223","Cat.658-11 Rev. 0223","Cat.658-20-Rev. 0223","Cat.658-21-Rev. 0223","Cat.658-22-Rev. 0420","Cat.658-23-Rev. 0223","Cat.658-30-Rev. 0223"],"not_rendered":{"charts":0,"images":13,"macros":1,"external_links":0,"defined_names":55,"comments":12,"pivot_tables":0},"unopened":[],"bounds":{"document_bytes":16777216,"sheet_cells":100000,"rows_first":2000,"rows_last":500,"rows_between":2000,"halvings":0,"cell_chars":16384,"cell_head_chars":4096},"cells_cut":0,"cells_raw":0,"read":"whole","date_system":"1900"}

{"sheet":"Home - Regional Forms","index":0,"n_rows":33,"n_cols":26,"rows_kept":33,"cut":false,"hidden":false,"merged":[[32,25,34,27],[32,9,33,22],[4,2,10,26],[1,4,1,24],[12,25,12,27],[12,12,12,23],[12,1,12,10]]}
[]
[null,null,null,null,"SCW REGIONAL STOCK ORDER FORMS"]
[]
[]
[null,null,"Use this page as a quick and easy way to locate the stock product categories you need. Just click on the buttons below and it will take you to that product category (or use the tabs located at the bottom of the screen to go to that product category). Next, fill in the quantity of stock products needed and let the program do the rest. To print individual sheets that you have completed (or blank forms) you can use this page or choose the print option from the file menu on the active worksheet.                           Don't forget to fill in the header information on the Cover Page\n(the information will be automatically filled-in on the individual stock forms)"]
[]
[]
[]
[]
[]
[]
[]
[null,"FRAME ORDER FORMS",null,null,null,null,null,null,null,null,null,null,"DOOR ORDER FORMS",null,null,null,null,null,null,null,null,null,null,null,null,"PRINT FORMS"]
[]
[]
[]
[]
[]
[]
[]
[]
[]
[]
[]
[]
[]
[]
[]
[]
[]
[]
[]
[null,null,null,null,null,null,null,null,null,"FAX  TO :  8 8 8 - 4 8 5 - 4 7 4 7",null,null,null,null,null,null,null,null,null,null,null,null,null,null,null,"PRINT INSTRUCTIONS: \n• click / fill form to populate\n• CTRL+select forms above\n• click Print Preview icon"]

{"sheet":"Cat.658 Rev. 0223-cover","index":1,"n_rows":36,"n_cols":32,"rows_kept":36,"cut":false,"hidden":false,"merged":[[5,8,5,10],[5,14,5,15],[6,8,6,10],[0,13,0,16],[3,8,3,10],[3,14,3,15],[4,8,4,10],[4,14,4,15],[16,1,16,4],[16,7,16,10],[18,7,18,10],[22,7,22,10],[24,1,25,4],[24,7,24,10],[19,1,19,4],[19,7,19,10],[17,1,17,4],[17,7,17,10],[18,1,18,4]]}
["SCW STOCK ORDER COVER PAGE",null,null,null,null,null,null,null,null,null,null,null,null,"FAX FORM"]
[]
[]
["TO:","STEELCRAFT",null,null,null,null,null,"DATE:",null,null,null,null,null,"ACCOUNT #:"]
[null,"ORDER SERVICE DEPARTMENT",null,null,null,null,null,"FROM:",null,null,null,null,null,"PO NUMBER:"]
[null,"9017 BLUE ASH ROAD",null,null,null,null,null,"PHONE:",null,null,null,null,null,"DISCOUNT:"]
[null,"CINCINNATI, OHIO   45242",null,null,null,null,null,"FAX:",null,null,null,null,null,"SHIPPING INSTRUCTIONS:"]
[null,null,null,null,null,null,null,null,null,null,null,null,null,"(place an \"X\" in box)"]
["FAX:","(888)   485 - 4747",null,null,null,null,null,"PAGE:",null,"OF",null,null,null,false,"LTL (best way)"]
["Email:","SteelcraftOrderEntryChino@allegion.com",null,null,null,null,null,null,null,null,null,null,null,false,"Pool Truck"]
[null,null,null,null,null,null,null,null,null,null,null,null,null,false,"Other ==>"]
[]
[]
[]
["SOLD TO:",null,null,null,null,null,"SHIP TO ADDRESS:",null,null,null,null,null,null,null,"ORDER SUMMARY  "]
[null,null,null,null,null,null,null,null,null,null,null,null,null,null,null,null,null,null,null,"Wgt_658_1_534,","Wgt_658_1_614,","Wgt_658_1_734,","Wgt_658_1_814,","Wgt_658_24,","Wgt_658_4,","Wgt_658_4_814,","Wgt_658_7_68_,","Wgt_658_7_70_,","Wgt_658_7_80_,","Wgt_658_8_,","Wgt_658_9_,"]
[]
[null,null,null,null,null,null,null,null,null,null,null,null,"TOTAL WEIGHT (lbs)  ",null,null,{"$f":"SUM(Wgt_658_1_534,Wgt_658_1_614,Wgt_658_1_734,Wgt_658_1_814,wgt_658_24,Wgt_658_4,Wgt_658_4_814,Wgt_658_7_68_,Wgt_658_7_70_,Wgt_658_7_80_,Wgt_658_9_)","v":792},null,null,null,{"$f":"Wgt_658_1_534","v":456},{"$f":"Wgt_658_1_614","v":336},{"$f":"Wgt_658_1_734","v":0},{"$f":"Wgt_658_1_814","v":0},{"$f":"wgt_658_24","v":0},{"$f":"Wgt_658_4","v":0},{"$f":"Wgt_658_4_814","v":0},{"$f":"Wgt_658_7_68_","v":0},{"$f":"Wgt_658_7_70_","v":0},{"$f":"Wgt_658_7_80_","v":0},{"$f":"Wgt_658_8_","v":{"$error":"#REF!"}},{"$f":"Wgt_658_9_","v":0},{"$f":"SUM(T18:AE18)","v":{"$error":"#REF!"}}]
[null,null,null,null,null,null,null,null,null,null,null,null,"TOTAL QUANTITY  ",null,null,{"$f":"SUM(Qty_658_1_534,Qty_658_1_614,Qty_658_1_734,Qty_658_1_814,Qty_658_24,Qty_658_4,Qty_658_4_814,Qty_658_7_68_,Qty_658_7_70_,Qty_658_7_80_,Qty_658_9_)","v":50},null,null,null,{"$f":"Qty_658_1_534","v":32},{"$f":"Qty_658_1_614","v":18},{"$f":"Qty_658_1_734","v":0},{"$f":"Qty_658_1_814","v":0},{"$f":"Qty_658_24","v":0},{"$f":"Qty_658_4","v":0},{"$f":"Qty_658_4_814","v":0},{"$f":"Qty_658_7_68_","v":0},{"$f":"Qty_658_7_70_","v":0},{"$f":"Qty_658_7_80_","v":0},{"$f":"Qty_658_8_","v":{"$error":"#REF!"}},{"$f":"Qty_658_9_","v":0},{"$f":"SUM(T19:AE19)","v":{"$error":"#REF!"}}]
[null,null,null,null,null,null,null,null,null,null,null,null,"TOTAL LIST PRICE  ",null,null,{"$f":"SUM('Cat.658-1 Rev. 0223'!Q38:R38+'Cat.658-2 Rev. 0223'!Q34:R34+'Cat.658-3 Rev. 0223'!Q36:R36+'Cat.658-4 Rev. 0223'!Q34:R34+'Cat.658-5 Rev. 0223'!S33:T33+'Cat.658-10 Rev. 0223'!P37:Q37+'Cat.658-11 Rev. 0223'!P37:Q37+'Cat.658-20-Rev. 0223'!P37:Q37+'Cat.658-21-Rev. 0223'!P43:Q43+'Cat.658-22-Rev. 0420'!P38:Q38+'Cat.658-23-Rev. 0223'!P43:Q43+'Cat.658-30-Rev. 0223'!P32:Q32)","v":6811},null,null,null,{"$f":"List_658_1_534","v":3975},{"$f":"List_658_1_614","v":2836},{"$f":"List_658_1_734","v":0},{"$f":"List_658_1_814","v":0},{"$f":"list_658_24","v":0},{"$f":"List_658_4","v":0},{"$f":"List_658_4_814","v":0},{"$f":"LIst_658_7_68_","v":0},{"$f":"List_658_7_70_","v":0},{"$f":"List_658_7_80_","v":0},{"$f":"List_658_8_","v":{"$error":"#REF!"}},{"$f":"List_658_9_","v":0},{"$f":"SUM(T20:AE20)","v":{"$error":"#REF!"}}]
[null,null,null,null,null,null,null,null,null,null,null,null,"DISTRIBUTOR DISCOUNT  ",null,null,{"$f":"$O$6","v":0}]
[null,null,null,null,null,null,"ATTN:"]
[]
["Special Instructions:",null,null,null,null,null,"JOB NAME:",null,null,null,null,null,null,null,"GRAND TOTAL NET  ",{"$f":"(1-P21)*P20","v":6811}]
[]
[]
[]
[]
[]
[null,"x","     1-DAY  STOCK SCHEDULE",null,null,null,null,null,null,null,null,null,"    5-DAY MODIFIED STOCK*"]
[]
["For Stock and Modified Stock availability refer to the Stock section of the Price Manual"]
["All stock orders are subject to product availability"]
["Order cut-off:  Order cutoff is 12:00 midnight EST/EDT, and is based on the program and facility:"]
[null,"- West Coast Service Center : Thursday for all programs"]
["Orders for Modified Stock are limited to 20 doors and/or frames per order"]

{"sheet":"Cat.658-1 Rev. 0223","index":2,"n_rows":42,"n_cols":21,"rows_kept":42,"cut":false,"hidden":false,"merged":[[36,4,36,7],[36,14,36,15],[36,16,36,17],[36,18,36,19],[37,14,37,15],[37,16,37,17],[37,18,37,19],[2,15,4,16],[3,0,3,3],[3,4,3,6],[3,7,3,11],[3,12,3,14],[4,0,4,1],[4,4,4,6],[4,7,4,11],[1,0,1,3],[1,4,1,6],[1,7,1,11],[1,12,1,14],[2,0,2,3],[2,4,2,6],[2,7,2,11]]}
[null,null,null,null,"     SOLD TO:",null,null,"    SHIP TO:",null,null,null,null," CUST P.O. #",null,null,"SHIPPING INSTRUCTIONS:",null,null,"        (select on cover page)"]
["F16 - SERIES 5 3/4\"",null,null,null,{"$f":"'Cat.658 Rev. 0223-cover'!B17","v":0},null,null,{"$f":"'Cat.658 Rev. 0223-cover'!H17","v":0},null,null,null,null,{"$f":"'Cat.658 Rev. 0223-cover'!$O$5","v":0},null,null,null,null,{"$f":"IF('Cat.658 Rev. 0223-cover'!N9,CHAR(82),\"\")","v":""},"LTL"]
[null,null,null,null,{"$f":"'Cat.658 Rev. 0223-cover'!B18","v":0},null,null,{"$f":"'Cat.658 Rev. 0223-cover'!H18","v":0},null,null,null,null," ACCOUNT. #",null,null,{"$f":"'Cat.658 Rev. 0223-cover'!$B$25","v":0},null,{"$f":"IF('Cat.658 Rev. 0223-cover'!N10,CHAR(82),\"\")","v":""},"POOL TRUCK"]
["FRAME PARTS",null,null,null,{"$f":"'Cat.658 Rev. 0223-cover'!B19","v":0},null,null,{"$f":"'Cat.658 Rev. 0223-cover'!H19","v":0},null,null,null,null,{"$f":"'Cat.658 Rev. 0223-cover'!$O$4","v":0},null,null,null,null,{"$f":"IF('Cat.658 Rev. 0223-cover'!N11,CHAR(82),\"\")","v":""},"OTHER"]
[null,null,null,null,{"$f":"'Cat.658 Rev. 0223-cover'!$B$20","v":0},null,null,{"$f":"'Cat.658 Rev. 0223-cover'!$H$20","v":0},null,null,null,null,"DISCOUNT %",null,{"$f":"'Cat.658 Rev. 0223-cover'!$O$6","v":0}]
[]
[]
["F16 - 5 3/4\" - NON-GALV, FRAME PARTS"]
[null,"Part #","Qty.","Description",null,"List Each","Total List","Wgt. Each","Total Wgt.",null,null,null,"Part #","Qty.","Description",null,"List Each","Total List","Wgt. Each","Total Wgt."]
[null,292,1,"6-8   SJ  R  ASA",null,117,{"$f":"IF(C10>=1,C10*F10,\"\")","v":117},15,{"$f":"IF(C10>=1,C10*H10,\"\")","v":15},null,null,null,324,1,"2-6    HEAD   ",null,55,{"$f":"IF(N10>=1,N10*Q10,\"\")","v":55},6,{"$f":"IF(N10>=1,N10*S10,\"\")","v":6}]
[null,19451,1,"6-8   SJ  R  RPD",null,148,148,15,15,null,null,null,325,1,"2-8    HEAD   ",null,55,{"$f":"IF(N11>=1,N11*Q11,\"\")","v":55},6,6]
[null,7414,1,"6-8   SJ  R  BLK",null,117,117,15,15,null,null,null,19703,1,"2-10  HEAD   ",null,55,{"$f":"IF(N12>=1,N12*Q12,\"\")","v":55},6,6]
[null,295,1,"6-8   SJ  L  ASA",null,117,117,15,15,null,null,null,"326*",1,"3-0    HEAD   ",null,55,{"$f":"IF(N13>=1,((N13-(INT(N13/55)*55))*Q13)+((INT(N13/55)*55)*U13),\"\")","v":55},7,7,{"$f":"Q13*0.92","v":50.6}]
[null,19452,1,"6-8   SJ  L  RPD",null,148,148,15,15,null,null,null,334,1,"3-0    HEAD  4\" Face ",null,117,{"$f":"IF(N14>=1,N14*Q14,\"\")","v":117},10,10]
[null,7415,1,"6-8   SJ  L  BLK",null,117,117,15,15,null,null,null,328,1,"3-6    HEAD   ",null,71,71,8,8]
[null,294,1,"6-8   HJ  R  WH",null,131,131,17,17,null,null,null,330,1,"4-0    HEAD   ",null,71,71,9,9]
[null,297,1,"6-8   HJ  L  WH",null,131,131,17,17,null,null,null,331,1,"5-0    HEAD  D ",null,102,102,11,11]
[null,"302*",1,"7-0   SJ  R  ASA",null,124,{"$f":"IF(C18>=1,((C18-(INT(C18/55)*55))*F18)+((INT(C18/55)*55)*J18),\"\")","v":124},15,15,{"$f":"(F18-2.3-5.65)*0.92","v":106.76600000000001},null,null,333,1,"6-0    HEAD  D ",null,112,112,13,13]
[null,19453,1,"7-0   SJ  R  RPD",null,155,{"$f":"IF(C19>=1,C19*F19,\"\")","v":155},15,15,null,null,null,336,1,"8-0    HEAD  D ",null,136,136,18,18]
[null,303,1,"7-0   SJ  R  BLK",null,124,{"$f":"IF(C20>=1,C20*F20,\"\")","v":124},15,15,null,null,null,null,null,null,null,null,null,null,""]
[null,"305*",1,"7-0   SJ  L  ASA",null,124,{"$f":"IF(C21>=1,((C21-(INT(C21/55)*55))*F21)+((INT(C21/55)*55)*J21),\"\")","v":124},15,15,{"$f":"(F21-2.3-5.65)*0.92","v":106.76600000000001},null,null,null,null,null,null,null,null,null,""]
[null,19454,1,"7-0   SJ  L  RPD",null,155,{"$f":"IF(C22>=1,C22*F22,\"\")","v":155},15,15,null,null,null,null,null,null,null,null,null,null,""]
[null,306,1,"7-0   SJ  L  BLK",null,124,{"$f":"IF(C23>=1,C23*F23,\"\")","v":124},15,15,null,null,null,null,null,null,null,null,null,null,""]
[null,"304*",1,"7-0   HJ  R  WH",null,135,{"$f":"IF(C24>=1,((C24-(INT(C24/55)*55))*F24)+((INT(C24/55)*55)*J24),\"\")","v":135},18,18,{"$f":"(F24-2.3-5.65)*0.92","v":116.886},null,null,null,null,null,null,null,null,null,""]
[null,"307*",1,"7-0   HJ  L  WH",null,135,{"$f":"IF(C25>=1,((C25-(INT(C25/55)*55))*F25)+((INT(C25/55)*55)*J25),\"\")","v":135},18,18,{"$f":"(F25-2.3-5.65)*0.92","v":116.886},null,null,null,null,null,null,null,null,null,""]
[null,318,1,"8-0   SJ  R  ASA",null,154,{"$f":"IF(C26>=1,C26*F26,\"\")","v":154},18,18,null,null,null,null,null,null,null,null,null,null,""]
[null,19455,1,"8-0   SJ  R  RPD",null,185,185,18,18,null,null,null,null,null,null,null,null,null,null,""]
[null,320,1,"8-0   SJ  L  ASA",null,154,154,18,18,null,null,null,null,null,null,null,null,null,null,""]
[null,19456,1,"8-0   SJ  L  RPD",null,185,185,18,18,null,null,null,null,null,null,null,null,null,null,""]
[null,319,1,"8-0   HJ  R  WH",null,183,183,20,20,null,null,null,null,null,null,null,null,null,null,""]
[null,321,1,"8-0   HJ  L  WH",null,183,183,20,20,null,null,null,null,null,null,null,null,null,null,""]
[]
["1.","*Parts entered with quantities in multiples of 55 will be priced with the Kwik Pak price noted in the price book. Anchors not included."]
["2.","**End Jambs are the same as Blank Hinge Jambs but priced as Strike Jambs (HJ R/L BLK), and will be invoiced as Blank Strike Jambs."]
["3.","Stock uses Steelcraft hinge and lock locations."]
[]
["This is an official order - Please Sign:",null,null,null,null,null,null,null,null,null,null,null,null,null,"TOTAL WEIGHT",null,"TOTAL LIST $",null,"TOTAL NET $"]
[null,null,null,null,"Sheet",null,"of",null,null,null,null,"TOTALS (This page)",null,null,{"$f":"Wgt_658_1_534","v":456},null,{"$f":"List_658_1_534","v":3975},null,{"$f":"(1-O5)*Q38","v":3975}]
[]
[null,null,null,null,null,null,null,null,null,null,null,null,null,null,null,null,null,{"$f":"SUM(C10:C31)+SUM(N10:N19)","v":32},{"$f":"SUM(G10:G31)+SUM(R10:R19)","v":3975},{"$f":"SUM(I10:I31)+SUM(T10:T19)","v":456}]
[]
[null,null,null,null,null,null,null,null,null,null,null,null,"Cat.658-1 Rev. 0223",null,null,"p.129"]

{"sheet":"Cat.658-2 Rev. 0223","index":3,"n_rows":38,"n_cols":20,"rows_kept":38,"cut":false,"hidden":false,"merged":[[32,4,32,7],[32,14,32,15],[32,16,32,17],[32,18,32,19],[33,14,33,15],[33,16,33,17],[33,18,33,19],[2,15,4,16],[3,0,3,3],[3,4,3,6],[3,7,3,11],[3,12,3,14],[4,0,4,1],[4,4,4,6],[4,7,4,11],[1,0,1,3],[1,4,1,6],[1,7,1,11],[1,12,1,14],[2,0,2,3],[2,4,2,6],[2,7,2,11]]}
[null,null,null,null,"     SOLD TO:",null,null,"    SHIP TO:",null,null,null,null," CUST P.O. #",null,null,"SHIPPING INSTRUCTIONS:",null,null,"        (select on cover page)"]
["F16 - SERIES 6 1/4\"",null,null,null,{"$f":"'Cat.658 Rev. 0223-cover'!B17","v":0},null,null,{"$f":"'Cat.658 Rev. 0223-cover'!H17","v":0},null,null,null,null,{"$f":"'Cat.658 Rev. 0223-cover'!$O$5","v":0},null,null,null,null,{"$f":"IF('Cat.658 Rev. 0223-cover'!N9,CHAR(82),\"\")","v":""},"LTL"]
[null,null,null,null,{"$f":"'Cat.658 Rev. 0223-cover'!B18","v":0},null,null,{"$f":"'Cat.658 Rev. 0223-cover'!H18","v":0},null,null,null,null," ACCOUNT. #",null,null,{"$f":"'Cat.658 Rev. 0223-cover'!$B$25","v":0},null,{"$f":"IF('Cat.658 Rev. 0223-cover'!N10,CHAR(82),\"\")","v":""},"POOL TRUCK"]
["FRAME PARTS",null,null,null,{"$f":"'Cat.658 Rev. 0223-cover'!B19","v":0},null,null,{"$f":"'Cat.658 Rev. 0223-cover'!H19","v":0},null,null,null,null,{"$f":"'Cat.658 Rev. 0223-cover'!$O$4","v":0},null,null,null,null,{"$f":"IF('Cat.658 Rev. 0223-cover'!N11,CHAR(82),\"\")","v":""},"OTHER"]
[null,null,null,null,{"$f":"'Cat.658 Rev. 0223-cover'!$B$20","v":0},null,null,{"$f":"'Cat.658 Rev. 0223-cover'!$H$20","v":0},null,null,null,null,"DISCOUNT %",null,{"$f":"'Cat.658 Rev. 0223-cover'!$O$6","v":0}]
[]
[]
["F16 - 6 1/4\" - NON-GALV, FRAME PARTS"]
[null,"Part #","Qty.","Description",null,"List Each","Total List","Wgt. Each","Total Wgt.",null,null,null,"Part #","Qty.","Description",null,"List Each","Total List","Wgt. Each","Total Wgt."]
[null,19044,1,"6-8   SJ  R  ASA",null,127,{"$f":"IF(C10>=1,C10*F10,\"\")","v":127},17,{"$f":"IF(C10>=1,C10*H10,\"\")","v":17},null,null,null,19706,null,"2-6    HEAD   ",null,63,{"$f":"IF(N10>=1,N10*Q10,\"\")","v":""},6,{"$f":"IF(N10>=1,N10*S10,\"\")","v":""}]
[null,19457,1,"6-8   SJ  R  RPD",null,158,158,17,17,null,null,null,19707,null,"2-8    HEAD   ",null,63,"",7,""]
[null,19045,1,"6-8   SJ  L  ASA",null,127,127,17,17,null,null,null,19708,null,"2-10  HEAD   ",null,63,"",7,""]
[null,19458,1,"6-8   SJ  L  RPD",null,158,158,17,17,null,null,null,19062,null,"3-0    HEAD   ",null,63,"",8,""]
[null,19046,1,"6-8   HJ  R  WH",null,141,141,19,19,null,null,null,19709,null,"3-6    HEAD   ",null,80,"",8,""]
[null,19047,1,"6-8   HJ  L  WH",null,141,141,19,19,null,null,null,19710,null,"4-0    HEAD   ",null,80,"",10,""]
[null,19048,1,"7-0   SJ  R  ASA",null,137,137,17,17,null,null,null,19711,null,"5-0    HEAD  D ",null,108,"",12,""]
[null,19459,1,"7-0   SJ  R  RPD",null,168,168,17,17,null,null,null,19586,null,"6-0    HEAD  D ",null,120,"",14,""]
[null,19049,1,"7-0   SJ  L  ASA",null,137,137,17,17,null,null,null,19712,null,"8-0    HEAD  D ",null,146,"",19,""]
[null,19460,1,"7-0   SJ  L  RPD",null,168,168,17,17,null,null,null,null,null,null,null,null,"",null,""]
[null,19052,1,"7-0   HJ  R  WH",null,149,149,20,20,null,null,null,null,null,null,null,null,"",null,""]
[null,19053,1,"7-0   HJ  L  WH",null,149,149,20,20,null,null,null,null,null,null,null,null,"",null,""]
[null,19463,1,"8-0   SJ  R  ASA",null,160,160,20,20,null,null,null,null,null,null,null,null,"",null,""]
[null,19464,1,"8-0   SJ  R  RPD",null,191,191,20,20,null,null,null,null,null,null,null,null,"",null,""]
[null,19465,1,"8-0   SJ  L  ASA",null,160,160,20,20,null,null,null,null,null,null,null,null,"",null,""]
[null,19466,1,"8-0   SJ  L  RPD",null,191,191,20,20,null,null,null,null,null,null,null,null,"",null,""]
[null,19461,1,"8-0   HJ  R  WH",null,187,187,21,21,null,null,null,null,null,null,null,null,"",null,""]
[null,19462,1,"8-0   HJ  L  WH",null,187,187,21,21,null,null,null,null,null,null,null,null,"",null,""]
[]
["1.","*Parts entered with quantities in multiples of 55 will be priced with the Kwik Pak price noted in the price book. Anchors not included."]
["2.","**End Jambs are the same as Blank Hinge Jambs but priced as Strike Jambs (HJ R/L BLK), and will be invoiced as Blank Strike Jambs."]
["3.","Stock uses Steelcraft hinge and lock locations."]
[]
["This is an official order - Please Sign:",null,null,null,null,null,null,null,null,null,null,null,null,null,"TOTAL WEIGHT",null,"TOTAL LIST $",null,"TOTAL NET $"]
[null,null,null,null,"Sheet",null,"of",null,null,null,null,"TOTALS (This page)",null,null,{"$f":"Wgt_658_1_614","v":336},null,{"$f":"List_658_1_614","v":2836},null,{"$f":"(1-O5)*Q34","v":2836}]
[]
[null,null,null,null,null,null,null,null,null,null,null,null,null,null,null,null,null,{"$f":"SUM(C10:C27)+SUM(N10:N18)","v":18},{"$f":"SUM(G10:G27)+SUM(R10:R18)","v":2836},{"$f":"SUM(I10:I27)+SUM(T10:T18)","v":336}]
[]
[null,null,null,null,null,null,null,null,null,null,null,null,"Cat.658-2 Rev. 0223",null,null,"p.129"]

{"sheet":"Cat.658-3 Rev. 0223","index":4,"n_rows":40,"n_cols":20,"rows_kept":40,"cut":false,"hidden":false,"merged":[[34,4,34,7],[34,14,34,15],[34,16,34,17],[34,18,34,19],[35,14,35,15],[35,16,35,17],[35,18,35,19],[2,15,4,16],[3,0,3,3],[3,4,3,6],[3,7,3,11],[3,12,3,14],[4,0,4,1],[4,4,4,6],[4,7,4,11],[1,0,1,3],[1,4,1,6],[1,7,1,11],[1,12,1,14],[2,0,2,3],[2,4,2,6],[2,7,2,11]]}
[null,null,null,null,"     SOLD TO:",null,null,"    SHIP TO:",null,null,null,null," CUST P.O. #",null,null,"SHIPPING INSTRUCTIONS",null,null,"        (select on cover page)"]
["F16 - SERIES 7 3/4\"",null,null,null,{"$f":"'Cat.658 Rev. 0223-cover'!B17","v":0},null,null,{"$f":"'Cat.658 Rev. 0223-cover'!H17","v":0},null,null,null,null,{"$f":"'Cat.658 Rev. 0223-cover'!$O$5","v":0},null,null,null,null,{"$f":"IF('Cat.658 Rev. 0223-cover'!N9,CHAR(82),\"\")","v":""},"LTL"]
[null,null,null,null,{"$f":"'Cat.658 Rev. 0223-cover'!B18","v":0},null,null,{"$f":"'Cat.658 Rev. 0223-cover'!H18","v":0},null,null,null,null," ACCOUNT. #",null,null,{"$f":"'Cat.658 Rev. 0223-cover'!$B$25","v":0},null,{"$f":"IF('Cat.658 Rev. 0223-cover'!N10,CHAR(82),\"\")","v":""},"POOL TRUCK"]
["FRAME PARTS",null,null,null,{"$f":"'Cat.658 Rev. 0223-cover'!B19","v":0},null,null,{"$f":"'Cat.658 Rev. 0223-cover'!H19","v":0},null,null,null,null,{"$f":"'Cat.658 Rev. 0223-cover'!$O$4","v":0},null,null,null,null,{"$f":"IF('Cat.658 Rev. 0223-cover'!N11,CHAR(82),\"\")","v":""},"OTHER"]
[null,null,null,null,{"$f":"'Cat.658 Rev. 0223-cover'!$B$20","v":0},null,null,{"$f":"'Cat.658 Rev. 0223-cover'!$H$20","v":0},null,null,null,null,"DISCOUNT %",null,{"$f":"'Cat.658 Rev. 0223-cover'!$O$6","v":0}]
[]
[]
["F16 - 7 3/4\" - NON-GALV, FRAME PARTS"]
[null,"Part #","Qty.","Description",null,"List Each","Total List","Wgt. Each","Total Wgt.",null,null,null,"Part #","Qty.","Description",null,"List Each","Total List","Wgt. Each","Total Wgt."]
[null,713,null,"6-8   SJ  R  ASA",null,127,{"$f":"IF(C10>=1,C10*F10,\"\")","v":""},17,{"$f":"IF(C10>=1,C10*H10,\"\")","v":""},null,null,null,19713,null,"2-6    HEAD   ",null,63,{"$f":"IF(N10>=1,N10*Q10,\"\")","v":""},7,{"$f":"IF(N10>=1,N10*S10,\"\")","v":""}]
[null,19467,null,"6-8   SJ  R  RPD",null,158,"",18,"",null,null,null,19714,null,"2-8    HEAD   ",null,63,"",7,""]
[null,715,null,"6-8   SJ  L  ASA",null,127,"",17,"",null,null,null,19715,null,"2-10  HEAD   ",null,63,"",8,""]
[null,19469,null,"6-8   SJ  L  RPD",null,158,"",18,"",null,null,null,706,null,"3-0    HEAD   ",null,63,"",8,""]
[null,714,null,"6-8   HJ  R  WH",null,141,"",20,"",null,null,null,19717,null,"3-6    HEAD   ",null,80,"",9,""]
[null,716,null,"6-8   HJ  L  WH",null,141,"",20,"",null,null,null,19718,null,"4-0    HEAD   ",null,80,"",11,""]
[null,717,null,"7-0   SJ  R  ASA",null,137,"",18,"",null,null,null,19719,null,"5-0    HEAD  D ",null,108,"",13,""]
[null,19473,null,"7-0   SJ  R  RPD",null,168,"",19,"",null,null,null,19587,null,"6-0    HEAD  D ",null,120,"",17,""]
[null,719,null,"7-0   SJ  L  ASA",null,137,"",18,"",null,null,null,19720,null,"8-0    HEAD  D ",null,146,"",21,""]
[null,19475,null,"7-0   SJ  L  RPD",null,168,"",19,"",null,null,null,null,null,null,null,null,"",null,""]
[null,19685,null,"7-0   EJ  R**  ",null,137,"",18,"",null,null,null,null,null,null,null,null,"",null,""]
[null,19686,null,"7-0   EJ  L**",null,137,"",18,"",null,null,null,null,null,null,null,null,"",null,""]
[null,718,null,"7-0   HJ  R  WH",null,149,"",22,"",null,null,null,null,null,null,null,null,"",null,""]
[null,720,null,"7-0   HJ  L  WH",null,149,"",22,"",null,null,null,null,null,null,null,null,"",null,""]
[null,19480,null,"8-0   SJ  R  ASA",null,160,"",22,"",null,null,null,null,null,null,null,null,"",null,""]
[null,19481,null,"8-0   SJ  R  RPD",null,191,"",22,"",null,null,null,null,null,null,null,null,"",null,""]
[null,19482,null,"8-0   SJ  L  ASA",null,160,"",22,"",null,null,null,null,null,null,null,null,"",null,""]
[null,19483,null,"8-0   SJ  L  RPD",null,191,"",22,"",null,null,null,null,null,null,null,null,"",null,""]
[null,19478,null,"8-0   HJ  R  WH",null,187,"",23,"",null,null,null,null,null,null,null,null,"",null,""]
[null,19479,null,"8-0   HJ  L  WH",null,187,"",23,"",null,null,null,null,null,null,null,null,"",null,""]
[]
["1.","*Parts entered with quantities in multiples of 55 will be priced with the Kwik Pak price noted in the price book. Anchors not included."]
["2.","**End Jambs are the same as Blank Hinge Jambs but priced as Strike Jambs (HJ R/L BLK), and will be invoiced as Blank Strike Jambs."]
["3.","Stock uses Steelcraft hinge and lock locations."]
[]
["This is an official order - Please Sign:",null,null,null,null,null,null,null,null,null,null,null,null,null,"TOTAL WEIGHT",null,"TOTAL LIST $",null,"TOTAL NET $"]
[null,null,null,null,"Sheet",null,"of",null,null,null,null,"TOTALS (This page)",null,null,{"$f":"Wgt_658_1_734","v":0},null,{"$f":"List_658_1_734","v":0},null,{"$f":"(1-O5)*Q36","v":0}]
[]
[null,null,null,null,null,null,null,null,null,null,null,null,null,null,null,null,null,{"$f":"SUM(C10:C29)+SUM(N10:N18)","v":0},{"$f":"SUM(G10:G29)+SUM(R10:R18)","v":0},{"$f":"SUM(I10:I29)+SUM(T10:T18)","v":0}]
[]
[null,null,null,null,null,null,null,null,null,null,null,null,"Cat.658-3 Rev. 0223",null,null,"p.129"]

{"sheet":"Cat.658-4 Rev. 0223","index":5,"n_rows":38,"n_cols":20,"rows_kept":38,"cut":false,"hidden":false,"merged":[[32,4,32,7],[32,14,32,15],[32,16,32,17],[32,18,32,19],[33,14,33,15],[33,16,33,17],[33,18,33,19],[2,15,4,16],[3,0,3,3],[3,4,3,6],[3,7,3,11],[3,12,3,14],[4,0,4,1],[4,4,4,6],[4,7,4,11],[1,0,1,3],[1,4,1,6],[1,7,1,11],[1,12,1,14],[2,0,2,3],[2,4,2,6],[2,7,2,11]]}
[null,null,null,null,"     SOLD TO:",null,null,"    SHIP TO:",null,null,null,null," CUST P.O. #",null,null,"SHIPPING INSTRUCTIONS",null,null,"        (select on cover page)"]
["F16 - SERIES 8 1/4\"",null,null,null,{"$f":"'Cat.658 Rev. 0223-cover'!B17","v":0},null,null,{"$f":"'Cat.658 Rev. 0223-cover'!H17","v":0},null,null,null,null,{"$f":"'Cat.658 Rev. 0223-cover'!$O$5","v":0},null,null,null,null,{"$f":"IF('Cat.658 Rev. 0223-cover'!N9,CHAR(82),\"\")","v":""},"LTL"]
[null,null,null,null,{"$f":"'Cat.658 Rev. 0223-cover'!B18","v":0},null,null,{"$f":"'Cat.658 Rev. 0223-cover'!H18","v":0},null,null,null,null," ACCOUNT. #",null,null,{"$f":"'Cat.658 Rev. 0223-cover'!$B$25","v":0},null,{"$f":"IF('Cat.658 Rev. 0223-cover'!N10,CHAR(82),\"\")","v":""},"POOL TRUCK"]
["FRAME PARTS",null,null,null,{"$f":"'Cat.658 Rev. 0223-cover'!B19","v":0},null,null,{"$f":"'Cat.658 Rev. 0223-cover'!H19","v":0},null,null,null,null,{"$f":"'Cat.658 Rev. 0223-cover'!$O$4","v":0},null,null,null,null,{"$f":"IF('Cat.658 Rev. 0223-cover'!N11,CHAR(82),\"\")","v":""},"OTHER"]
[null,null,null,null,{"$f":"'Cat.658 Rev. 0223-cover'!$B$20","v":0},null,null,{"$f":"'Cat.658 Rev. 0223-cover'!$H$20","v":0},null,null,null,null,"DISCOUNT %",null,{"$f":"'Cat.658 Rev. 0223-cover'!$O$6","v":0}]
[]
[]
["F16 - 8 1/4\" - NON-GALV, FRAME PARTS"]
[null,"Part #","Qty.","Description",null,"List Each","Total List","Wgt. Each","Total Wgt.",null,null,null,"Part #","Qty.","Description",null,"List Each","Total List","Wgt. Each","Total Wgt."]
[null,7460,null,"6-8   SJ  R  ASA",null,145,{"$f":"IF(C10>=1,C10*F10,\"\")","v":""},18,{"$f":"IF(C10>=1,C10*H10,\"\")","v":""},null,null,null,19721,null,"2-6    HEAD   ",null,75,{"$f":"IF(N10>=1,N10*Q10,\"\")","v":""},7,{"$f":"IF(N10>=1,N10*S10,\"\")","v":""}]
[null,19485,null,"6-8   SJ  R  RPD",null,176,"",19,"",null,null,null,19722,null,"2-8    HEAD   ",null,75,"",7,""]
[null,7461,null,"6-8   SJ  L  ASA",null,145,"",18,"",null,null,null,19723,null,"2-10  HEAD   ",null,75,"",8,""]
[null,19487,null,"6-8   SJ  L  RPD",null,176,"",19,"",null,null,null,808,null,"3-0    HEAD   ",null,75,"",9,""]
[null,7462,null,"6-8   HJ  R  WH",null,163,"",20,"",null,null,null,19725,null,"3-6    HEAD   ",null,91,"",10,""]
[null,7463,null,"6-8   HJ  L  WH",null,163,"",20,"",null,null,null,7471,null,"4-0    HEAD   ",null,91,"",12,""]
[null,802,null,"7-0   SJ  R  ASA",null,150,"",21,"",null,null,null,19727,null,"5-0    HEAD  D ",null,121,"",14,""]
[null,19492,null,"7-0   SJ  R  RPD",null,181,"",21,"",null,null,null,7473,null,"6-0    HEAD  D ",null,137,"",18,""]
[null,806,null,"7-0   SJ  L  ASA",null,150,"",21,"",null,null,null,19729,null,"8-0    HEAD  D ",null,169,"",21,""]
[null,19494,null,"7-0   SJ  L  RPD",null,181,"",21,"",null,null,null,null,null,null,null,null,"",null,""]
[null,803,null,"7-0   HJ  R  WH",null,169,"",23,"",null,null,null,null,null,null,null,null,"",null,""]
[null,807,null,"7-0   HJ  L  WH",null,169,"",23,"",null,null,null,null,null,null,null,null,"",null,""]
[null,19499,null,"8-0   SJ  R  ASA",null,182,"",22,"",null,null,null,null,null,null,null,null,"",null,""]
[null,19700,null,"8-0   SJ  R  RPD",null,213,"",22,"",null,null,null,null,null,null,null,null,"",null,""]
[null,19701,null,"8-0   SJ  L  ASA",null,182,"",22,"",null,null,null,null,null,null,null,null,"",null,""]
[null,19702,null,"8-0   SJ  L  RPD",null,213,"",22,"",null,null,null,null,null,null,null,null,"",null,""]
[null,19497,null,"8-0   HJ  R  WH",null,208,"",23,"",null,null,null,null,null,null,null,null,"",null,""]
[null,19498,null,"8-0   HJ  L  WH",null,208,"",23,"",null,null,null,null,null,null,null,null,"",null,""]
[]
["1.","*Parts entered with quantities in multiples of 55 will be priced with the Kwik Pak price noted in the price book. Anchors not included."]
["2.","**End Jambs are the same as Blank Hinge Jambs but priced as Strike Jambs (HJ R/L BLK), and will be invoiced as Blank Strike Jambs."]
["3.","Stock uses Steelcraft hinge and lock locations."]
[]
["This is an official order - Please Sign:",null,null,null,null,null,null,null,null,null,null,null,null,null,"TOTAL WEIGHT",null,"TOTAL LIST $",null,"TOTAL NET $"]
[null,null,null,null,"Sheet",null,"of",null,null,null,null,"TOTALS (This page)",null,null,{"$f":"Wgt_658_1_814","v":0},null,{"$f":"List_658_1_814","v":0},null,{"$f":"(1-O5)*Q34","v":0}]
[]
[null,null,null,null,null,null,null,null,null,null,null,null,null,null,null,null,null,{"$f":"SUM(C10:C27)+SUM(N10:N18)","v":0},{"$f":"SUM(G10:G27)+SUM(R10:R18)","v":0},{"$f":"SUM(I10:I27)+SUM(T10:T18)","v":0}]
[]
[null,null,null,null,null,null,null,null,null,null,null,null,"Cat.658-4 Rev. 0223",null,null,"p.129"]

{"sheet":"Cat.658-5 Rev. 0223","index":6,"n_rows":37,"n_cols":22,"rows_kept":37,"cut":false,"hidden":false,"merged":[[31,20,31,21],[32,14,32,15],[32,18,32,19],[32,20,32,21],[10,3,10,4],[10,11,10,12],[31,5,31,9],[31,14,31,15],[31,18,31,19],[11,3,11,4],[11,11,11,12],[11,13,11,14],[11,15,11,18],[11,19,11,20],[8,21,9,22],[11,21,11,22],[10,13,10,14],[10,15,10,18],[10,19,10,20],[10,21,10,22],[8,0,9,0],[8,1,9,1],[8,2,9,2],[8,3,8,4],[9,3,9,4],[8,11,9,12],[2,4,2,6],[1,7,1,11],[2,7,2,11],[7,19,7,20],[3,7,3,11],[4,7,4,11],[8,13,9,14],[8,15,9,18],[8,19,9,20],[7,21,7,22],[7,3,7,4],[7,5,7,10],[7,11,7,12],[7,13,7,14],[1,0,1,3],[3,12,3,14],[7,15,7,18],[3,4,3,6],[4,4,4,6],[1,12,1,14],[2,0,2,3],[1,4,1,6]]}
[null,null,null,null,"     SOLD TO:",null,null,null,"  SHIP TO:",null,null,null," CUST P.O. #",null,null,"SHIPPING INSTRUCTIONS",null,null,null,null,null,"        (select on cover page)"]
["FACTORY STOCK",null,null,null,{"$f":"'Cat.658 Rev. 0223-cover'!B17","v":0},null,null,{"$f":"'Cat.658 Rev. 0223-cover'!H17","v":0},null,null,null,null,{"$f":"'Cat.658 Rev. 0223-cover'!$O$5","v":0},null,null,null,null,null,null,null,{"$f":"IF('Cat.658 Rev. 0223-cover'!N9,CHAR(82),\"\")","v":""},"LTL"]
["WELDED FRAMES",null,null,null,{"$f":"'Cat.658 Rev. 0223-cover'!B18","v":0},null,null,{"$f":"'Cat.658 Rev. 0223-cover'!H18","v":0},null,null,null,null," ACCOUNT. #",null,null,"OMIT ANCHORS",null,null,null,null,{"$f":"IF('Cat.658 Rev. 0223-cover'!N10,CHAR(82),\"\")","v":""},"POOL TRUCK"]
[null,null,null,null,{"$f":"'Cat.658 Rev. 0223-cover'!B19","v":0},null,null,{"$f":"'Cat.658 Rev. 0223-cover'!H19","v":0},null,null,null,null,{"$f":"'Cat.658 Rev. 0223-cover'!$O$4","v":0},null,null,null,null,null,"JAMB",null,{"$f":"IF('Cat.658 Rev. 0223-cover'!N11,CHAR(82),\"\")","v":""},"OTHER"]
[null,null,null,null,{"$f":"'Cat.658 Rev. 0223-cover'!$B$20","v":0},null,null,{"$f":"'Cat.658 Rev. 0223-cover'!$H$20","v":0},null,null,null,null," DISCOUNT %",null,{"$f":"'Cat.658 Rev. 0223-cover'!$O$6","v":0},null,null,null,"BASE"]
[]
["Factory Stock Welded Frames"]
["Qty.","SKU","Pkg. Qty","Pkg. Contents",null,"SUA Stock Item",null,null,null,null,null,"Pkg. Weight",null,"Pkg. List $",null,"Extended Weight",null,null,null,"Extended List $",null,"Total Frames"]
[null,10211,24,12,null,"F16 4 5 3/4 3070 RH, ASA, PA/RA Reinf. CRS",null,null,null,null,null,1040,null,11088,null,{"$f":"IF(A9>=1,A9*L9,\"\")","v":""},null,null,null,{"$f":"IF(A9>=1,A9*N9,\"\")","v":""},null,{"$f":"IF(A9>=1,A9*C9,\"\")","v":""}]
[null,null,null,12,null,"F16 4 5 3/4 3070 LH, ASA, PA/RA Reinf. CRS"]
[null,7676,24,24,null,"F16 4 5 3/4 3070 RH, ASA, PA/RA Reinf., CRS",null,null,null,null,null,1040,null,11088,null,{"$f":"IF(A11>=1,A11*L11,\"\")","v":""},null,null,null,{"$f":"IF(A11>=1,A11*N11,\"\")","v":""},null,{"$f":"IF(A11>=1,A11*C11,\"\")","v":""}]
[null,7677,24,24,null,"F16 4 5 3/4 3070 LH, ASA, PA/RA Reinf., CRS",null,null,null,null,null,1040,null,11088,null,{"$f":"IF(A12>=1,A12*L12,\"\")","v":""},null,null,null,{"$f":"IF(A12>=1,A12*N12,\"\")","v":""},null,{"$f":"IF(A12>=1,A12*C12,\"\")","v":""}]
[]
["Notes:"]
["1) Frames are welded, ground smooth and prime painted. All welded frames contain at least one shipping bar. "]
["2) Frames shown as \"GALV\" are manufactured from A60 Galvannealed material conforming to ASTM A 653. All hardware reinforcements are also galvanized."]
["3) Frames are skidded, banded and wrapped for shipping. Package quantities cannot be broken."]
["4) All frames are shipped minus all anchors, list prices reflect standard anchor deduct of $15.90 per frame."]
["5) All hardware locations are Steelcraft standards."]
["6) Stock uses Steelcraft hinge and lock locations."]
[]
[]
[]
[]
[]
[]
[]
[]
[null,null,null,null,null,null,null,null,null,null,null,null,null,null,null,null,{"$f":"SUM(P9:P12)","v":0},{"$f":"SUM(T9:T12)","v":0}]
[null,null,null,null,null,null,null,null,null,null,null,null,null,null,null,null,null,{"$f":"SUM(A9:A12)","v":0}]
[]
["This is an official order - Please Sign:",null,null,null,null,null,null,null,null,null,null,null,null,null,"TOTAL WEIGHT",null,null,null,"TOTAL LIST $",null,"TOTAL NET $"]
[null,null,null,null,null,"Sheet",null,null,"of",null,null,"TOTALS (This page)",null,null,{"$f":"wgt_658_24","v":0},null,null,null,{"$f":"list_658_24","v":0},null,{"$f":"(1-O5)*S33","v":0}]
[]
[]
[]
[null,null,null,null,null,null,null,null,null,null,null,null,"Cat.658-5 Rev. 0223",null,null,"p.130"]

{"sheet":"Cat.658-10 Rev. 0223","index":7,"n_rows":44,"n_cols":19,"rows_kept":44,"cut":false,"hidden":false,"merged":[[3,0,3,3],[35,0,35,3],[35,4,35,7],[35,13,35,14],[35,15,35,16],[3,4,3,6],[3,7,3,10],[4,4,4,6],[4,7,4,10],[35,17,35,18],[36,13,36,14],[36,15,36,16],[36,17,36,18],[2,14,4,15],[3,11,3,13],[1,0,1,3],[1,4,1,6],[1,7,1,10],[1,11,1,13],[2,0,2,3],[2,4,2,6],[2,7,2,10]]}
[null,null,null,null,"     SOLD TO:",null,null,"    SHIP TO:",null,null,null," CUST P.O. #",null,null,"SHIPPING INSTRUCTIONS",null,null,"        (select on cover page)"]
["K16  -  SERIES",null,null,null,{"$f":"'Cat.658 Rev. 0223-cover'!B17","v":0},null,null,{"$f":"'Cat.658 Rev. 0223-cover'!H17","v":0},null,null,null,{"$f":"'Cat.658 Rev. 0223-cover'!$O$5","v":0},null,null,null,null,{"$f":"IF('Cat.658 Rev. 0223-cover'!N9,CHAR(82),\"\")","v":""},"LTL"]
[" 5 7/8\" and 6 1/4\" ",null,null,null,{"$f":"'Cat.658 Rev. 0223-cover'!B18","v":0},null,null,{"$f":"'Cat.658 Rev. 0223-cover'!H18","v":0},null,null,null," ACCOUNT. #",null,null,{"$f":"'Cat.658 Rev. 0223-cover'!$B$25","v":0},null,{"$f":"IF('Cat.658 Rev. 0223-cover'!N10,CHAR(82),\"\")","v":""},"POOL TRUCK"]
["FRAME PARTS",null,null,null,{"$f":"'Cat.658 Rev. 0223-cover'!B19","v":0},null,null,{"$f":"'Cat.658 Rev. 0223-cover'!H19","v":0},null,null,null,{"$f":"'Cat.658 Rev. 0223-cover'!$O$4","v":0},null,null,null,null,{"$f":"IF('Cat.658 Rev. 0223-cover'!N11,CHAR(82),\"\")","v":""},"OTHER"]
[null,null,null,null,{"$f":"'Cat.658 Rev. 0223-cover'!$B$20","v":0},null,null,{"$f":"'Cat.658 Rev. 0223-cover'!$H$20","v":0},null,null,null,"DISCOUNT %",null,{"$f":"'Cat.658 Rev. 0223-cover'!$O$6","v":0}]
[]
["K16  -  5 7/8\" - NON-GALV, FRAME PARTS",null,null,null,null,null,null,null,null,null,"K16  -  6 1/4\" - NON-GALV, FRAME PARTS"]
[null,"Part #","Qty.","Description",null,"List Each","Total List","Wgt. Each","Total Wgt.",null,null,"Part #","Qty.","Description",null,"List Each","Total List","Wgt. Each","Total Wgt."]
[null,19156,null,"6-8   SJ  R  ASA",null,120,{"$f":"IF(C9>=1,C9*F9,\"\")","v":""},17,{"$f":"IF(C9>=1,C9*H9,\"\")","v":""},null,null,19761,null,"6-8   SJ  R  ASA",null,134,{"$f":"IF(M9>=1,M9*P9,\"\")","v":""},17,{"$f":"IF(M9>=1,M9*R9,\"\")","v":""}]
[null,19730,null,"6-8   SJ  R  RPD",null,151,"",17,"",null,null,19736,null,"6-8   SJ  R  RPD",null,165,"",17,""]
[null,19157,null,"6-8   SJ  L  ASA",null,120,"",17,"",null,null,19179,null,"6-8   SJ  L  ASA",null,134,"",17,""]
[null,19731,null,"6-8   SJ  L  RPD",null,151,"",17,"",null,null,19737,null,"6-8   SJ  L  RPD",null,165,"",17,""]
[null,19158,null,"6-8   HJ  R  WH",null,132,"",18,"",null,null,19180,null,"6-8   HJ  R  WH",null,153,"",18,""]
[null,19159,null,"6-8   HJ  L  WH",null,132,"",18,"",null,null,19181,null,"6-8   HJ  L  WH",null,153,"",18,""]
[null,19160,null,"7-0   SJ  R  ASA",null,133,"",18,"",null,null,19182,null,"7-0   SJ  R  ASA",null,146,"",18,""]
[null,19732,null,"7-0   SJ  R  RPD",null,164,"",18,"",null,null,19738,null,"7-0   SJ  R  RPD",null,177,"",18,""]
[null,19161,null,"7-0   SJ  L  ASA",null,133,"",18,"",null,null,19183,null,"7-0   SJ  L  ASA",null,146,"",18,""]
[null,19733,null,"7-0   SJ  L  RPD",null,164,"",18,"",null,null,19739,null,"7-0   SJ  L  RPD",null,177,"",18,""]
[null,19164,null,"7-0   HJ  R  WH",null,142,"",19,"",null,null,19186,null,"7-0   HJ  R  WH",null,159,"",19,""]
[null,19165,null,"7-0   HJ  L  WH",null,142,"",19,"",null,null,19187,null,"7-0   HJ  L  WH",null,159,"",19,""]
[null,19166,null,"8-0   SJ  R  ASA",null,157,"",20,"",null,null,19740,null,"8-0   SJ  R  ASA",null,171,"",20,""]
[null,19734,null,"8-0   SJ  R  RPD",null,188,"",20,"",null,null,19741,null,"8-0   SJ  R  RPD",null,202,"",20,""]
[null,19167,null,"8-0   SJ  L  ASA",null,157,"",20,"",null,null,19742,null,"8-0   SJ  L  ASA",null,171,"",20,""]
[null,19735,null,"8-0   SJ  L  RPD",null,188,"",20,"",null,null,19743,null,"8-0   SJ  L  RPD",null,202,"",20,""]
[null,19168,null,"8-0   HJ  R  WH",null,179,"",21,"",null,null,19744,null,"8-0   HJ  R  WH",null,199,"",21,""]
[null,19169,null,"8-0   HJ  L  WH",null,179,"",21,"",null,null,19745,null,"8-0   HJ  L  WH",null,199,"",21,""]
[null,19756,null,"2-6    HEAD   ",null,59,"",6,"",null,null,19194,null,"2-6    HEAD   ",null,75,"",6,""]
[null,19757,null,"2-8    HEAD   ",null,59,"",7,"",null,null,19195,null,"2-8    HEAD   ",null,75,"",7,""]
[null,19174,null,"3-0    HEAD   ",null,59,"",8,"",null,null,19196,null,"3-0    HEAD   ",null,75,"",8,""]
[null,19758,null,"3-6    HEAD   ",null,74,"",9,"",null,null,19197,null,"3-6    HEAD   ",null,92,"",9,""]
[null,19759,null,"4-0    HEAD   ",null,74,"",10,"",null,null,19198,null,"4-0    HEAD   ",null,92,"",10,""]
[null,19760,null,"5-0    HEAD  D ",null,113,"",12,"",null,null,19766,null,"5-0    HEAD  D ",null,122,"",12,""]
[null,19177,null,"6-0    HEAD  D ",null,113,"",16,"",null,null,19199,null,"6-0    HEAD  D ",null,122,"",15,""]
["1.","Stock uses Steelcraft hinge and lock locations"]
[]
["This is an official order - Please Sign:",null,null,null,null,null,null,null,null,null,null,null,null,"TOTAL WEIGHT",null,"TOTAL LIST $",null,"TOTAL NET $"]
[null,null,null,null,"Sheet",null,"of",null,null,null,"TOTALS (This page)",null,null,{"$f":"Wgt_658_4","v":0},null,{"$f":"List_658_4","v":0},null,{"$f":"(1-N5)*P37","v":0}]
[]
[]
[null,null,null,null,null,null,null,null,null,null,null,null,null,null,null,null,{"$f":"SUM(C9:C33)+SUM(M9:M33)","v":0},{"$f":"SUM(G9:G33)+SUM(Q9:Q33)","v":0},{"$f":"SUM(I9:I33)+SUM(S9:S33)","v":0}]
[]
[]
[]
[null,null,null,null,null,null,null,null,null,null,null,"Cat.658-10 Rev. 0223",null,null,"p.130"]

{"sheet":"Cat.658-11 Rev. 0223","index":8,"n_rows":44,"n_cols":19,"rows_kept":44,"cut":false,"hidden":false,"merged":[[35,0,35,3],[35,4,35,7],[35,13,35,14],[35,15,35,16],[35,17,35,18],[36,13,36,14],[36,15,36,16],[36,17,36,18],[2,14,4,15],[3,4,3,6],[3,7,3,10],[3,11,3,13],[4,4,4,6],[4,7,4,10],[1,0,1,3],[1,4,1,6],[1,7,1,10],[1,11,1,13],[2,0,2,3],[2,4,2,6],[2,7,2,10]]}
[null,null,null,null,"     SOLD TO:",null,null,"    SHIP TO:",null,null,null," CUST P.O. #",null,null,"SHIPPING INSTRUCTIONS",null,null,"        (select on cover page)"]
["K16  -  SERIES 8 1/4\"",null,null,null,{"$f":"'Cat.658 Rev. 0223-cover'!B17","v":0},null,null,{"$f":"'Cat.658 Rev. 0223-cover'!H17","v":0},null,null,null,{"$f":"'Cat.658 Rev. 0223-cover'!$O$5","v":0},null,null,null,null,{"$f":"IF('Cat.658 Rev. 0223-cover'!N9,CHAR(82),\"\")","v":""},"LTL"]
["FRAME PARTS",null,null,null,{"$f":"'Cat.658 Rev. 0223-cover'!B18","v":0},null,null,{"$f":"'Cat.658 Rev. 0223-cover'!H18","v":0},null,null,null," ACCOUNT. #",null,null,{"$f":"'Cat.658 Rev. 0223-cover'!$B$25","v":0},null,{"$f":"IF('Cat.658 Rev. 0223-cover'!N10,CHAR(82),\"\")","v":""},"POOL TRUCK"]
[null,null,null,null,{"$f":"'Cat.658 Rev. 0223-cover'!B19","v":0},null,null,{"$f":"'Cat.658 Rev. 0223-cover'!H19","v":0},null,null,null,{"$f":"'Cat.658 Rev. 0223-cover'!$O$4","v":0},null,null,null,null,{"$f":"IF('Cat.658 Rev. 0223-cover'!N11,CHAR(82),\"\")","v":""},"OTHER"]
[null,null,null,null,{"$f":"'Cat.658 Rev. 0223-cover'!$B$20","v":0},null,null,{"$f":"'Cat.658 Rev. 0223-cover'!$H$20","v":0},null,null,null,"DISCOUNT %",null,{"$f":"'Cat.658 Rev. 0223-cover'!$O$6","v":0}]
[]
["K16  -  8 1/4\" - NON-GALV, FRAME PARTS"]
[null,"Part #","Qty.","Description",null,"List Each","Total List","Wgt. Each","Total Wgt."]
[null,19236,null,"6-8   SJ  R  ASA",null,145,{"$f":"IF(C9>=1,C9*F9,\"\")","v":""},20,{"$f":"IF(C9>=1,C9*H9,\"\")","v":""},null,null,null,null,null,null,null,{"$f":"IF(M9>=1,M9*P9,\"\")","v":""},null,{"$f":"IF(M9>=1,M9*R9,\"\")","v":""}]
[null,19746,null,"6-8   SJ  R  RPD",null,176,"",20,"",null,null,null,null,null,null,null,"",null,""]
[null,19237,null,"6-8   SJ  L  ASA",null,145,"",20,"",null,null,null,null,null,null,null,"",null,""]
[null,19747,null,"6-8   SJ  L  RPD",null,176,"",20,"",null,null,null,null,null,null,null,"",null,""]
[null,19238,null,"6-8   HJ  R  WH",null,167,"",21,"",null,null,null,null,null,null,null,"",null,""]
[null,19239,null,"6-8   HJ  L  WH",null,167,"",21,"",null,null,null,null,null,null,null,"",null,""]
[null,19240,null,"7-0   SJ  R  ASA",null,151,"",21,"",null,null,null,null,null,null,null,"",null,""]
[null,19748,null,"7-0   SJ  R  RPD",null,182,"",21,"",null,null,null,null,null,null,null,"",null,""]
[null,19241,null,"7-0   SJ  L  ASA",null,151,"",21,"",null,null,null,null,null,null,null,"",null,""]
[null,19749,null,"7-0   SJ  L  RPD",null,182,"",21,"",null,null,null,null,null,null,null,"",null,""]
[null,19242,null,"7-0   HJ  R  WH",null,176,"",22,"",null,null,null,null,null,null,null,"",null,""]
[null,19243,null,"7-0   HJ  L  WH",null,176,"",22,"",null,null,null,null,null,null,null,"",null,""]
[null,19750,null,"8-0   SJ  R  ASA",null,179,"",23,"",null,null,null,null,null,null,null,"",null,""]
[null,19751,null,"8-0   SJ  R  RPD",null,210,"",23,"",null,null,null,null,null,null,null,"",null,""]
[null,19752,null,"8-0   SJ  L  ASA",null,179,null,23,""]
[null,19753,null,"8-0   SJ  L  RPD",null,210,{"$f":"IF(C24>=1,C24*F24,\"\")","v":""},23,"",null,null,null,null,null,null,null,{"$f":"IF(M24>=1,M24*P24,\"\")","v":""},null,{"$f":"IF(M24>=1,M24*R24,\"\")","v":""}]
[null,19754,null,"8-0   HJ  R  WH",null,214,"",24,"",null,null,null,null,null,null,null,"",null,""]
[null,19755,null,"8-0   HJ  L  WH",null,214,"",24,"",null,null,null,null,null,null,null,"",null,""]
[null,19768,null,"2-6    HEAD   ",null,87,"",7,"",null,null,null,null,null,null,null,"",null,""]
[null,19769,null,"2-8    HEAD   ",null,87,"",8,"",null,null,null,null,null,null,null,"",null,""]
[null,19252,null,"3-0    HEAD   ",null,87,"",9,"",null,null,null,null,null,null,null,"",null,""]
[null,19253,null,"3-6    HEAD   ",null,99,"",10,"",null,null,null,null,null,null,null,"",null,""]
[null,19254,null,"4-0    HEAD   ",null,99,"",11,"",null,null,null,null,null,null,null,"",null,""]
[null,19772,null,"5-0    HEAD  D ",null,136,"",14,"",null,null,null,null,null,null,null,"",null,""]
[null,19255,null,"6-0    HEAD  D ",null,136,"",17,"",null,null,null,null,null,null,null,"",null,""]
["1.","Stock uses Steelcraft hinge and lock locations"]
[]
["This is an official order - Please Sign:",null,null,null,null,null,null,null,null,null,null,null,null,"TOTAL WEIGHT",null,"TOTAL LIST $",null,"TOTAL NET $"]
[null,null,null,null,"Sheet",null,"of",null,null,null,"TOTALS (This page)",null,null,{"$f":"Wgt_658_4_814","v":0},null,{"$f":"List_658_4_814","v":0},null,{"$f":"(1-N5)*P37","v":0}]
[]
[]
[null,null,null,null,null,null,null,null,null,null,null,null,null,null,null,null,{"$f":"SUM(C9:C33)","v":0},{"$f":"SUM(G9:G33)","v":0},{"$f":"SUM(I9:I33)","v":0}]
[]
[]
[]
[null,null,null,null,null,null,null,null,null,null,null,"Cat.658-11 Rev. 0223",null,null,"p.130"]

{"sheet":"Cat.658-20-Rev. 0223","index":9,"n_rows":41,"n_cols":19,"rows_kept":41,"cut":false,"hidden":false,"merged":[[35,4,35,7],[35,13,35,14],[35,15,35,16],[35,17,35,18],[36,13,36,14],[36,15,36,16],[36,17,36,18],[2,14,4,15],[3,4,3,6],[3,7,3,10],[3,11,3,13],[4,4,4,6],[4,7,4,10],[1,0,1,3],[1,4,1,6],[1,7,1,10],[1,11,1,13],[2,0,2,3],[2,4,2,6],[2,7,2,10]]}
[null,null,null,null,"     SOLD TO:",null,null,"    SHIP TO:",null,null,null," CUST P.O. #",null,null,"SHIPPING INSTRUCTIONS",null,null,"        (select on cover page)"]
["L-18 SERIES",null,null,null,{"$f":"'Cat.658 Rev. 0223-cover'!B17","v":0},null,null,{"$f":"'Cat.658 Rev. 0223-cover'!H17","v":0},null,null,null,{"$f":"'Cat.658 Rev. 0223-cover'!$O$5","v":0},null,null,null,null,{"$f":"IF('Cat.658 Rev. 0223-cover'!N9,CHAR(82),\"\")","v":""},"LTL"]
["6'8\" FLUSH DOORS",null,null,null,{"$f":"'Cat.658 Rev. 0223-cover'!B18","v":0},null,null,{"$f":"'Cat.658 Rev. 0223-cover'!H18","v":0},null,null,null," ACCOUNT. #",null,null,{"$f":"'Cat.658 Rev. 0223-cover'!$B$25","v":0},null,{"$f":"IF('Cat.658 Rev. 0223-cover'!N10,CHAR(82),\"\")","v":""},"POOL TRUCK"]
[null,null,"NON-GALV, HONEYCOMB",null,{"$f":"'Cat.658 Rev. 0223-cover'!B19","v":0},null,null,{"$f":"'Cat.658 Rev. 0223-cover'!H19","v":0},null,null,null,{"$f":"'Cat.658 Rev. 0223-cover'!$O$4","v":0},null,null,null,null,{"$f":"IF('Cat.658 Rev. 0223-cover'!N11,CHAR(82),\"\")","v":""},"OTHER"]
[null,null,null,null,{"$f":"'Cat.658 Rev. 0223-cover'!$B$20","v":0},null,null,{"$f":"'Cat.658 Rev. 0223-cover'!$H$20","v":0},null,null,null,"DISCOUNT %",null,{"$f":"'Cat.658 Rev. 0223-cover'!$O$6","v":0}]
[]
["2'6\" WIDE, L-18, NON-GALV, HONEYCOMB,  (WH) WARNOCK HERSEY",null,null,null,null,null,null,null,null,null,"2'8\" WIDE, L-18, NON-GALV, HONEYCOMB,  (WH) WARNOCK HERSEY"]
[null,"Part #","Qty.","Description",null,"List Each","Total List","Wgt. Each","Total Wgt.",null,null,"Part #","Qty.","Description",null,"List Each","Total List","Wgt. Each","Total Wgt."]
[null,19606,null,"2668 F R/LHR   161 C WH",null,924,{"$f":"IF(C9>=1,C9*F9,\"\")","v":""},80,{"$f":"IF(C9>=1,C9*H9,\"\")","v":""},null,null,19612,null,"2868 F R/LHR   161 C WH",null,924,{"$f":"IF(M9>=1,M9*P9,\"\")","v":""},84,{"$f":"IF(M9>=1,M9*R9,\"\")","v":""}]
[null,19607,null,"2668 F L/RHR 161 C WH",null,924,"",80,"",null,null,19613,null,"2868 F L/RHR 161 C WH",null,924,"",84,""]
[null,19608,null,"2668 F R/LHR   86ED C WH",null,924,"",80,"",null,null,19614,null,"2868 F R/LHR   86ED C WH",null,924,"",84,""]
[null,19609,null,"2668 F L/RHR 86ED C WH",null,924,"",80,"",null,null,19615,null,"2868 F L/RHR 86ED C WH",null,924,"",84,""]
[null,19610,null,"2668 F R/LHR   RPD C WH",null,976,"",80,"",null,null,19616,null,"2868 F R/LHR   RPD C WH",null,976,"",84,""]
[null,19611,null,"2668 F L/RHR RPD C WH",null,976,"",80,"",null,null,19617,null,"2868 F L/RHR RPD C WH",null,976,"",84,""]
[]
[null,null,null,null,null,null,null,null,null,null,"3'0\" WIDE, L-18, NON-GALV, HONEYCOMB,  (WH) WARNOCK HERSEY"]
[null,"Part #","Qty.","Description",null,"List Each","Total List","Wgt. Each","Total Wgt.",null,null,"Part #","Qty.","Description",null,"List Each","Total List","Wgt. Each","Total Wgt."]
[null,"036",null,"3068 F R/LHR   61L C WH",null,932,{"$f":"IF(C18>=1,C18*F18,\"\")","v":""},{"$f":"95+6","v":101},{"$f":"IF(C18>=1,C18*H18,\"\")","v":""},null,null,"076",null,"3068 F R/LHR   86ED C WH",null,932,{"$f":"IF(M18>=1,M18*P18,\"\")","v":""},{"$f":"95+6","v":101},{"$f":"IF(M18>=1,M18*R18,\"\")","v":""}]
[null,"037",null,"3068 F L/RHR 61L C WH",null,932,{"$f":"IF(C19>=1,C19*F19,\"\")","v":""},{"$f":"95+6","v":101},{"$f":"IF(C19>=1,C19*H19,\"\")","v":""},null,null,"077",null,"3068 F L/RHR 86ED C WH",null,932,{"$f":"IF(M19>=1,M19*P19,\"\")","v":""},{"$f":"95+6","v":101},{"$f":"IF(M19>=1,M19*R19,\"\")","v":""}]
[null,"066",null,"3068 F R/LHR   161 C WH",null,932,{"$f":"IF(C20>=1,C20*F20,\"\")","v":""},{"$f":"95+6","v":101},{"$f":"IF(C20>=1,C20*H20,\"\")","v":""},null,null,7602,null,"3068 F R/LHR   RPD C WH",null,984,{"$f":"IF(M20>=1,M20*P20,\"\")","v":""},113,{"$f":"IF(M20>=1,M20*R20,\"\")","v":""}]
[null,"067",null,"3068 F L/RHR 161 C WH",null,932,{"$f":"IF(C21>=1,C21*F21,\"\")","v":""},{"$f":"95+6","v":101},{"$f":"IF(C21>=1,C21*H21,\"\")","v":""},null,null,7603,null,"3068 F L/RHR RPD C WH",null,984,{"$f":"IF(M21>=1,M21*P21,\"\")","v":""},113,{"$f":"IF(M21>=1,M21*R21,\"\")","v":""}]
[]
["3'6\" WIDE, L-18, NON-GALV, HONEYCOMB,  (WH) WARNOCK HERSEY",null,null,null,null,null,null,null,null,null,"4'0\" WIDE, L-18, NON-GALV, HONEYCOMB,  (WH) WARNOCK HERSEY"]
[null,"Part #","Qty.","Description",null,"List Each","Total List","Wgt. Each","Total Wgt.",null,null,"Part #","Qty.","Description",null,"List Each","Total List","Wgt. Each","Total Wgt."]
[null,19618,null,"3668 F R/LHR   161 C WH",null,1112,{"$f":"IF(C25>=1,C25*F25,\"\")","v":""},106,{"$f":"IF(C25>=1,C25*H25,\"\")","v":""},null,null,19624,null,"4068 F R/LHR   161 C WH",null,1221,{"$f":"IF(M25>=1,M25*P25,\"\")","v":""},120,{"$f":"IF(M25>=1,M25*R25,\"\")","v":""}]
[null,19619,null,"3668 F L/RHR 161 C WH",null,1112,"",106,"",null,null,19625,null,"4068 F L/RHR 161 C WH",null,1221,"",120,""]
[null,19620,null,"3668 F R/LHR   86ED C WH",null,1112,"",106,"",null,null,19626,null,"4068 F R/LHR   86ED C WH",null,1221,"",120,""]
[null,19621,null,"3668 F L/RHR 86ED C WH",null,1112,"",106,"",null,null,19627,null,"4068 F L/RHR 86ED C WH",null,1221,"",120,""]
[null,19622,null,"3668 F R/LHR   RPD C WH",null,1164,"",106,"",null,null,19628,null,"4068 F R/LHR   RPD C WH",null,1273,"",120,""]
[null,19623,null,"3668 F L/RHR RPD C WH",null,1164,"",106,"",null,null,19629,null,"4068 F L/RHR RPD C WH",null,1273,"",120,""]
[]
["1.","Stock uses Steelcraft hinge and lock locations"]
["2.","The nomenclature designation “C” indicates closer reinf."]
["3.","The nominclature designation “WH” indicates 1-1/2 hour Mylar fire label."]
[]
["This is an official order - Please Sign:",null,null,null,null,null,null,null,null,null,null,null,null,"TOTAL WEIGHT",null,"TOTAL LIST $",null,"TOTAL NET $"]
[null,null,null,null,"Sheet",null,"of",null,null,null,"TOTALS (This page)",null,null,{"$f":"Wgt_658_7_68_","v":0},null,{"$f":"LIst_658_7_68_","v":0},null,{"$f":"(1-N5)*P37","v":0}]
[]
[]
[null,null,null,null,null,null,null,null,null,null,null,null,null,null,null,null,{"$f":"SUM(C9:C30)+SUM(M9:M30)","v":0},{"$f":"SUM(G9:G30)+SUM(Q9:Q30)","v":0},{"$f":"SUM(I9:I30)+SUM(S9:S30)","v":0}]
[null,null,null,null,null,null,null,null,null,null,null,"Cat.658-20-Rev. 0223",null,null,"p.131"]

{"sheet":"Cat.658-21-Rev. 0223","index":10,"n_rows":47,"n_cols":19,"rows_kept":47,"cut":false,"hidden":false,"merged":[[44,4,44,7],[41,13,41,14],[41,15,41,16],[41,17,41,18],[42,13,42,14],[42,15,42,16],[42,17,42,18],[2,14,4,15],[3,4,3,6],[3,7,3,10],[3,11,3,13],[4,4,4,6],[4,7,4,10],[1,0,1,3],[1,4,1,6],[1,7,1,10],[1,11,1,13],[2,0,2,3],[2,4,2,6],[2,7,2,10]]}
[null,null,null,null,"     SOLD TO:",null,null,"    SHIP TO:",null,null,null," CUST P.O. #",null,null,"SHIPPING INSTRUCTIONS",null,null,"        (select on cover page)"]
["L-18 SERIES",null,null,null,{"$f":"'Cat.658 Rev. 0223-cover'!B17","v":0},null,null,{"$f":"'Cat.658 Rev. 0223-cover'!H17","v":0},null,null,null,{"$f":"'Cat.658 Rev. 0223-cover'!$O$5","v":0},null,null,null,null,{"$f":"IF('Cat.658 Rev. 0223-cover'!N9,CHAR(82),\"\")","v":""},"LTL"]
["7'0\" FLUSH DOORS",null,null,null,{"$f":"'Cat.658 Rev. 0223-cover'!B18","v":0},null,null,{"$f":"'Cat.658 Rev. 0223-cover'!H18","v":0},null,null,null," ACCOUNT. #",null,null,{"$f":"'Cat.658 Rev. 0223-cover'!$B$25","v":0},null,{"$f":"IF('Cat.658 Rev. 0223-cover'!N10,CHAR(82),\"\")","v":""},"POOL TRUCK"]
[null,null,null,null,{"$f":"'Cat.658 Rev. 0223-cover'!B19","v":0},null,null,{"$f":"'Cat.658 Rev. 0223-cover'!H19","v":0},null,null,null,{"$f":"'Cat.658 Rev. 0223-cover'!$O$4","v":0},null,null,null,null,{"$f":"IF('Cat.658 Rev. 0223-cover'!N11,CHAR(82),\"\")","v":""},"OTHER"]
[null,null,null,null,{"$f":"'Cat.658 Rev. 0223-cover'!$B$20","v":0},null,null,{"$f":"'Cat.658 Rev. 0223-cover'!$H$20","v":0},null,null,null,"DISCOUNT %",null,{"$f":"'Cat.658 Rev. 0223-cover'!$O$6","v":0}]
[]
["2'6\" WIDE, L-18, NON-GALV, HONEYCOMB,  (WH) WARNOCK HERSEY",null,null,null,null,null,null,null,null,null,"2'8\" WIDE, L-18, NON-GALV, HONEYCOMB,  (WH) WARNOCK HERSEY"]
[null,"Part #","Qty.","Description",null,"List Each","Total List","Wgt. Each","Total Wgt.",null,null,"Part #","Qty.","Description",null,"List Each","Total List","Wgt. Each","Total Wgt."]
[null,19630,null,"2670 F R/LHR   161 C  ",null,957,{"$f":"IF(C9>=1,C9*F9,\"\")","v":""},83,{"$f":"IF(C9>=1,C9*H9,\"\")","v":""},null,null,19636,null,"2870 F R/LHR   161 C  ",null,957,{"$f":"IF(M9>=1,M9*P9,\"\")","v":""},88,{"$f":"IF(M9>=1,M9*R9,\"\")","v":""}]
[null,19631,null,"2670 F L/RHR 161 C  ",null,957,"",83,"",null,null,19637,null,"2870 F L/RHR 161 C  ",null,957,"",88,""]
[null,19632,null,"2670 F R/LHR   86ED C  ",null,957,"",83,"",null,null,19638,null,"2870 F R/LHR   86ED C  ",null,957,"",88,""]
[null,19633,null,"2670 F L/RHR 86ED C  ",null,957,"",83,"",null,null,19639,null,"2870 F L/RHR 86ED C  ",null,957,"",88,""]
[null,19634,null,"2670 F R/LHR   RPD C  ",null,1009,"",83,"",null,null,19640,null,"2870 F R/LHR   RPD C  ",null,1009,"",88,""]
[null,19635,null,"2670 F L/RHR RPD C  ",null,1009,"",83,"",null,null,19641,null,"2870 F L/RHR RPD C  ",null,1009,"",88,""]
[]
["3'0\" WIDE, L-18, NON-GALV, HONEYCOMB, (WH) WARNOCK HERSEY",null,null,null,null,null,null,null,null,null,"GALVANNEALED, POLYSTYRENE CORE,  (WH) WARNOCK HERSEY"]
[null,"Part #","Qty.","Description",null,"List Each","Total List","Wgt. Each","Total Wgt.",null,null,"Part #","Qty.","Description",null,"List Each","Total List","Wgt. Each","Total Wgt."]
[null,"038",null,"3070 F R/LHR   61L C  ",null,963,{"$f":"IF(C18>=1,C18*F18,\"\")","v":""},{"$f":"97+6","v":103},{"$f":"IF(C18>=1,C18*H18,\"\")","v":""},null,null,"L-18"]
[null,"039",null,"3070 F L/RHR 61L C  ",null,963,"",103,"",null,null,"090",null,"3070 F R/LHR   161 C  ",null,1111,{"$f":"IF(M19>=1,M19*P19,\"\")","v":""},87,{"$f":"IF(M19>=1,M19*R19,\"\")","v":""}]
[null,"068",null,"3070 F R/LHR   161 C  ",null,963,"",103,"",null,null,"091",null,"3070 F L/RHR 161 C  ",null,1111,"",87,""]
[null,"069",null,"3070 F L/RHR 161 C  ",null,963,"",103,"",null,null,"084",null,"3070 F R/LHR   86ED C  ",null,1111,"",87,""]
[null,"082",null,"3070 F R/LHR   86ED C  ",null,963,"",103,"",null,null,"085",null,"3070 F L/RHR 86ED C  ",null,1111,"",87,""]
[null,"083",null,"3070 F L/RHR 86ED C  ",null,963,"",103,"",null,null,"092",null,"3070 F R/LHR   RPD C  ",null,1163,"",97,""]
[null,"088",null,"3070 F R/LHR   RPD C  ",null,1015,"",103,"",null,null,"093",null,"3070 F L/RHR RPD C  ",null,1163,"",97,""]
[null,"089",null,"3070 F L/RHR RPD C  ",null,1015,"",103,"",null,null,"L-18, DOWNSIZED for Continuous Hinge, 5/16\" Undersized"]
[null,"INACTIVE",null,null,null,null,null,null,null,null,null,19642,null,"3070 F R/LHR   RPD C  ",null,1163,{"$f":"IF(M26>=1,M26*P26,\"\")","v":""},96,{"$f":"IF(M26>=1,M26*R26,\"\")","v":""}]
[null,7619,null,"3070 F R/LHR C ASA & FB  ",null,1061,{"$f":"IF(C27>=1,C27*F27,\"\")","v":""},103,{"$f":"IF(C27>=1,C27*H27,\"\")","v":""},null,null,19643,null,"3070 F L/RHR RPD C  ",null,1163,{"$f":"IF(M27>=1,M27*P27,\"\")","v":""},96,{"$f":"IF(M27>=1,M27*R27,\"\")","v":""}]
[null,7620,null,"3070 F L/RHR C ASA & FB  ",null,1061,{"$f":"IF(C28>=1,C28*F28,\"\")","v":""},103,{"$f":"IF(C28>=1,C28*H28,\"\")","v":""}]
[null,"WIDE INACTIVE"]
[null,19687,null,"3070 F R/LHR C ASA FB W/ TABS  ",null,1061,{"$f":"IF(C30>=1,C30*F30,\"\")","v":""},80,{"$f":"IF(C30>=1,C30*H30,\"\")","v":""}]
[null,19688,null,"3070 F L/RHR C ASA FB W/ TABS  ",null,1061,{"$f":"IF(C31>=1,C31*F31,\"\")","v":""},80,{"$f":"IF(C31>=1,C31*H31,\"\")","v":""}]
[]
["3'6\" WIDE, L-18, NON-GALV, HONEYCOMB, (WH) WARNOCK HERSEY",null,null,null,null,null,null,null,null,null,"4'0\" WIDE, L-18, NON-GALV, HONEYCOMB,  (WH) WARNOCK HERSEY"]
[null,"Part #","Qty.","Description",null,"List Each","Total List","Wgt. Each","Total Wgt.",null,null,"Part #","Qty.","Description",null,"List Each","Total List","Wgt. Each","Total Wgt."]
[null,"064",null,"3670 F R/LHR   161 C  ",null,1158,{"$f":"IF(C35>=1,C35*F35,\"\")","v":""},118,{"$f":"IF(C35>=1,C35*H35,\"\")","v":""},null,null,156,null,"4070 F R/LHR   161 C  ",null,1273,{"$f":"IF(M35>=1,M35*P35,\"\")","v":""},133,{"$f":"IF(M35>=1,M35*R35,\"\")","v":""}]
[null,"065",null,"3670 F L/RHR 161 C  ",null,1158,"",118,"",null,null,157,null,"4070 F L/RHR 161 C  ",null,1273,"",133,""]
[null,19672,null,"3670 F R/LHR   86ED C  ",null,1158,"",111,"",null,null,7630,null,"4070 F R/LHR   86ED C  ",null,1273,"",133,""]
[null,19673,null,"3670 F L/RHR 86ED C  ",null,1158,"",111,"",null,null,7631,null,"4070 F L/RHR 86ED C  ",null,1273,"",133,""]
[null,19670,null,"3670 F R/LHR   RPD C  ",null,1210,"",111,"",null,null,19680,null,"4070 F R/LHR   RPD C  ",null,1325,"",125,""]
[null,19671,null,"3670 F L/RHR RPD C  ",null,1210,"",111,"",null,null,19681,null,"4070 F L/RHR RPD C  ",null,1325,"",125,""]
[]
["1.","Stock uses Steelcraft hinge and lock locations",null,null,null,null,null,null,null,null,null,null,null,"TOTAL WEIGHT",null,"TOTAL LIST $",null,"TOTAL NET $"]
["2.","The nomenclature designation “C” indicates closer reinf.",null,null,null,null,null,null,null,null,"TOTALS (This page)",null,null,{"$f":"Wgt_658_7_70_","v":0},null,{"$f":"List_658_7_70_","v":0},null,{"$f":"(1-N5)*P43","v":0}]
["3.","The nominclature designation “WH” indicates 1-1/2 hour Mylar fire label."]
["This is an official order - Please Sign:"]
[null,null,null,null,"Sheet",null,"of",null,null,null,null,"Cat.658-21-Rev. 0223",null,null,"p.131"]
[null,null,null,null,null,null,null,null,null,null,null,null,null,null,null,null,{"$f":"SUM(C9:C40)+SUM(M9:M40)","v":0},{"$f":"SUM(G9:G40)+SUM(Q9:Q40)","v":0},{"$f":"SUM(I9:I40)+SUM(S9:S40)","v":0}]

{"sheet":"Cat.658-22-Rev. 0420","index":11,"n_rows":42,"n_cols":19,"rows_kept":42,"cut":false,"hidden":false,"merged":[[1,0,1,3],[1,4,1,6],[1,7,1,10],[1,11,1,13],[2,0,2,3],[2,4,2,6],[2,7,2,10],[2,14,4,15],[3,4,3,6],[3,7,3,10],[3,11,3,13],[4,4,4,6],[4,7,4,10],[39,4,39,7],[36,13,36,14],[36,15,36,16],[36,17,36,18],[37,13,37,14],[37,15,37,16],[37,17,37,18]]}
[null,null,null,null,"     SOLD TO:",null,null,"    SHIP TO:",null,null,null," CUST P.O. #",null,null,"SHIPPING INSTRUCTIONS",null,null,"        (select on cover page)"]
["L-18 SERIES",null,null,null,{"$f":"'Cat.658 Rev. 0223-cover'!B17","v":0},null,null,{"$f":"'Cat.658 Rev. 0223-cover'!H17","v":0},null,null,null,{"$f":"'Cat.658 Rev. 0223-cover'!$O$5","v":0},null,null,null,null,{"$f":"IF('Cat.658 Rev. 0223-cover'!N9,CHAR(82),\"\")","v":""},"LTL"]
["8'0\" FLUSH DOORS",null,null,null,{"$f":"'Cat.658 Rev. 0223-cover'!B18","v":0},null,null,{"$f":"'Cat.658 Rev. 0223-cover'!H18","v":0},null,null,null," ACCOUNT. #",null,null,{"$f":"'Cat.658 Rev. 0223-cover'!$B$25","v":0},null,{"$f":"IF('Cat.658 Rev. 0223-cover'!N10,CHAR(82),\"\")","v":""},"POOL TRUCK"]
[null,null,"NON-GALV, HONEYCOMB  ",null,{"$f":"'Cat.658 Rev. 0223-cover'!B19","v":0},null,null,{"$f":"'Cat.658 Rev. 0223-cover'!H19","v":0},null,null,null,{"$f":"'Cat.658 Rev. 0223-cover'!$O$4","v":0},null,null,null,null,{"$f":"IF('Cat.658 Rev. 0223-cover'!N11,CHAR(82),\"\")","v":""},"OTHER"]
[null,"NON-LABEL",null,null,{"$f":"'Cat.658 Rev. 0223-cover'!$B$20","v":0},null,null,{"$f":"'Cat.658 Rev. 0223-cover'!$H$20","v":0},null,null,null,"DISCOUNT %",null,{"$f":"'Cat.658 Rev. 0223-cover'!$O$6","v":0}]
[]
["2'6\" WIDE, NON-GALV, HONEYCOMB, NON-LABEL",null,null,null,null,null,null,null,null,null,"2'8\" WIDE, NON-GALV, HONEYCOMB, NON-LABEL"]
[null,"Part #","Qty.","Description",null,"List Each","Total List","Wgt. Each","Total Wgt.",null,null,"Part #","Qty.","Description",null,"List Each","Total List","Wgt. Each","Total Wgt."]
[null,19644,null,"2680 F R/LHR   161 C WH",null,1273,{"$f":"IF(C9>=1,C9*F9,\"\")","v":""},93,{"$f":"IF(C9>=1,C9*H9,\"\")","v":""},null,null,19650,null,"2880 F R/LHR   161 C WH",null,1273,{"$f":"IF(M9>=1,M9*P9,\"\")","v":""},98,{"$f":"IF(M9>=1,M9*R9,\"\")","v":""}]
[null,19645,null,"2680 F L/RHR 161 C WH",null,1273,"",93,"",null,null,19651,null,"2880 F L/RHR 161 C WH",null,1273,"",98,""]
[null,19646,null,"2680 F R/LHR   86ED C WH",null,1273,"",93,"",null,null,19652,null,"2880 F R/LHR   86ED C WH",null,1273,"",98,""]
[null,19647,null,"2680 F L/RHR 86ED C WH",null,1273,"",93,"",null,null,19653,null,"2880 F L/RHR 86ED C WH",null,1273,"",98,""]
[null,19648,null,"2680 F R/LHR   RPD C WH",null,1325,"",93,"",null,null,19654,null,"2880 F R/LHR   RPD C WH",null,1325,"",98,""]
[null,19649,null,"2680 F L/RHR RPD C WH",null,1325,"",93,"",null,null,19655,null,"2880 F L/RHR RPD C WH",null,1325,"",98,""]
[]
["3'0\" WIDE, NON-GALV, HONEYCOMB, NON-LABEL"]
[null,"Part #","Qty.","Description",null,"List Each","Total List","Wgt. Each","Total Wgt."]
[null,19674,null,"3080 F R/LHR   161 C WH",null,1306,{"$f":"IF(C18>=1,C18*F18,\"\")","v":""},109,{"$f":"IF(C18>=1,C18*H18,\"\")","v":""}]
[null,19675,null,"3080 F L/RHR 161 C WH",null,1306,"",109,""]
[null,19676,null,"3080 F R/LHR   86ED C WH",null,1306,"",109,""]
[null,19677,null,"3080 F L/RHR 86ED C WH",null,1306,"",109,""]
[null,19678,null,"3080 F R/LHR   RPD C WH",null,1358,"",109,""]
[null,19679,null,"3080 F L/RHR RPD C WH",null,1358,"",109,""]
[]
["3'6\" WIDE, NON-GALV, HONEYCOMB, NON-LABEL",null,null,null,null,null,null,null,null,null,"4'0\" WIDE, NON-GALV, HONEYCOMB, NON-LABEL"]
[null,"Part #","Qty.","Description",null,"List Each","Total List","Wgt. Each","Total Wgt.",null,null,"Part #","Qty.","Description",null,"List Each","Total List","Wgt. Each","Total Wgt."]
[null,19656,null,"3680 F R/LHR   161 C WH",null,1456,{"$f":"IF(C27>=1,C27*F27,\"\")","v":""},125,{"$f":"IF(C27>=1,C27*H27,\"\")","v":""},null,null,19662,null,"4080 F R/LHR   161 C WH",null,1568,{"$f":"IF(M27>=1,M27*P27,\"\")","v":""},141,{"$f":"IF(M27>=1,M27*R27,\"\")","v":""}]
[null,19657,null,"3680 F L/RHR 161 C WH",null,1456,"",125,"",null,null,19663,null,"4080 F L/RHR 161 C WH",null,1568,"",141,""]
[null,19658,null,"3680 F R/LHR   86ED C WH",null,1456,"",125,"",null,null,19664,null,"4080 F R/LHR   86ED C WH",null,1568,"",141,""]
[null,19659,null,"3680 F L/RHR 86ED C WH",null,1456,"",125,"",null,null,19665,null,"4080 F L/RHR 86ED C WH",null,1568,"",141,""]
[null,19660,null,"3680 F R/LHR   RPD C WH",null,1508,"",125,"",null,null,19666,null,"4080 F R/LHR   RPD C WH",null,1620,"",141,""]
[null,19661,null,"3680 F L/RHR RPD C WH",null,1508,"",125,"",null,null,19667,null,"4080 F L/RHR RPD C WH",null,1620,"",141,""]
[]
["1.","Stock uses Steelcraft hinge and lock locations"]
["2.","The nomenclature designation “C” indicates closer reinf."]
["3.","The nominclature designation “WH” indicates 1-1/2 hour Mylar fire label."]
["4.","8'0\" stock doors are not available with WH mylar labels. Labels may be added through Door Mods.",null,null,null,null,null,null,null,null,null,null,null,"TOTAL WEIGHT",null,"TOTAL LIST $",null,"TOTAL NET $"]
[null,null,null,null,null,null,null,null,null,null,"TOTALS (This page)",null,null,{"$f":"Wgt_658_7_80_","v":0},null,{"$f":"List_658_7_80_","v":0},null,{"$f":"(1-N5)*P38","v":0}]
[]
["This is an official order - Please Sign:"]
[null,null,null,null,"Sheet",null,"of",null,null,null,null,"Cat.658-22-Rev. 0223",null,null,"p.131"]
[null,null,null,null,null,null,null,null,null,null,null,null,null,null,null,null,{"$f":"SUM(C9:C32)+SUM(M9:M32)","v":0},{"$f":"SUM(G9:G32)+SUM(Q9:Q32)","v":0},{"$f":"SUM(I9:I32)+SUM(S9:S32)","v":0}]

{"sheet":"Cat.658-23-Rev. 0223","index":12,"n_rows":47,"n_cols":19,"rows_kept":47,"cut":false,"hidden":false,"merged":[[41,4,41,7],[41,13,41,14],[41,15,41,16],[41,17,41,18],[42,13,42,14],[42,15,42,16],[42,17,42,18],[2,14,4,15],[3,4,3,6],[3,7,3,10],[3,11,3,13],[4,4,4,6],[4,7,4,10],[1,0,1,3],[1,4,1,6],[1,7,1,10],[1,11,1,13],[2,0,2,3],[2,4,2,6],[2,7,2,10]]}
[null,null,null,null,"     SOLD TO:",null,null,"    SHIP TO:",null,null,null," CUST P.O. #",null,null,"SHIPPING INSTRUCTIONS",null,null,"        (select on cover page)"]
["L-16 SERIES",null,null,null,{"$f":"'Cat.658 Rev. 0223-cover'!B17","v":0},null,null,{"$f":"'Cat.658 Rev. 0223-cover'!H17","v":0},null,null,null,{"$f":"'Cat.658 Rev. 0223-cover'!$O$5","v":0},null,null,null,null,{"$f":"IF('Cat.658 Rev. 0223-cover'!N9,CHAR(82),\"\")","v":""},"LTL"]
["7' and 8' FLUSH DOORS",null,null,null,{"$f":"'Cat.658 Rev. 0223-cover'!B18","v":0},null,null,{"$f":"'Cat.658 Rev. 0223-cover'!H18","v":0},null,null,null," ACCOUNT. #",null,null,{"$f":"'Cat.658 Rev. 0223-cover'!$B$25","v":0},null,{"$f":"IF('Cat.658 Rev. 0223-cover'!N10,CHAR(82),\"\")","v":""},"POOL TRUCK"]
[null,null,"GALV / POLYSTYRENE",null,{"$f":"'Cat.658 Rev. 0223-cover'!B19","v":0},null,null,{"$f":"'Cat.658 Rev. 0223-cover'!H19","v":0},null,null,null,{"$f":"'Cat.658 Rev. 0223-cover'!$O$4","v":0},null,null,null,null,{"$f":"IF('Cat.658 Rev. 0223-cover'!N11,CHAR(82),\"\")","v":""},"OTHER"]
[null,null,null,null,{"$f":"'Cat.658 Rev. 0223-cover'!$B$20","v":0},null,null,{"$f":"'Cat.658 Rev. 0223-cover'!$H$20","v":0},null,null,null,"DISCOUNT %",null,{"$f":"'Cat.658 Rev. 0223-cover'!$O$6","v":0}]
[]
["3'0\" x 7'0\"  GALVANNEALED, POLYSTYRENE,  WH MYLAR LABEL",null,null,null,null,null,null,null,null,null,"3'0\" x 8'0\" GALVANNEALED, POLYSTYRENE,  *NON-LABEL"]
[null,"Part #","Qty.","Description",null,"List Each","Total List","Wgt. Each","Total Wgt.",null,null,"Part #","Qty.","Description",null,"List Each","Total List","Wgt. Each","Total Wgt."]
[null,19335,null,"3070 F R/LHR   161 C  ",null,1294,{"$f":"IF(C9>=1,C9*F9,\"\")","v":""},117,{"$f":"IF(C9>=1,C9*H9,\"\")","v":""},null,null,19697,null,"3080 F R/LHR   161 C  ",null,1665,{"$f":"IF(M9>=1,M9*P9,\"\")","v":""},123,{"$f":"IF(M9>=1,M9*R9,\"\")","v":""}]
[null,19336,null,"3070 F L/RHR 161 C  ",null,1294,{"$f":"IF(C10>=1,C10*F10,\"\")","v":""},117,{"$f":"IF(C10>=1,C10*H10,\"\")","v":""},null,null,19698,null,"3080 F L/RHR 161 C  ",null,1665,{"$f":"IF(M10>=1,M10*P10,\"\")","v":""},123,{"$f":"IF(M10>=1,M10*R10,\"\")","v":""}]
[null,19668,null,"3070 F R/LHR   RPD C  ",null,1346,{"$f":"IF(C11>=1,C11*F11,\"\")","v":""},118,{"$f":"IF(C11>=1,C11*H11,\"\")","v":""},null,null,19699,null,"3080 F R/LHR   RPD C  ",null,1717,{"$f":"IF(M11>=1,M11*P11,\"\")","v":""},124,{"$f":"IF(M11>=1,M11*R11,\"\")","v":""}]
[null,19669,null,"3070 F L/RHR RPD C  ",null,1346,{"$f":"IF(C12>=1,C12*F12,\"\")","v":""},118,{"$f":"IF(C12>=1,C12*H12,\"\")","v":""},null,null,19780,null,"3080 F L/RHR RPD C  ",null,1717,{"$f":"IF(M12>=1,M12*P12,\"\")","v":""},124,{"$f":"IF(M12>=1,M12*R12,\"\")","v":""}]
[]
["3'6\" x 7'0\" GALVANNEALED, POLYSTYRENE,  WH MYLAR LABEL"]
[null,"Part #","Qty.","Description",null,"List Each","Total List","Wgt. Each","Total Wgt."]
[null,19689,null,"3670 F R/LHR   161 C  ",null,1505,{"$f":"IF(C16>=1,C16*F16,\"\")","v":""},125,{"$f":"IF(C16>=1,C16*H16,\"\")","v":""}]
[null,19690,null,"3670 F L/RHR 161 C  ",null,1505,{"$f":"IF(C17>=1,C17*F17,\"\")","v":""},125,{"$f":"IF(C17>=1,C17*H17,\"\")","v":""}]
[null,19691,null,"3670 F R/LHR   RPD C  ",null,1557,{"$f":"IF(C18>=1,C18*F18,\"\")","v":""},126,{"$f":"IF(C18>=1,C18*H18,\"\")","v":""}]
[null,19692,null,"3670 F L/RHR RPD C  ",null,1557,{"$f":"IF(C19>=1,C19*F19,\"\")","v":""},126,{"$f":"IF(C19>=1,C19*H19,\"\")","v":""}]
[]
["4'0\" x 7'0\" GALVANNEALED, POLYSTYRENE,  WH MYLAR LABEL"]
[null,"Part #","Qty.","Description",null,"List Each","Total List","Wgt. Each","Total Wgt."]
[null,19693,null,"4070 F R/LHR   161 C  ",null,1608,{"$f":"IF(C23>=1,C23*F23,\"\")","v":""},147,{"$f":"IF(C23>=1,C23*H23,\"\")","v":""}]
[null,19694,null,"4070 F R/LHR   161 C  ",null,1608,{"$f":"IF(C24>=1,C24*F24,\"\")","v":""},147,{"$f":"IF(C24>=1,C24*H24,\"\")","v":""}]
[null,19695,null,"4070 F L/RHR RPD C  ",null,1660,{"$f":"IF(C25>=1,C25*F25,\"\")","v":""},148,{"$f":"IF(C25>=1,C25*H25,\"\")","v":""}]
[null,19696,null,"4070 F L/RHR RPD C  ",null,1660,{"$f":"IF(C26>=1,C26*F26,\"\")","v":""},148,{"$f":"IF(C26>=1,C26*H26,\"\")","v":""}]
[]
[]
[]
[]
[]
[]
[]
[]
[]
[]
["1.","Stock uses Steelcraft hinge and lock locations"]
["2.","The nomenclature designation “C” indicates closer reinf."]
["3.","The nominclature designation “WH” indicates 1-1/2 hour Mylar fire label."]
["4.","*8'0\" stock doors are not available with WH mylar labels. Labels may be added through Door Mods."]
[]
["This is an official order - Please Sign:",null,null,null,null,null,null,null,null,null,null,null,null,"TOTAL WEIGHT",null,"TOTAL LIST $",null,"TOTAL NET $"]
[null,null,null,null,"Sheet",null,"of",null,null,null,"TOTALS (This page)",null,null,{"$f":"Wgt_658_7_70_","v":0},null,{"$f":"List_658_7_70_","v":0},null,{"$f":"(1-N5)*P43","v":0}]
[]
[]
[null,null,null,null,null,null,null,null,null,null,null,"Cat.658-23-Rev. 0223",null,null,"p.132"]
[null,null,null,null,null,null,null,null,null,null,null,null,null,null,null,null,{"$f":"SUM(C9:C40)+SUM(M9:M40)","v":0},{"$f":"SUM(G9:G40)+SUM(Q9:Q40)","v":0},{"$f":"SUM(I9:I40)+SUM(S9:S40)","v":0}]

{"sheet":"Cat.658-30-Rev. 0223","index":13,"n_rows":36,"n_cols":19,"rows_kept":36,"cut":false,"hidden":false,"merged":[[31,13,31,14],[31,15,31,16],[31,17,31,18],[30,4,30,7],[30,13,30,14],[30,15,30,16],[30,17,30,18],[2,14,4,15],[3,4,3,6],[3,7,3,10],[3,11,3,13],[4,4,4,6],[4,7,4,10],[3,0,3,3],[1,0,1,3],[1,4,1,6],[1,7,1,10],[1,11,1,13],[2,0,2,3],[2,4,2,6],[2,7,2,10]]}
[null,null,null,null,"     SOLD TO:",null,null,"    SHIP TO:",null,null,null," CUST P.O. #",null,null,"SHIPPING INSTRUCTIONS",null,null,"        (select on cover page)"]
["SZ18 -  SERIES",null,null,null,{"$f":"'Cat.658 Rev. 0223-cover'!B17","v":0},null,null,{"$f":"'Cat.658 Rev. 0223-cover'!H17","v":0},null,null,null,{"$f":"'Cat.658 Rev. 0223-cover'!$O$5","v":0},null,null,null,null,{"$f":"IF('Cat.658 Rev. 0223-cover'!N9,CHAR(82),\"\")","v":""},"LTL"]
["FLUSH DOORS",null,null,null,{"$f":"'Cat.658 Rev. 0223-cover'!B18","v":0},null,null,{"$f":"'Cat.658 Rev. 0223-cover'!H18","v":0},null,null,null," ACCOUNT. #",null,null,{"$f":"'Cat.658 Rev. 0223-cover'!$B$25","v":0},null,{"$f":"IF('Cat.658 Rev. 0223-cover'!N10,CHAR(82),\"\")","v":""},"POOL TRUCK"]
["SQUARE EDGE",null,null,null,{"$f":"'Cat.658 Rev. 0223-cover'!B19","v":0},null,null,{"$f":"'Cat.658 Rev. 0223-cover'!H19","v":0},null,null,null,{"$f":"'Cat.658 Rev. 0223-cover'!$O$4","v":0},null,null,null,null,{"$f":"IF('Cat.658 Rev. 0223-cover'!N11,CHAR(82),\"\")","v":""},"OTHER"]
[null,null,null,null,{"$f":"'Cat.658 Rev. 0223-cover'!$B$20","v":0},null,null,{"$f":"'Cat.658 Rev. 0223-cover'!$H$20","v":0},null,null,null,"DISCOUNT %",null,{"$f":"'Cat.658 Rev. 0223-cover'!$O$6","v":0}]
[]
[]
[null,null,null,null,"SZ18 FLUSH - SQUARE EDGE, NON-Handed, HONEYCOMB CORE 6' 8\" HIGH"]
["GALV, POLYSYRENE (closed top)",null,null,null,null,null,null,null,null,null,"NON-GALV"]
["Qty.","Part #","Description",null,null,"Weight","Unit List","20 Pak Unit List","Ext. List",null,"Qty.","Part #","Description",null,null,"Weight","Unit List","20 Pak Unit List","Ext. List"]
[null,"SZ002","3068 F R/L RPD C WH",null,null,92,673,639.35,{"$f":"((A11-(INT(A11/20)*20))*G11)+((INT(A11/20)*20)*H11)","v":0},null,null,"SZ006","3068 F R/L RPD C WH",null,null,null,590,560.70000000000005,{"$f":"((K11-(INT(K11/20)*20))*Q11)+((INT(K11/20)*20)*R11)","v":0}]
[null,"SZ003","3068 F R/L 86ED C WH",null,null,92,621,589.95000000000005,{"$f":"((A12-(INT(A12/20)*20))*G12)+((INT(A12/20)*20)*H12)","v":0},null,null,"SZ007","3068 F R/L 86ED C WH",null,null,null,538,511.3,{"$f":"((K12-(INT(K12/20)*20))*Q12)+((INT(K12/20)*20)*R12)","v":0}]
[null,"SZ004","3068 F R/L 161 C WH",null,null,92,621,589.95000000000005,0,null,null,"SZ008","3068 F R/L 161 C WH",null,null,null,538,511.3,0]
[]
[null,null,null,null,"SZ18 FLUSH - SQUARE EDGE, NON-Handed, HONEYCOMB CORE 7' 0\" HIGH"]
["GALV, POLYSYRENE (closed top)",null,null,null,null,null,null,null,null,null,"NON-GALV"]
["Qty.","Part #","Description",null,null,"Weight","Unit List","20 Pak Unit List","Ext. List",null,"Qty.","Part #","Description",null,null,"Weight","Unit List","20 Pak Unit List","Ext. List"]
[null,"SZ010","3070 F R/L 61L C WH",null,null,95,659,626.04999999999995,{"$f":"((A18-(INT(A18/20)*20))*G18)+((INT(A18/20)*20)*H18)","v":0},null,null,"SZ015","3070 F R/L RPD C WH",null,null,null,642,609.9,{"$f":"((K18-(INT(K18/20)*20))*Q18)+((INT(K18/20)*20)*R18)","v":0}]
[null,"SZ011","3070 F R/L RPD C WH",null,null,95,711,675.45,{"$f":"((A19-(INT(A19/20)*20))*G19)+((INT(A19/20)*20)*H19)","v":0},null,null,"SZ016","3070 F R/L 86ED C WH",null,null,null,590,560.5,{"$f":"((K19-(INT(K19/20)*20))*Q19)+((INT(K19/20)*20)*R19)","v":0}]
[null,"SZ012","3070 F R/L 86ED C WH",null,null,95,659,626.04999999999995,0,null,null,"SZ017","3070 F R/L 161 C WH",null,null,null,590,560.5,0]
[null,"SZ013","3070 F R/L 161 C WH",null,null,95,659,626.04999999999995,0]
[]
[]
["Standard items INCLUDED with Flush Doors"]
[1,"The nomenclature designation “C” indicates closer reinf."]
[2,"The nominclature designation “WH” indicates 1-1/2 hour Mylar fire label."]
[3,"Stock uses Steelcraft hinge and lock locations."]
[4,"Only the Poly/Galv doors, noted above, have a closed top as standard."]
[]
[]
["This is an official order - Please Sign:",null,null,null,null,null,null,null,null,null,null,null,null,"TOTAL WEIGHT",null,"TOTAL LIST $",null,"TOTAL NET $"]
[null,null,null,null,"Sheet",null,"of",null,null,null,"TOTALS (This page)",null,null,{"$f":"Wgt_658_9_","v":0},null,{"$f":"List_658_9_","v":0},null,{"$f":"(1-N5)*P32","v":0}]
[]
[]
[null,null,null,null,null,null,null,null,null,null,null,"Cat.658-30-Rev. 0223",null,null,"p.132"]
[20,40,{"$f":"B36+20","v":60},80,100,120,140,160,180,200,220,null,null,null,null,null,{"$f":"SUM(A11:A21)+SUM(K11:K20)","v":0},{"$f":"SUM(I10:I21)+SUM(S10:S20)","v":0},{"$f":"SUMPRODUCT(K11:K20,P11:P20)+SUMPRODUCT(A11:A21,F11:F21)","v":0}]